Workbook

Sheet Могилів-Подільський район (узаг
A1: ДАНІ
A2: щодо забезпечення осіб/сімей, які належать до вразливих груп населення або перебувають у складних життєвих обставинах, соціальними послугами
A3: Назва соціальної послуги відповідно до переліку соціальних послуг | B3: Кількість осіб, які звертались щодо отримання соціальних послуг, та осіб/сімей, щодо яких надійшли звернення/ повідомлення про потребу в соціальних послугах у звітному періоді* | C3: Кількість осіб/сімей, щодо яких за результатами оцінки потреб особи/сім’ї зроблено висновок про потребу в наданні соціальних послуг* | D3: Кількість осіб/сімей, які отримували соціальні послуги* | E3: Кількість осіб, які звертались щодо отримання соціальних послуг екстрено (кризово), та осіб/сімей, щодо яких надійшли звернення / повідомлення про потребу в соціальних послугах** | H3: Кількість осіб/сімей, які отримували соціальні послуги екстрено(кризово)**
E4: всього осіб/сімей | F4: з них кількість внутрішньо переміщених осіб/сімей | G4: в них дітей | H4: всього осіб/сімей | I4: з них кількість внутрішньо переміщених осіб/сімей | J4: в них дітей
A5: 1 | B5: 2 | C5: 3 | D5: 4 | E5: 5 | F5: 6 | G5: 7 | H5: 8 | I5: 9 | J5: 10
A6: Базові соціальні послуги
A7: Догляд вдома | B7: ='Бабчинецька сільська територіал'!B7+'Вендичанська селищна територіал'!B7+'Могилів-Подільська міська терит'!B7+'Мурованокуриловецька селищна те'!B7+'Чернівецька селищна територіаль'!B7+'Ямпільська міська територіальна'!B7+'Яришівська сільська територіаль'!B7 -> 253 | C7: ='Бабчинецька сільська територіал'!C7+'Вендичанська селищна територіал'!C7+'Могилів-Подільська міська терит'!C7+'Мурованокуриловецька селищна те'!C7+'Чернівецька селищна територіаль'!C7+'Ямпільська міська територіальна'!C7+'Яришівська сільська територіаль'!C7 -> 253 | D7: ='Бабчинецька сільська територіал'!D7+'Вендичанська селищна територіал'!D7+'Могилів-Подільська міська терит'!D7+'Мурованокуриловецька селищна те'!D7+'Чернівецька селищна територіаль'!D7+'Ямпільська міська територіальна'!D7+'Яришівська сільська територіаль'!D7 -> 2049 | E7: ='Бабчинецька сільська територіал'!E7+'Вендичанська селищна територіал'!E7+'Могилів-Подільська міська терит'!E7+'Мурованокуриловецька селищна те'!E7+'Чернівецька селищна територіаль'!E7+'Ямпільська міська територіальна'!E7+'Яришівська сільська територіаль'!E7 -> 249 | F7: ='Бабчинецька сільська територіал'!F7+'Вендичанська селищна територіал'!F7+'Могилів-Подільська міська терит'!F7+'Мурованокуриловецька селищна те'!F7+'Чернівецька селищна територіаль'!F7+'Ямпільська міська територіальна'!F7+'Яришівська сільська територіаль'!F7 -> 6 | G7: ='Бабчинецька сільська територіал'!G7+'Вендичанська селищна територіал'!G7+'Могилів-Подільська міська терит'!G7+'Мурованокуриловецька селищна те'!G7+'Чернівецька селищна територіаль'!G7+'Ямпільська міська територіальна'!G7+'Яришівська сільська територіаль'!G7 -> 0 | H7: ='Бабчинецька сільська територіал'!H7+'Вендичанська селищна територіал'!H7+'Могилів-Подільська міська терит'!H7+'Мурованокуриловецька селищна те'!H7+'Чернівецька селищна територіаль'!H7+'Ямпільська міська територіальна'!H7+'Яришівська сільська територіаль'!H7 -> 4 | I7: ='Бабчинецька сільська територіал'!I7+'Вендичанська селищна територіал'!I7+'Могилів-Подільська міська терит'!I7+'Мурованокуриловецька селищна те'!I7+'Чернівецька селищна територіаль'!I7+'Ямпільська міська територіальна'!I7+'Яришівська сільська територіаль'!I7 -> 4 | J7: ='Бабчинецька сільська територіал'!J7+'Вендичанська селищна територіал'!J7+'Могилів-Подільська міська терит'!J7+'Мурованокуриловецька селищна те'!J7+'Чернівецька селищна територіаль'!J7+'Ямпільська міська територіальна'!J7+'Яришівська сільська територіаль'!J7 -> 0
A8: Денний догляд | B8: ='Бабчинецька сільська територіал'!B8+'Вендичанська селищна територіал'!B8+'Могилів-Подільська міська терит'!B8+'Мурованокуриловецька селищна те'!B8+'Чернівецька селищна територіаль'!B8+'Ямпільська міська територіальна'!B8+'Яришівська сільська територіаль'!B8 -> 0 | C8: ='Бабчинецька сільська територіал'!C8+'Вендичанська селищна територіал'!C8+'Могилів-Подільська міська терит'!C8+'Мурованокуриловецька селищна те'!C8+'Чернівецька селищна територіаль'!C8+'Ямпільська міська територіальна'!C8+'Яришівська сільська територіаль'!C8 -> 0 | D8: ='Бабчинецька сільська територіал'!D8+'Вендичанська селищна територіал'!D8+'Могилів-Подільська міська терит'!D8+'Мурованокуриловецька селищна те'!D8+'Чернівецька селищна територіаль'!D8+'Ямпільська міська територіальна'!D8+'Яришівська сільська територіаль'!D8 -> 0 | E8: ='Бабчинецька сільська територіал'!E8+'Вендичанська селищна територіал'!E8+'Могилів-Подільська міська терит'!E8+'Мурованокуриловецька селищна те'!E8+'Чернівецька селищна територіаль'!E8+'Ямпільська міська територіальна'!E8+'Яришівська сільська територіаль'!E8 -> 0 | F8: ='Бабчинецька сільська територіал'!F8+'Вендичанська селищна територіал'!F8+'Могилів-Подільська міська терит'!F8+'Мурованокуриловецька селищна те'!F8+'Чернівецька селищна територіаль'!F8+'Ямпільська міська територіальна'!F8+'Яришівська сільська територіаль'!F8 -> 0 | G8: ='Бабчинецька сільська територіал'!G8+'Вендичанська селищна територіал'!G8+'Могилів-Подільська міська терит'!G8+'Мурованокуриловецька селищна те'!G8+'Чернівецька селищна територіаль'!G8+'Ямпільська міська територіальна'!G8+'Яришівська сільська територіаль'!G8 -> 0 | H8: ='Бабчинецька сільська територіал'!H8+'Вендичанська селищна територіал'!H8+'Могилів-Подільська міська терит'!H8+'Мурованокуриловецька селищна те'!H8+'Чернівецька селищна територіаль'!H8+'Ямпільська міська територіальна'!H8+'Яришівська сільська територіаль'!H8 -> 0 | I8: ='Бабчинецька сільська територіал'!I8+'Вендичанська селищна територіал'!I8+'Могилів-Подільська міська терит'!I8+'Мурованокуриловецька селищна те'!I8+'Чернівецька селищна територіаль'!I8+'Ямпільська міська територіальна'!I8+'Яришівська сільська територіаль'!I8 -> 0 | J8: ='Бабчинецька сільська територіал'!J8+'Вендичанська селищна територіал'!J8+'Могилів-Подільська міська терит'!J8+'Мурованокуриловецька селищна те'!J8+'Чернівецька селищна територіаль'!J8+'Ямпільська міська територіальна'!J8+'Яришівська сільська територіаль'!J8 -> 0
A9: Денний догляд дітей з інвалідністю | B9: ='Бабчинецька сільська територіал'!B9+'Вендичанська селищна територіал'!B9+'Могилів-Подільська міська терит'!B9+'Мурованокуриловецька селищна те'!B9+'Чернівецька селищна територіаль'!B9+'Ямпільська міська територіальна'!B9+'Яришівська сільська територіаль'!B9 -> 0 | C9: ='Бабчинецька сільська територіал'!C9+'Вендичанська селищна територіал'!C9+'Могилів-Подільська міська терит'!C9+'Мурованокуриловецька селищна те'!C9+'Чернівецька селищна територіаль'!C9+'Ямпільська міська територіальна'!C9+'Яришівська сільська територіаль'!C9 -> 0 | D9: ='Бабчинецька сільська територіал'!D9+'Вендичанська селищна територіал'!D9+'Могилів-Подільська міська терит'!D9+'Мурованокуриловецька селищна те'!D9+'Чернівецька селищна територіаль'!D9+'Ямпільська міська територіальна'!D9+'Яришівська сільська територіаль'!D9 -> 0 | E9: ='Бабчинецька сільська територіал'!E9+'Вендичанська селищна територіал'!E9+'Могилів-Подільська міська терит'!E9+'Мурованокуриловецька селищна те'!E9+'Чернівецька селищна територіаль'!E9+'Ямпільська міська територіальна'!E9+'Яришівська сільська територіаль'!E9 -> 0 | F9: ='Бабчинецька сільська територіал'!F9+'Вендичанська селищна територіал'!F9+'Могилів-Подільська міська терит'!F9+'Мурованокуриловецька селищна те'!F9+'Чернівецька селищна територіаль'!F9+'Ямпільська міська територіальна'!F9+'Яришівська сільська територіаль'!F9 -> 0 | G9: ='Бабчинецька сільська територіал'!G9+'Вендичанська селищна територіал'!G9+'Могилів-Подільська міська терит'!G9+'Мурованокуриловецька селищна те'!G9+'Чернівецька селищна територіаль'!G9+'Ямпільська міська територіальна'!G9+'Яришівська сільська територіаль'!G9 -> 0 | H9: ='Бабчинецька сільська територіал'!H9+'Вендичанська селищна територіал'!H9+'Могилів-Подільська міська терит'!H9+'Мурованокуриловецька селищна те'!H9+'Чернівецька селищна територіаль'!H9+'Ямпільська міська територіальна'!H9+'Яришівська сільська територіаль'!H9 -> 0 | I9: ='Бабчинецька сільська територіал'!I9+'Вендичанська селищна територіал'!I9+'Могилів-Подільська міська терит'!I9+'Мурованокуриловецька селищна те'!I9+'Чернівецька селищна територіаль'!I9+'Ямпільська міська територіальна'!I9+'Яришівська сільська територіаль'!I9 -> 0 | J9: ='Бабчинецька сільська територіал'!J9+'Вендичанська селищна територіал'!J9+'Могилів-Подільська міська терит'!J9+'Мурованокуриловецька селищна те'!J9+'Чернівецька селищна територіаль'!J9+'Ямпільська міська територіальна'!J9+'Яришівська сільська територіаль'!J9 -> 0
A10: Підтримане проживання осіб похилого віку та осіб з інвалідністю | B10: ='Бабчинецька сільська територіал'!B10+'Вендичанська селищна територіал'!B10+'Могилів-Подільська міська терит'!B10+'Мурованокуриловецька селищна те'!B10+'Чернівецька селищна територіаль'!B10+'Ямпільська міська територіальна'!B10+'Яришівська сільська територіаль'!B10 -> 0 | C10: ='Бабчинецька сільська територіал'!C10+'Вендичанська селищна територіал'!C10+'Могилів-Подільська міська терит'!C10+'Мурованокуриловецька селищна те'!C10+'Чернівецька селищна територіаль'!C10+'Ямпільська міська територіальна'!C10+'Яришівська сільська територіаль'!C10 -> 0 | D10: ='Бабчинецька сільська територіал'!D10+'Вендичанська селищна територіал'!D10+'Могилів-Подільська міська терит'!D10+'Мурованокуриловецька селищна те'!D10+'Чернівецька селищна територіаль'!D10+'Ямпільська міська територіальна'!D10+'Яришівська сільська територіаль'!D10 -> 0 | E10: ='Бабчинецька сільська територіал'!E10+'Вендичанська селищна територіал'!E10+'Могилів-Подільська міська терит'!E10+'Мурованокуриловецька селищна те'!E10+'Чернівецька селищна територіаль'!E10+'Ямпільська міська територіальна'!E10+'Яришівська сільська територіаль'!E10 -> 0 | F10: ='Бабчинецька сільська територіал'!F10+'Вендичанська селищна територіал'!F10+'Могилів-Подільська міська терит'!F10+'Мурованокуриловецька селищна те'!F10+'Чернівецька селищна територіаль'!F10+'Ямпільська міська територіальна'!F10+'Яришівська сільська територіаль'!F10 -> 0 | G10: ='Бабчинецька сільська територіал'!G10+'Вендичанська селищна територіал'!G10+'Могилів-Подільська міська терит'!G10+'Мурованокуриловецька селищна те'!G10+'Чернівецька селищна територіаль'!G10+'Ямпільська міська територіальна'!G10+'Яришівська сільська територіаль'!G10 -> 0 | H10: ='Бабчинецька сільська територіал'!H10+'Вендичанська селищна територіал'!H10+'Могилів-Подільська міська терит'!H10+'Мурованокуриловецька селищна те'!H10+'Чернівецька селищна територіаль'!H10+'Ямпільська міська територіальна'!H10+'Яришівська сільська територіаль'!H10 -> 0 | I10: ='Бабчинецька сільська територіал'!I10+'Вендичанська селищна територіал'!I10+'Могилів-Подільська міська терит'!I10+'Мурованокуриловецька селищна те'!I10+'Чернівецька селищна територіаль'!I10+'Ямпільська міська територіальна'!I10+'Яришівська сільська територіаль'!I10 -> 0 | J10: ='Бабчинецька сільська територіал'!J10+'Вендичанська селищна територіал'!J10+'Могилів-Подільська міська терит'!J10+'Мурованокуриловецька селищна те'!J10+'Чернівецька селищна територіаль'!J10+'Ямпільська міська територіальна'!J10+'Яришівська сільська територіаль'!J10 -> 0
A11: Підтримане проживання бездомних осіб | B11: ='Бабчинецька сільська територіал'!B11+'Вендичанська селищна територіал'!B11+'Могилів-Подільська міська терит'!B11+'Мурованокуриловецька селищна те'!B11+'Чернівецька селищна територіаль'!B11+'Ямпільська міська територіальна'!B11+'Яришівська сільська територіаль'!B11 -> 0 | C11: ='Бабчинецька сільська територіал'!C11+'Вендичанська селищна територіал'!C11+'Могилів-Подільська міська терит'!C11+'Мурованокуриловецька селищна те'!C11+'Чернівецька селищна територіаль'!C11+'Ямпільська міська територіальна'!C11+'Яришівська сільська територіаль'!C11 -> 0 | D11: ='Бабчинецька сільська територіал'!D11+'Вендичанська селищна територіал'!D11+'Могилів-Подільська міська терит'!D11+'Мурованокуриловецька селищна те'!D11+'Чернівецька селищна територіаль'!D11+'Ямпільська міська територіальна'!D11+'Яришівська сільська територіаль'!D11 -> 0 | E11: ='Бабчинецька сільська територіал'!E11+'Вендичанська селищна територіал'!E11+'Могилів-Подільська міська терит'!E11+'Мурованокуриловецька селищна те'!E11+'Чернівецька селищна територіаль'!E11+'Ямпільська міська територіальна'!E11+'Яришівська сільська територіаль'!E11 -> 0 | F11: ='Бабчинецька сільська територіал'!F11+'Вендичанська селищна територіал'!F11+'Могилів-Подільська міська терит'!F11+'Мурованокуриловецька селищна те'!F11+'Чернівецька селищна територіаль'!F11+'Ямпільська міська територіальна'!F11+'Яришівська сільська територіаль'!F11 -> 0 | G11: ='Бабчинецька сільська територіал'!G11+'Вендичанська селищна територіал'!G11+'Могилів-Подільська міська терит'!G11+'Мурованокуриловецька селищна те'!G11+'Чернівецька селищна територіаль'!G11+'Ямпільська міська територіальна'!G11+'Яришівська сільська територіаль'!G11 -> 0 | H11: ='Бабчинецька сільська територіал'!H11+'Вендичанська селищна територіал'!H11+'Могилів-Подільська міська терит'!H11+'Мурованокуриловецька селищна те'!H11+'Чернівецька селищна територіаль'!H11+'Ямпільська міська територіальна'!H11+'Яришівська сільська територіаль'!H11 -> 0 | I11: ='Бабчинецька сільська територіал'!I11+'Вендичанська селищна територіал'!I11+'Могилів-Подільська міська терит'!I11+'Мурованокуриловецька селищна те'!I11+'Чернівецька селищна територіаль'!I11+'Ямпільська міська територіальна'!I11+'Яришівська сільська територіаль'!I11 -> 0 | J11: ='Бабчинецька сільська територіал'!J11+'Вендичанська селищна територіал'!J11+'Могилів-Подільська міська терит'!J11+'Мурованокуриловецька селищна те'!J11+'Чернівецька селищна територіаль'!J11+'Ямпільська міська територіальна'!J11+'Яришівська сільська територіаль'!J11 -> 0
A12: Транзитне підтримане проживання/ учбова соціальна квартира (будинок) | B12: ='Бабчинецька сільська територіал'!B12+'Вендичанська селищна територіал'!B12+'Могилів-Подільська міська терит'!B12+'Мурованокуриловецька селищна те'!B12+'Чернівецька селищна територіаль'!B12+'Ямпільська міська територіальна'!B12+'Яришівська сільська територіаль'!B12 -> 0 | C12: ='Бабчинецька сільська територіал'!C12+'Вендичанська селищна територіал'!C12+'Могилів-Подільська міська терит'!C12+'Мурованокуриловецька селищна те'!C12+'Чернівецька селищна територіаль'!C12+'Ямпільська міська територіальна'!C12+'Яришівська сільська територіаль'!C12 -> 0 | D12: ='Бабчинецька сільська територіал'!D12+'Вендичанська селищна територіал'!D12+'Могилів-Подільська міська терит'!D12+'Мурованокуриловецька селищна те'!D12+'Чернівецька селищна територіаль'!D12+'Ямпільська міська територіальна'!D12+'Яришівська сільська територіаль'!D12 -> 0 | E12: × | F12: × | G12: × | H12: × | I12: × | J12: ×
A13: Соціальна адаптація | B13: ='Бабчинецька сільська територіал'!B13+'Вендичанська селищна територіал'!B13+'Могилів-Подільська міська терит'!B13+'Мурованокуриловецька селищна те'!B13+'Чернівецька селищна територіаль'!B13+'Ямпільська міська територіальна'!B13+'Яришівська сільська територіаль'!B13 -> 2 | C13: ='Бабчинецька сільська територіал'!C13+'Вендичанська селищна територіал'!C13+'Могилів-Подільська міська терит'!C13+'Мурованокуриловецька селищна те'!C13+'Чернівецька селищна територіаль'!C13+'Ямпільська міська територіальна'!C13+'Яришівська сільська територіаль'!C13 -> 2 | D13: ='Бабчинецька сільська територіал'!D13+'Вендичанська селищна територіал'!D13+'Могилів-Подільська міська терит'!D13+'Мурованокуриловецька селищна те'!D13+'Чернівецька селищна територіаль'!D13+'Ямпільська міська територіальна'!D13+'Яришівська сільська територіаль'!D13 -> 2 | E13: × | F13: × | G13: × | H13: × | I13: × | J13: ×
A14: Соціальна інтеграція та реінтеграція | B14: ='Бабчинецька сільська територіал'!B14+'Вендичанська селищна територіал'!B14+'Могилів-Подільська міська терит'!B14+'Мурованокуриловецька селищна те'!B14+'Чернівецька селищна територіаль'!B14+'Ямпільська міська територіальна'!B14+'Яришівська сільська територіаль'!B14 -> 0 | C14: ='Бабчинецька сільська територіал'!C14+'Вендичанська селищна територіал'!C14+'Могилів-Подільська міська терит'!C14+'Мурованокуриловецька селищна те'!C14+'Чернівецька селищна територіаль'!C14+'Ямпільська міська територіальна'!C14+'Яришівська сільська територіаль'!C14 -> 0 | D14: ='Бабчинецька сільська територіал'!D14+'Вендичанська селищна територіал'!D14+'Могилів-Подільська міська терит'!D14+'Мурованокуриловецька селищна те'!D14+'Чернівецька селищна територіаль'!D14+'Ямпільська міська територіальна'!D14+'Яришівська сільська територіаль'!D14 -> 0 | E14: × | F14: × | G14: × | H14: × | I14: × | J14: ×
A15: Надання притулку | B15: ='Бабчинецька сільська територіал'!B15+'Вендичанська селищна територіал'!B15+'Могилів-Подільська міська терит'!B15+'Мурованокуриловецька селищна те'!B15+'Чернівецька селищна територіаль'!B15+'Ямпільська міська територіальна'!B15+'Яришівська сільська територіаль'!B15 -> 1 | C15: ='Бабчинецька сільська територіал'!C15+'Вендичанська селищна територіал'!C15+'Могилів-Подільська міська терит'!C15+'Мурованокуриловецька селищна те'!C15+'Чернівецька селищна територіаль'!C15+'Ямпільська міська територіальна'!C15+'Яришівська сільська територіаль'!C15 -> 1 | D15: ='Бабчинецька сільська територіал'!D15+'Вендичанська селищна територіал'!D15+'Могилів-Подільська міська терит'!D15+'Мурованокуриловецька селищна те'!D15+'Чернівецька селищна територіаль'!D15+'Ямпільська міська територіальна'!D15+'Яришівська сільська територіаль'!D15 -> 1 | E15: ='Бабчинецька сільська територіал'!E15+'Вендичанська селищна територіал'!E15+'Могилів-Подільська міська терит'!E15+'Мурованокуриловецька селищна те'!E15+'Чернівецька селищна територіаль'!E15+'Ямпільська міська територіальна'!E15+'Яришівська сільська територіаль'!E15 -> 0 | F15: ='Бабчинецька сільська територіал'!F15+'Вендичанська селищна територіал'!F15+'Могилів-Подільська міська терит'!F15+'Мурованокуриловецька селищна те'!F15+'Чернівецька селищна територіаль'!F15+'Ямпільська міська територіальна'!F15+'Яришівська сільська територіаль'!F15 -> 0 | G15: ='Бабчинецька сільська територіал'!G15+'Вендичанська селищна територіал'!G15+'Могилів-Подільська міська терит'!G15+'Мурованокуриловецька селищна те'!G15+'Чернівецька селищна територіаль'!G15+'Ямпільська міська територіальна'!G15+'Яришівська сільська територіаль'!G15 -> 0 | H15: ='Бабчинецька сільська територіал'!H15+'Вендичанська селищна територіал'!H15+'Могилів-Подільська міська терит'!H15+'Мурованокуриловецька селищна те'!H15+'Чернівецька селищна територіаль'!H15+'Ямпільська міська територіальна'!H15+'Яришівська сільська територіаль'!H15 -> 0 | I15: ='Бабчинецька сільська територіал'!I15+'Вендичанська селищна територіал'!I15+'Могилів-Подільська міська терит'!I15+'Мурованокуриловецька селищна те'!I15+'Чернівецька селищна територіаль'!I15+'Ямпільська міська територіальна'!I15+'Яришівська сільська територіаль'!I15 -> 0 | J15: ='Бабчинецька сільська територіал'!J15+'Вендичанська селищна територіал'!J15+'Могилів-Подільська міська терит'!J15+'Мурованокуриловецька селищна те'!J15+'Чернівецька селищна територіаль'!J15+'Ямпільська міська територіальна'!J15+'Яришівська сільська територіаль'!J15 -> 0
A16: Екстрене (кризове) втручання | B16: ='Бабчинецька сільська територіал'!B16+'Вендичанська селищна територіал'!B16+'Могилів-Подільська міська терит'!B16+'Мурованокуриловецька селищна те'!B16+'Чернівецька селищна територіаль'!B16+'Ямпільська міська територіальна'!B16+'Яришівська сільська територіаль'!B16 -> 0 | C16: ='Бабчинецька сільська територіал'!C16+'Вендичанська селищна територіал'!C16+'Могилів-Подільська міська терит'!C16+'Мурованокуриловецька селищна те'!C16+'Чернівецька селищна територіаль'!C16+'Ямпільська міська територіальна'!C16+'Яришівська сільська територіаль'!C16 -> 0 | D16: ='Бабчинецька сільська територіал'!D16+'Вендичанська селищна територіал'!D16+'Могилів-Подільська міська терит'!D16+'Мурованокуриловецька селищна те'!D16+'Чернівецька селищна територіаль'!D16+'Ямпільська міська територіальна'!D16+'Яришівська сільська територіаль'!D16 -> 0 | E16: ='Бабчинецька сільська територіал'!E16+'Вендичанська селищна територіал'!E16+'Могилів-Подільська міська терит'!E16+'Мурованокуриловецька селищна те'!E16+'Чернівецька селищна територіаль'!E16+'Ямпільська міська територіальна'!E16+'Яришівська сільська територіаль'!E16 -> 0 | F16: ='Бабчинецька сільська територіал'!F16+'Вендичанська селищна територіал'!F16+'Могилів-Подільська міська терит'!F16+'Мурованокуриловецька селищна те'!F16+'Чернівецька селищна територіаль'!F16+'Ямпільська міська територіальна'!F16+'Яришівська сільська територіаль'!F16 -> 0 | G16: ='Бабчинецька сільська територіал'!G16+'Вендичанська селищна територіал'!G16+'Могилів-Подільська міська терит'!G16+'Мурованокуриловецька селищна те'!G16+'Чернівецька селищна територіаль'!G16+'Ямпільська міська територіальна'!G16+'Яришівська сільська територіаль'!G16 -> 0 | H16: ='Бабчинецька сільська територіал'!H16+'Вендичанська селищна територіал'!H16+'Могилів-Подільська міська терит'!H16+'Мурованокуриловецька селищна те'!H16+'Чернівецька селищна територіаль'!H16+'Ямпільська міська територіальна'!H16+'Яришівська сільська територіаль'!H16 -> 0 | I16: ='Бабчинецька сільська територіал'!I16+'Вендичанська селищна територіал'!I16+'Могилів-Подільська міська терит'!I16+'Мурованокуриловецька селищна те'!I16+'Чернівецька селищна територіаль'!I16+'Ямпільська міська територіальна'!I16+'Яришівська сільська територіаль'!I16 -> 0 | J16: ='Бабчинецька сільська територіал'!J16+'Вендичанська селищна територіал'!J16+'Могилів-Подільська міська терит'!J16+'Мурованокуриловецька селищна те'!J16+'Чернівецька селищна територіаль'!J16+'Ямпільська міська територіальна'!J16+'Яришівська сільська територіаль'!J16 -> 0
A17: Консультування | B17: ='Бабчинецька сільська територіал'!B17+'Вендичанська селищна територіал'!B17+'Могилів-Подільська міська терит'!B17+'Мурованокуриловецька селищна те'!B17+'Чернівецька селищна територіаль'!B17+'Ямпільська міська територіальна'!B17+'Яришівська сільська територіаль'!B17 -> 1712 | C17: ='Бабчинецька сільська територіал'!C17+'Вендичанська селищна територіал'!C17+'Могилів-Подільська міська терит'!C17+'Мурованокуриловецька селищна те'!C17+'Чернівецька селищна територіаль'!C17+'Ямпільська міська територіальна'!C17+'Яришівська сільська територіаль'!C17 -> 1712 | D17: ='Бабчинецька сільська територіал'!D17+'Вендичанська селищна територіал'!D17+'Могилів-Подільська міська терит'!D17+'Мурованокуриловецька селищна те'!D17+'Чернівецька селищна територіаль'!D17+'Ямпільська міська територіальна'!D17+'Яришівська сільська територіаль'!D17 -> 2051 | E17: ='Бабчинецька сільська територіал'!E17+'Вендичанська селищна територіал'!E17+'Могилів-Подільська міська терит'!E17+'Мурованокуриловецька селищна те'!E17+'Чернівецька селищна територіаль'!E17+'Ямпільська міська територіальна'!E17+'Яришівська сільська територіаль'!E17 -> 1653 | F17: ='Бабчинецька сільська територіал'!F17+'Вендичанська селищна територіал'!F17+'Могилів-Подільська міська терит'!F17+'Мурованокуриловецька селищна те'!F17+'Чернівецька селищна територіаль'!F17+'Ямпільська міська територіальна'!F17+'Яришівська сільська територіаль'!F17 -> 206 | G17: ='Бабчинецька сільська територіал'!G17+'Вендичанська селищна територіал'!G17+'Могилів-Подільська міська терит'!G17+'Мурованокуриловецька селищна те'!G17+'Чернівецька селищна територіаль'!G17+'Ямпільська міська територіальна'!G17+'Яришівська сільська територіаль'!G17 -> 475 | H17: ='Бабчинецька сільська територіал'!H17+'Вендичанська селищна територіал'!H17+'Могилів-Подільська міська терит'!H17+'Мурованокуриловецька селищна те'!H17+'Чернівецька селищна територіаль'!H17+'Ямпільська міська територіальна'!H17+'Яришівська сільська територіаль'!H17 -> 0 | I17: ='Бабчинецька сільська територіал'!I17+'Вендичанська селищна територіал'!I17+'Могилів-Подільська міська терит'!I17+'Мурованокуриловецька селищна те'!I17+'Чернівецька селищна територіаль'!I17+'Ямпільська міська територіальна'!I17+'Яришівська сільська територіаль'!I17 -> 0 | J17: ='Бабчинецька сільська територіал'!J17+'Вендичанська селищна територіал'!J17+'Могилів-Подільська міська терит'!J17+'Мурованокуриловецька селищна те'!J17+'Чернівецька селищна територіаль'!J17+'Ямпільська міська територіальна'!J17+'Яришівська сільська територіаль'!J17 -> 0
A18: Соціальний супровід сімей/осіб, які перебувають у складних життєвих обставинах | B18: ='Бабчинецька сільська територіал'!B18+'Вендичанська селищна територіал'!B18+'Могилів-Подільська міська терит'!B18+'Мурованокуриловецька селищна те'!B18+'Чернівецька селищна територіаль'!B18+'Ямпільська міська територіальна'!B18+'Яришівська сільська територіаль'!B18 -> 103 | C18: ='Бабчинецька сільська територіал'!C18+'Вендичанська селищна територіал'!C18+'Могилів-Подільська міська терит'!C18+'Мурованокуриловецька селищна те'!C18+'Чернівецька селищна територіаль'!C18+'Ямпільська міська територіальна'!C18+'Яришівська сільська територіаль'!C18 -> 103 | D18: ='Бабчинецька сільська територіал'!D18+'Вендичанська селищна територіал'!D18+'Могилів-Подільська міська терит'!D18+'Мурованокуриловецька селищна те'!D18+'Чернівецька селищна територіаль'!D18+'Ямпільська міська територіальна'!D18+'Яришівська сільська територіаль'!D18 -> 126 | E18: ='Бабчинецька сільська територіал'!E18+'Вендичанська селищна територіал'!E18+'Могилів-Подільська міська терит'!E18+'Мурованокуриловецька селищна те'!E18+'Чернівецька селищна територіаль'!E18+'Ямпільська міська територіальна'!E18+'Яришівська сільська територіаль'!E18 -> 95 | F18: ='Бабчинецька сільська територіал'!F18+'Вендичанська селищна територіал'!F18+'Могилів-Подільська міська терит'!F18+'Мурованокуриловецька селищна те'!F18+'Чернівецька селищна територіаль'!F18+'Ямпільська міська територіальна'!F18+'Яришівська сільська територіаль'!F18 -> 3 | G18: ='Бабчинецька сільська територіал'!G18+'Вендичанська селищна територіал'!G18+'Могилів-Подільська міська терит'!G18+'Мурованокуриловецька селищна те'!G18+'Чернівецька селищна територіаль'!G18+'Ямпільська міська територіальна'!G18+'Яришівська сільська територіаль'!G18 -> 29 | H18: ='Бабчинецька сільська територіал'!H18+'Вендичанська селищна територіал'!H18+'Могилів-Подільська міська терит'!H18+'Мурованокуриловецька селищна те'!H18+'Чернівецька селищна територіаль'!H18+'Ямпільська міська територіальна'!H18+'Яришівська сільська територіаль'!H18 -> 41 | I18: ='Бабчинецька сільська територіал'!I18+'Вендичанська селищна територіал'!I18+'Могилів-Подільська міська терит'!I18+'Мурованокуриловецька селищна те'!I18+'Чернівецька селищна територіаль'!I18+'Ямпільська міська територіальна'!I18+'Яришівська сільська територіаль'!I18 -> 0 | J18: ='Бабчинецька сільська територіал'!J18+'Вендичанська селищна територіал'!J18+'Могилів-Подільська міська терит'!J18+'Мурованокуриловецька селищна те'!J18+'Чернівецька селищна територіаль'!J18+'Ямпільська міська територіальна'!J18+'Яришівська сільська територіаль'!J18 -> 0
A19: Соціальний супровід сімей, у яких виховуються діти-сироти і діти, позбавлені батьківського піклування | B19: ='Бабчинецька сільська територіал'!B19+'Вендичанська селищна територіал'!B19+'Могилів-Подільська міська терит'!B19+'Мурованокуриловецька селищна те'!B19+'Чернівецька селищна територіаль'!B19+'Ямпільська міська територіальна'!B19+'Яришівська сільська територіаль'!B19 -> 81 | C19: ='Бабчинецька сільська територіал'!C19+'Вендичанська селищна територіал'!C19+'Могилів-Подільська міська терит'!C19+'Мурованокуриловецька селищна те'!C19+'Чернівецька селищна територіаль'!C19+'Ямпільська міська територіальна'!C19+'Яришівська сільська територіаль'!C19 -> 81 | D19: ='Бабчинецька сільська територіал'!D19+'Вендичанська селищна територіал'!D19+'Могилів-Подільська міська терит'!D19+'Мурованокуриловецька селищна те'!D19+'Чернівецька селищна територіаль'!D19+'Ямпільська міська територіальна'!D19+'Яришівська сільська територіаль'!D19 -> 94 | E19: ='Бабчинецька сільська територіал'!E19+'Вендичанська селищна територіал'!E19+'Могилів-Подільська міська терит'!E19+'Мурованокуриловецька селищна те'!E19+'Чернівецька селищна територіаль'!E19+'Ямпільська міська територіальна'!E19+'Яришівська сільська територіаль'!E19 -> 81 | F19: ='Бабчинецька сільська територіал'!F19+'Вендичанська селищна територіал'!F19+'Могилів-Подільська міська терит'!F19+'Мурованокуриловецька селищна те'!F19+'Чернівецька селищна територіаль'!F19+'Ямпільська міська територіальна'!F19+'Яришівська сільська територіаль'!F19 -> 2 | G19: ='Бабчинецька сільська територіал'!G19+'Вендичанська селищна територіал'!G19+'Могилів-Подільська міська терит'!G19+'Мурованокуриловецька селищна те'!G19+'Чернівецька селищна територіаль'!G19+'Ямпільська міська територіальна'!G19+'Яришівська сільська територіаль'!G19 -> 87 | H19: ='Бабчинецька сільська територіал'!H19+'Вендичанська селищна територіал'!H19+'Могилів-Подільська міська терит'!H19+'Мурованокуриловецька селищна те'!H19+'Чернівецька селищна територіаль'!H19+'Ямпільська міська територіальна'!H19+'Яришівська сільська територіаль'!H19 -> 0 | I19: ='Бабчинецька сільська територіал'!I19+'Вендичанська селищна територіал'!I19+'Могилів-Подільська міська терит'!I19+'Мурованокуриловецька селищна те'!I19+'Чернівецька селищна територіаль'!I19+'Ямпільська міська територіальна'!I19+'Яришівська сільська територіаль'!I19 -> 0 | J19: ='Бабчинецька сільська територіал'!J19+'Вендичанська селищна територіал'!J19+'Могилів-Подільська міська терит'!J19+'Мурованокуриловецька селищна те'!J19+'Чернівецька селищна територіаль'!J19+'Ямпільська міська територіальна'!J19+'Яришівська сільська територіаль'!J19 -> 0
A20: Соціальний супровід при працевлаштуванні та на робочому місці | B20: ='Бабчинецька сільська територіал'!B20+'Вендичанська селищна територіал'!B20+'Могилів-Подільська міська терит'!B20+'Мурованокуриловецька селищна те'!B20+'Чернівецька селищна територіаль'!B20+'Ямпільська міська територіальна'!B20+'Яришівська сільська територіаль'!B20 -> 0 | C20: ='Бабчинецька сільська територіал'!C20+'Вендичанська селищна територіал'!C20+'Могилів-Подільська міська терит'!C20+'Мурованокуриловецька селищна те'!C20+'Чернівецька селищна територіаль'!C20+'Ямпільська міська територіальна'!C20+'Яришівська сільська територіаль'!C20 -> 0 | D20: ='Бабчинецька сільська територіал'!D20+'Вендичанська селищна територіал'!D20+'Могилів-Подільська міська терит'!D20+'Мурованокуриловецька селищна те'!D20+'Чернівецька селищна територіаль'!D20+'Ямпільська міська територіальна'!D20+'Яришівська сільська територіаль'!D20 -> 0 | E20: × | F20: × | G20: × | H20: × | I20: × | J20: ×
A21: Представництво інтересів | B21: ='Бабчинецька сільська територіал'!B21+'Вендичанська селищна територіал'!B21+'Могилів-Подільська міська терит'!B21+'Мурованокуриловецька селищна те'!B21+'Чернівецька селищна територіаль'!B21+'Ямпільська міська територіальна'!B21+'Яришівська сільська територіаль'!B21 -> 0 | C21: ='Бабчинецька сільська територіал'!C21+'Вендичанська селищна територіал'!C21+'Могилів-Подільська міська терит'!C21+'Мурованокуриловецька селищна те'!C21+'Чернівецька селищна територіаль'!C21+'Ямпільська міська територіальна'!C21+'Яришівська сільська територіаль'!C21 -> 0 | D21: ='Бабчинецька сільська територіал'!D21+'Вендичанська селищна територіал'!D21+'Могилів-Подільська міська терит'!D21+'Мурованокуриловецька селищна те'!D21+'Чернівецька селищна територіаль'!D21+'Ямпільська міська територіальна'!D21+'Яришівська сільська територіаль'!D21 -> 0 | E21: ='Бабчинецька сільська територіал'!E21+'Вендичанська селищна територіал'!E21+'Могилів-Подільська міська терит'!E21+'Мурованокуриловецька селищна те'!E21+'Чернівецька селищна територіаль'!E21+'Ямпільська міська територіальна'!E21+'Яришівська сільська територіаль'!E21 -> 0 | F21: ='Бабчинецька сільська територіал'!F21+'Вендичанська селищна територіал'!F21+'Могилів-Подільська міська терит'!F21+'Мурованокуриловецька селищна те'!F21+'Чернівецька селищна територіаль'!F21+'Ямпільська міська територіальна'!F21+'Яришівська сільська територіаль'!F21 -> 0 | G21: ='Бабчинецька сільська територіал'!G21+'Вендичанська селищна територіал'!G21+'Могилів-Подільська міська терит'!G21+'Мурованокуриловецька селищна те'!G21+'Чернівецька селищна територіаль'!G21+'Ямпільська міська територіальна'!G21+'Яришівська сільська територіаль'!G21 -> 0 | H21: ='Бабчинецька сільська територіал'!H21+'Вендичанська селищна територіал'!H21+'Могилів-Подільська міська терит'!H21+'Мурованокуриловецька селищна те'!H21+'Чернівецька селищна територіаль'!H21+'Ямпільська міська територіальна'!H21+'Яришівська сільська територіаль'!H21 -> 0 | I21: ='Бабчинецька сільська територіал'!I21+'Вендичанська селищна територіал'!I21+'Могилів-Подільська міська терит'!I21+'Мурованокуриловецька селищна те'!I21+'Чернівецька селищна територіаль'!I21+'Ямпільська міська територіальна'!I21+'Яришівська сільська територіаль'!I21 -> 0 | J21: ='Бабчинецька сільська територіал'!J21+'Вендичанська селищна територіал'!J21+'Могилів-Подільська міська терит'!J21+'Мурованокуриловецька селищна те'!J21+'Чернівецька селищна територіаль'!J21+'Ямпільська міська територіальна'!J21+'Яришівська сільська територіаль'!J21 -> 0
A22: Посередництво | B22: ='Бабчинецька сільська територіал'!B22+'Вендичанська селищна територіал'!B22+'Могилів-Подільська міська терит'!B22+'Мурованокуриловецька селищна те'!B22+'Чернівецька селищна територіаль'!B22+'Ямпільська міська територіальна'!B22+'Яришівська сільська територіаль'!B22 -> 0 | C22: ='Бабчинецька сільська територіал'!C22+'Вендичанська селищна територіал'!C22+'Могилів-Подільська міська терит'!C22+'Мурованокуриловецька селищна те'!C22+'Чернівецька селищна територіаль'!C22+'Ямпільська міська територіальна'!C22+'Яришівська сільська територіаль'!C22 -> 0 | D22: ='Бабчинецька сільська територіал'!D22+'Вендичанська селищна територіал'!D22+'Могилів-Подільська міська терит'!D22+'Мурованокуриловецька селищна те'!D22+'Чернівецька селищна територіаль'!D22+'Ямпільська міська територіальна'!D22+'Яришівська сільська територіаль'!D22 -> 0 | E22: × | F22: × | G22: × | H22: × | I22: × | J22: ×
A23: Соціальна профілактика | B23: ='Бабчинецька сільська територіал'!B23+'Вендичанська селищна територіал'!B23+'Могилів-Подільська міська терит'!B23+'Мурованокуриловецька селищна те'!B23+'Чернівецька селищна територіаль'!B23+'Ямпільська міська територіальна'!B23+'Яришівська сільська територіаль'!B23 -> 6 | C23: ='Бабчинецька сільська територіал'!C23+'Вендичанська селищна територіал'!C23+'Могилів-Подільська міська терит'!C23+'Мурованокуриловецька селищна те'!C23+'Чернівецька селищна територіаль'!C23+'Ямпільська міська територіальна'!C23+'Яришівська сільська територіаль'!C23 -> 6 | D23: ='Бабчинецька сільська територіал'!D23+'Вендичанська селищна територіал'!D23+'Могилів-Подільська міська терит'!D23+'Мурованокуриловецька селищна те'!D23+'Чернівецька селищна територіаль'!D23+'Ямпільська міська територіальна'!D23+'Яришівська сільська територіаль'!D23 -> 6 | E23: × | F23: × | G23: × | H23: × | I23: × | J23: ×
A24: Натуральна допомога | B24: ='Бабчинецька сільська територіал'!B24+'Вендичанська селищна територіал'!B24+'Могилів-Подільська міська терит'!B24+'Мурованокуриловецька селищна те'!B24+'Чернівецька селищна територіаль'!B24+'Ямпільська міська територіальна'!B24+'Яришівська сільська територіаль'!B24 -> 587 | C24: ='Бабчинецька сільська територіал'!C24+'Вендичанська селищна територіал'!C24+'Могилів-Подільська міська терит'!C24+'Мурованокуриловецька селищна те'!C24+'Чернівецька селищна територіаль'!C24+'Ямпільська міська територіальна'!C24+'Яришівська сільська територіаль'!C24 -> 587 | D24: ='Бабчинецька сільська територіал'!D24+'Вендичанська селищна територіал'!D24+'Могилів-Подільська міська терит'!D24+'Мурованокуриловецька селищна те'!D24+'Чернівецька селищна територіаль'!D24+'Ямпільська міська територіальна'!D24+'Яришівська сільська територіаль'!D24 -> 1315 | E24: ='Бабчинецька сільська територіал'!E24+'Вендичанська селищна територіал'!E24+'Могилів-Подільська міська терит'!E24+'Мурованокуриловецька селищна те'!E24+'Чернівецька селищна територіаль'!E24+'Ямпільська міська територіальна'!E24+'Яришівська сільська територіаль'!E24 -> 587 | F24: ='Бабчинецька сільська територіал'!F24+'Вендичанська селищна територіал'!F24+'Могилів-Подільська міська терит'!F24+'Мурованокуриловецька селищна те'!F24+'Чернівецька селищна територіаль'!F24+'Ямпільська міська територіальна'!F24+'Яришівська сільська територіаль'!F24 -> 147 | G24: ='Бабчинецька сільська територіал'!G24+'Вендичанська селищна територіал'!G24+'Могилів-Подільська міська терит'!G24+'Мурованокуриловецька селищна те'!G24+'Чернівецька селищна територіаль'!G24+'Ямпільська міська територіальна'!G24+'Яришівська сільська територіаль'!G24 -> 212 | H24: ='Бабчинецька сільська територіал'!H24+'Вендичанська селищна територіал'!H24+'Могилів-Подільська міська терит'!H24+'Мурованокуриловецька селищна те'!H24+'Чернівецька селищна територіаль'!H24+'Ямпільська міська територіальна'!H24+'Яришівська сільська територіаль'!H24 -> 0 | I24: ='Бабчинецька сільська територіал'!I24+'Вендичанська селищна територіал'!I24+'Могилів-Подільська міська терит'!I24+'Мурованокуриловецька селищна те'!I24+'Чернівецька селищна територіаль'!I24+'Ямпільська міська територіальна'!I24+'Яришівська сільська територіаль'!I24 -> 0 | J24: ='Бабчинецька сільська територіал'!J24+'Вендичанська селищна територіал'!J24+'Могилів-Подільська міська терит'!J24+'Мурованокуриловецька селищна те'!J24+'Чернівецька селищна територіаль'!J24+'Ямпільська міська територіальна'!J24+'Яришівська сільська територіаль'!J24 -> 0
A25: Фізичний супровід осіб з інвалідністю, які мають порушення опорно-рухового апарату та пересуваються на кріслах колісних, з інтелектуальним, сенсорними, фізичними, моторними, психічними та поведінковими порушеннями | B25: ='Бабчинецька сільська територіал'!B25+'Вендичанська селищна територіал'!B25+'Могилів-Подільська міська терит'!B25+'Мурованокуриловецька селищна те'!B25+'Чернівецька селищна територіаль'!B25+'Ямпільська міська територіальна'!B25+'Яришівська сільська територіаль'!B25 -> 0 | C25: ='Бабчинецька сільська територіал'!C25+'Вендичанська селищна територіал'!C25+'Могилів-Подільська міська терит'!C25+'Мурованокуриловецька селищна те'!C25+'Чернівецька селищна територіаль'!C25+'Ямпільська міська територіальна'!C25+'Яришівська сільська територіаль'!C25 -> 0 | D25: ='Бабчинецька сільська територіал'!D25+'Вендичанська селищна територіал'!D25+'Могилів-Подільська міська терит'!D25+'Мурованокуриловецька селищна те'!D25+'Чернівецька селищна територіаль'!D25+'Ямпільська міська територіальна'!D25+'Яришівська сільська територіаль'!D25 -> 0 | E25: × | F25: × | G25: × | H25: × | I25: × | J25: ×
A26: Переклад жестовою мовою | B26: ='Бабчинецька сільська територіал'!B26+'Вендичанська селищна територіал'!B26+'Могилів-Подільська міська терит'!B26+'Мурованокуриловецька селищна те'!B26+'Чернівецька селищна територіаль'!B26+'Ямпільська міська територіальна'!B26+'Яришівська сільська територіаль'!B26 -> 0 | C26: ='Бабчинецька сільська територіал'!C26+'Вендичанська селищна територіал'!C26+'Могилів-Подільська міська терит'!C26+'Мурованокуриловецька селищна те'!C26+'Чернівецька селищна територіаль'!C26+'Ямпільська міська територіальна'!C26+'Яришівська сільська територіаль'!C26 -> 0 | D26: ='Бабчинецька сільська територіал'!D26+'Вендичанська селищна територіал'!D26+'Могилів-Подільська міська терит'!D26+'Мурованокуриловецька селищна те'!D26+'Чернівецька селищна територіаль'!D26+'Ямпільська міська територіальна'!D26+'Яришівська сільська територіаль'!D26 -> 0 | E26: ='Бабчинецька сільська територіал'!E26+'Вендичанська селищна територіал'!E26+'Могилів-Подільська міська терит'!E26+'Мурованокуриловецька селищна те'!E26+'Чернівецька селищна територіаль'!E26+'Ямпільська міська територіальна'!E26+'Яришівська сільська територіаль'!E26 -> 0 | F26: ='Бабчинецька сільська територіал'!F26+'Вендичанська селищна територіал'!F26+'Могилів-Подільська міська терит'!F26+'Мурованокуриловецька селищна те'!F26+'Чернівецька селищна територіаль'!F26+'Ямпільська міська територіальна'!F26+'Яришівська сільська територіаль'!F26 -> 0 | G26: ='Бабчинецька сільська територіал'!G26+'Вендичанська селищна територіал'!G26+'Могилів-Подільська міська терит'!G26+'Мурованокуриловецька селищна те'!G26+'Чернівецька селищна територіаль'!G26+'Ямпільська міська територіальна'!G26+'Яришівська сільська територіаль'!G26 -> 0 | H26: ='Бабчинецька сільська територіал'!H26+'Вендичанська селищна територіал'!H26+'Могилів-Подільська міська терит'!H26+'Мурованокуриловецька селищна те'!H26+'Чернівецька селищна територіаль'!H26+'Ямпільська міська територіальна'!H26+'Яришівська сільська територіаль'!H26 -> 0 | I26: ='Бабчинецька сільська територіал'!I26+'Вендичанська селищна територіал'!I26+'Могилів-Подільська міська терит'!I26+'Мурованокуриловецька селищна те'!I26+'Чернівецька селищна територіаль'!I26+'Ямпільська міська територіальна'!I26+'Яришівська сільська територіаль'!I26 -> 0 | J26: ='Бабчинецька сільська територіал'!J26+'Вендичанська селищна територіал'!J26+'Могилів-Подільська міська терит'!J26+'Мурованокуриловецька селищна те'!J26+'Чернівецька селищна територіаль'!J26+'Ямпільська міська територіальна'!J26+'Яришівська сільська територіаль'!J26 -> 0
A27: Догляд та виховання дітей в умовах, наближених до сімейних | B27: ='Бабчинецька сільська територіал'!B27+'Вендичанська селищна територіал'!B27+'Могилів-Подільська міська терит'!B27+'Мурованокуриловецька селищна те'!B27+'Чернівецька селищна територіаль'!B27+'Ямпільська міська територіальна'!B27+'Яришівська сільська територіаль'!B27 -> 0 | C27: ='Бабчинецька сільська територіал'!C27+'Вендичанська селищна територіал'!C27+'Могилів-Подільська міська терит'!C27+'Мурованокуриловецька селищна те'!C27+'Чернівецька селищна територіаль'!C27+'Ямпільська міська територіальна'!C27+'Яришівська сільська територіаль'!C27 -> 0 | D27: ='Бабчинецька сільська територіал'!D27+'Вендичанська селищна територіал'!D27+'Могилів-Подільська міська терит'!D27+'Мурованокуриловецька селищна те'!D27+'Чернівецька селищна територіаль'!D27+'Ямпільська міська територіальна'!D27+'Яришівська сільська територіаль'!D27 -> 0 | E27: × | F27: × | G27: × | H27: × | I27: × | J27: ×
A28: Супровід під час інклюзивного навчання | B28: ='Бабчинецька сільська територіал'!B28+'Вендичанська селищна територіал'!B28+'Могилів-Подільська міська терит'!B28+'Мурованокуриловецька селищна те'!B28+'Чернівецька селищна територіаль'!B28+'Ямпільська міська територіальна'!B28+'Яришівська сільська територіаль'!B28 -> 0 | C28: ='Бабчинецька сільська територіал'!C28+'Вендичанська селищна територіал'!C28+'Могилів-Подільська міська терит'!C28+'Мурованокуриловецька селищна те'!C28+'Чернівецька селищна територіаль'!C28+'Ямпільська міська територіальна'!C28+'Яришівська сільська територіаль'!C28 -> 0 | D28: ='Бабчинецька сільська територіал'!D28+'Вендичанська селищна територіал'!D28+'Могилів-Подільська міська терит'!D28+'Мурованокуриловецька селищна те'!D28+'Чернівецька селищна територіаль'!D28+'Ямпільська міська територіальна'!D28+'Яришівська сільська територіаль'!D28 -> 1 | E28: × | F28: × | G28: × | H28: × | I28: × | J28: ×
A29: Інформування | B29: ='Бабчинецька сільська територіал'!B29+'Вендичанська селищна територіал'!B29+'Могилів-Подільська міська терит'!B29+'Мурованокуриловецька селищна те'!B29+'Чернівецька селищна територіаль'!B29+'Ямпільська міська територіальна'!B29+'Яришівська сільська територіаль'!B29 -> 2015 | C29: ='Бабчинецька сільська територіал'!C29+'Вендичанська селищна територіал'!C29+'Могилів-Подільська міська терит'!C29+'Мурованокуриловецька селищна те'!C29+'Чернівецька селищна територіаль'!C29+'Ямпільська міська територіальна'!C29+'Яришівська сільська територіаль'!C29 -> 2015 | D29: ='Бабчинецька сільська територіал'!D29+'Вендичанська селищна територіал'!D29+'Могилів-Подільська міська терит'!D29+'Мурованокуриловецька селищна те'!D29+'Чернівецька селищна територіаль'!D29+'Ямпільська міська територіальна'!D29+'Яришівська сільська територіаль'!D29 -> 2403 | E29: ='Бабчинецька сільська територіал'!E29+'Вендичанська селищна територіал'!E29+'Могилів-Подільська міська терит'!E29+'Мурованокуриловецька селищна те'!E29+'Чернівецька селищна територіаль'!E29+'Ямпільська міська територіальна'!E29+'Яришівська сільська територіаль'!E29 -> 1936 | F29: ='Бабчинецька сільська територіал'!F29+'Вендичанська селищна територіал'!F29+'Могилів-Подільська міська терит'!F29+'Мурованокуриловецька селищна те'!F29+'Чернівецька селищна територіаль'!F29+'Ямпільська міська територіальна'!F29+'Яришівська сільська територіаль'!F29 -> 233 | G29: ='Бабчинецька сільська територіал'!G29+'Вендичанська селищна територіал'!G29+'Могилів-Подільська міська терит'!G29+'Мурованокуриловецька селищна те'!G29+'Чернівецька селищна територіаль'!G29+'Ямпільська міська територіальна'!G29+'Яришівська сільська територіаль'!G29 -> 497 | H29: ='Бабчинецька сільська територіал'!H29+'Вендичанська селищна територіал'!H29+'Могилів-Подільська міська терит'!H29+'Мурованокуриловецька селищна те'!H29+'Чернівецька селищна територіаль'!H29+'Ямпільська міська територіальна'!H29+'Яришівська сільська територіаль'!H29 -> 0 | I29: ='Бабчинецька сільська територіал'!I29+'Вендичанська селищна територіал'!I29+'Могилів-Подільська міська терит'!I29+'Мурованокуриловецька селищна те'!I29+'Чернівецька селищна територіаль'!I29+'Ямпільська міська територіальна'!I29+'Яришівська сільська територіаль'!I29 -> 0 | J29: ='Бабчинецька сільська територіал'!J29+'Вендичанська селищна територіал'!J29+'Могилів-Подільська міська терит'!J29+'Мурованокуриловецька селищна те'!J29+'Чернівецька селищна територіаль'!J29+'Ямпільська міська територіальна'!J29+'Яришівська сільська територіаль'!J29 -> 0
A30: Медіація | B30: ='Бабчинецька сільська територіал'!B30+'Вендичанська селищна територіал'!B30+'Могилів-Подільська міська терит'!B30+'Мурованокуриловецька селищна те'!B30+'Чернівецька селищна територіаль'!B30+'Ямпільська міська територіальна'!B30+'Яришівська сільська територіаль'!B30 -> 0 | C30: ='Бабчинецька сільська територіал'!C30+'Вендичанська селищна територіал'!C30+'Могилів-Подільська міська терит'!C30+'Мурованокуриловецька селищна те'!C30+'Чернівецька селищна територіаль'!C30+'Ямпільська міська територіальна'!C30+'Яришівська сільська територіаль'!C30 -> 0 | D30: ='Бабчинецька сільська територіал'!D30+'Вендичанська селищна територіал'!D30+'Могилів-Подільська міська терит'!D30+'Мурованокуриловецька селищна те'!D30+'Чернівецька селищна територіаль'!D30+'Ямпільська міська територіальна'!D30+'Яришівська сільська територіаль'!D30 -> 0 | E30: × | F30: × | G30: × | H30: × | I30: × | J30: ×
A31: Інші соціальні послуги
A32: Консультативний кризовий телефон | B32: ='Бабчинецька сільська територіал'!B32+'Вендичанська селищна територіал'!B32+'Могилів-Подільська міська терит'!B32+'Мурованокуриловецька селищна те'!B32+'Чернівецька селищна територіаль'!B32+'Ямпільська міська територіальна'!B32+'Яришівська сільська територіаль'!B32 -> 0 | C32: ='Бабчинецька сільська територіал'!C32+'Вендичанська селищна територіал'!C32+'Могилів-Подільська міська терит'!C32+'Мурованокуриловецька селищна те'!C32+'Чернівецька селищна територіаль'!C32+'Ямпільська міська територіальна'!C32+'Яришівська сільська територіаль'!C32 -> 0 | D32: ='Бабчинецька сільська територіал'!D32+'Вендичанська селищна територіал'!D32+'Могилів-Подільська міська терит'!D32+'Мурованокуриловецька селищна те'!D32+'Чернівецька селищна територіаль'!D32+'Ямпільська міська територіальна'!D32+'Яришівська сільська територіаль'!D32 -> 0 | E32: ='Бабчинецька сільська територіал'!E32+'Вендичанська селищна територіал'!E32+'Могилів-Подільська міська терит'!E32+'Мурованокуриловецька селищна те'!E32+'Чернівецька селищна територіаль'!E32+'Ямпільська міська територіальна'!E32+'Яришівська сільська територіаль'!E32 -> 0 | F32: ='Бабчинецька сільська територіал'!F32+'Вендичанська селищна територіал'!F32+'Могилів-Подільська міська терит'!F32+'Мурованокуриловецька селищна те'!F32+'Чернівецька селищна територіаль'!F32+'Ямпільська міська територіальна'!F32+'Яришівська сільська територіаль'!F32 -> 0 | G32: ='Бабчинецька сільська територіал'!G32+'Вендичанська селищна територіал'!G32+'Могилів-Подільська міська терит'!G32+'Мурованокуриловецька селищна те'!G32+'Чернівецька селищна територіаль'!G32+'Ямпільська міська територіальна'!G32+'Яришівська сільська територіаль'!G32 -> 0 | H32: ='Бабчинецька сільська територіал'!H32+'Вендичанська селищна територіал'!H32+'Могилів-Подільська міська терит'!H32+'Мурованокуриловецька селищна те'!H32+'Чернівецька селищна територіаль'!H32+'Ямпільська міська територіальна'!H32+'Яришівська сільська територіаль'!H32 -> 0 | I32: ='Бабчинецька сільська територіал'!I32+'Вендичанська селищна територіал'!I32+'Могилів-Подільська міська терит'!I32+'Мурованокуриловецька селищна те'!I32+'Чернівецька селищна територіаль'!I32+'Ямпільська міська територіальна'!I32+'Яришівська сільська територіаль'!I32 -> 0 | J32: ='Бабчинецька сільська територіал'!J32+'Вендичанська селищна територіал'!J32+'Могилів-Подільська міська терит'!J32+'Мурованокуриловецька селищна те'!J32+'Чернівецька селищна територіаль'!J32+'Ямпільська міська територіальна'!J32+'Яришівська сільська територіаль'!J32 -> 0
A33: Нічний притулок | B33: ='Бабчинецька сільська територіал'!B33+'Вендичанська селищна територіал'!B33+'Могилів-Подільська міська терит'!B33+'Мурованокуриловецька селищна те'!B33+'Чернівецька селищна територіаль'!B33+'Ямпільська міська територіальна'!B33+'Яришівська сільська територіаль'!B33 -> 0 | C33: ='Бабчинецька сільська територіал'!C33+'Вендичанська селищна територіал'!C33+'Могилів-Подільська міська терит'!C33+'Мурованокуриловецька селищна те'!C33+'Чернівецька селищна територіаль'!C33+'Ямпільська міська територіальна'!C33+'Яришівська сільська територіаль'!C33 -> 0 | D33: ='Бабчинецька сільська територіал'!D33+'Вендичанська селищна територіал'!D33+'Могилів-Подільська міська терит'!D33+'Мурованокуриловецька селищна те'!D33+'Чернівецька селищна територіаль'!D33+'Ямпільська міська територіальна'!D33+'Яришівська сільська територіаль'!D33 -> 0 | E33: ='Бабчинецька сільська територіал'!E33+'Вендичанська селищна територіал'!E33+'Могилів-Подільська міська терит'!E33+'Мурованокуриловецька селищна те'!E33+'Чернівецька селищна територіаль'!E33+'Ямпільська міська територіальна'!E33+'Яришівська сільська територіаль'!E33 -> 0 | F33: ='Бабчинецька сільська територіал'!F33+'Вендичанська селищна територіал'!F33+'Могилів-Подільська міська терит'!F33+'Мурованокуриловецька селищна те'!F33+'Чернівецька селищна територіаль'!F33+'Ямпільська міська територіальна'!F33+'Яришівська сільська територіаль'!F33 -> 0 | G33: ='Бабчинецька сільська територіал'!G33+'Вендичанська селищна територіал'!G33+'Могилів-Подільська міська терит'!G33+'Мурованокуриловецька селищна те'!G33+'Чернівецька селищна територіаль'!G33+'Ямпільська міська територіальна'!G33+'Яришівська сільська територіаль'!G33 -> 0 | H33: ='Бабчинецька сільська територіал'!H33+'Вендичанська селищна територіал'!H33+'Могилів-Подільська міська терит'!H33+'Мурованокуриловецька селищна те'!H33+'Чернівецька селищна територіаль'!H33+'Ямпільська міська територіальна'!H33+'Яришівська сільська територіаль'!H33 -> 0 | I33: ='Бабчинецька сільська територіал'!I33+'Вендичанська селищна територіал'!I33+'Могилів-Подільська міська терит'!I33+'Мурованокуриловецька селищна те'!I33+'Чернівецька селищна територіаль'!I33+'Ямпільська міська територіальна'!I33+'Яришівська сільська територіаль'!I33 -> 0 | J33: ='Бабчинецька сільська територіал'!J33+'Вендичанська селищна територіал'!J33+'Могилів-Подільська міська терит'!J33+'Мурованокуриловецька селищна те'!J33+'Чернівецька селищна територіаль'!J33+'Ямпільська міська територіальна'!J33+'Яришівська сільська територіаль'!J33 -> 0
A34: Короткотермінове проживання | B34: ='Бабчинецька сільська територіал'!B34+'Вендичанська селищна територіал'!B34+'Могилів-Подільська міська терит'!B34+'Мурованокуриловецька селищна те'!B34+'Чернівецька селищна територіаль'!B34+'Ямпільська міська територіальна'!B34+'Яришівська сільська територіаль'!B34 -> 0 | C34: ='Бабчинецька сільська територіал'!C34+'Вендичанська селищна територіал'!C34+'Могилів-Подільська міська терит'!C34+'Мурованокуриловецька селищна те'!C34+'Чернівецька селищна територіаль'!C34+'Ямпільська міська територіальна'!C34+'Яришівська сільська територіаль'!C34 -> 0 | D34: ='Бабчинецька сільська територіал'!D34+'Вендичанська селищна територіал'!D34+'Могилів-Подільська міська терит'!D34+'Мурованокуриловецька селищна те'!D34+'Чернівецька селищна територіаль'!D34+'Ямпільська міська територіальна'!D34+'Яришівська сільська територіаль'!D34 -> 0 | E34: ='Бабчинецька сільська територіал'!E34+'Вендичанська селищна територіал'!E34+'Могилів-Подільська міська терит'!E34+'Мурованокуриловецька селищна те'!E34+'Чернівецька селищна територіаль'!E34+'Ямпільська міська територіальна'!E34+'Яришівська сільська територіаль'!E34 -> 0 | F34: ='Бабчинецька сільська територіал'!F34+'Вендичанська селищна територіал'!F34+'Могилів-Подільська міська терит'!F34+'Мурованокуриловецька селищна те'!F34+'Чернівецька селищна територіаль'!F34+'Ямпільська міська територіальна'!F34+'Яришівська сільська територіаль'!F34 -> 0 | G34: ='Бабчинецька сільська територіал'!G34+'Вендичанська селищна територіал'!G34+'Могилів-Подільська міська терит'!G34+'Мурованокуриловецька селищна те'!G34+'Чернівецька селищна територіаль'!G34+'Ямпільська міська територіальна'!G34+'Яришівська сільська територіаль'!G34 -> 0 | H34: ='Бабчинецька сільська територіал'!H34+'Вендичанська селищна територіал'!H34+'Могилів-Подільська міська терит'!H34+'Мурованокуриловецька селищна те'!H34+'Чернівецька селищна територіаль'!H34+'Ямпільська міська територіальна'!H34+'Яришівська сільська територіаль'!H34 -> 0 | I34: ='Бабчинецька сільська територіал'!I34+'Вендичанська селищна територіал'!I34+'Могилів-Подільська міська терит'!I34+'Мурованокуриловецька селищна те'!I34+'Чернівецька селищна територіаль'!I34+'Ямпільська міська територіальна'!I34+'Яришівська сільська територіаль'!I34 -> 0 | J34: ='Бабчинецька сільська територіал'!J34+'Вендичанська селищна територіал'!J34+'Могилів-Подільська міська терит'!J34+'Мурованокуриловецька селищна те'!J34+'Чернівецька селищна територіаль'!J34+'Ямпільська міська територіальна'!J34+'Яришівська сільська територіаль'!J34 -> 0
A35: Соціально-трудова адаптація | B35: ='Бабчинецька сільська територіал'!B35+'Вендичанська селищна територіал'!B35+'Могилів-Подільська міська терит'!B35+'Мурованокуриловецька селищна те'!B35+'Чернівецька селищна територіаль'!B35+'Ямпільська міська територіальна'!B35+'Яришівська сільська територіаль'!B35 -> 0 | C35: ='Бабчинецька сільська територіал'!C35+'Вендичанська селищна територіал'!C35+'Могилів-Подільська міська терит'!C35+'Мурованокуриловецька селищна те'!C35+'Чернівецька селищна територіаль'!C35+'Ямпільська міська територіальна'!C35+'Яришівська сільська територіаль'!C35 -> 0 | D35: ='Бабчинецька сільська територіал'!D35+'Вендичанська селищна територіал'!D35+'Могилів-Подільська міська терит'!D35+'Мурованокуриловецька селищна те'!D35+'Чернівецька селищна територіаль'!D35+'Ямпільська міська територіальна'!D35+'Яришівська сільська територіаль'!D35 -> 0 | E35: × | F35: × | G35: × | H35: × | I35: × | J35: ×
A36: Догляд стаціонарний | B36: ='Бабчинецька сільська територіал'!B36+'Вендичанська селищна територіал'!B36+'Могилів-Подільська міська терит'!B36+'Мурованокуриловецька селищна те'!B36+'Чернівецька селищна територіаль'!B36+'Ямпільська міська територіальна'!B36+'Яришівська сільська територіаль'!B36 -> 19 | C36: ='Бабчинецька сільська територіал'!C36+'Вендичанська селищна територіал'!C36+'Могилів-Подільська міська терит'!C36+'Мурованокуриловецька селищна те'!C36+'Чернівецька селищна територіаль'!C36+'Ямпільська міська територіальна'!C36+'Яришівська сільська територіаль'!C36 -> 19 | D36: ='Бабчинецька сільська територіал'!D36+'Вендичанська селищна територіал'!D36+'Могилів-Подільська міська терит'!D36+'Мурованокуриловецька селищна те'!D36+'Чернівецька селищна територіаль'!D36+'Ямпільська міська територіальна'!D36+'Яришівська сільська територіаль'!D36 -> 98 | E36: ='Бабчинецька сільська територіал'!E36+'Вендичанська селищна територіал'!E36+'Могилів-Подільська міська терит'!E36+'Мурованокуриловецька селищна те'!E36+'Чернівецька селищна територіаль'!E36+'Ямпільська міська територіальна'!E36+'Яришівська сільська територіаль'!E36 -> 19 | F36: ='Бабчинецька сільська територіал'!F36+'Вендичанська селищна територіал'!F36+'Могилів-Подільська міська терит'!F36+'Мурованокуриловецька селищна те'!F36+'Чернівецька селищна територіаль'!F36+'Ямпільська міська територіальна'!F36+'Яришівська сільська територіаль'!F36 -> 0 | G36: ='Бабчинецька сільська територіал'!G36+'Вендичанська селищна територіал'!G36+'Могилів-Подільська міська терит'!G36+'Мурованокуриловецька селищна те'!G36+'Чернівецька селищна територіаль'!G36+'Ямпільська міська територіальна'!G36+'Яришівська сільська територіаль'!G36 -> 0 | H36: ='Бабчинецька сільська територіал'!H36+'Вендичанська селищна територіал'!H36+'Могилів-Подільська міська терит'!H36+'Мурованокуриловецька селищна те'!H36+'Чернівецька селищна територіаль'!H36+'Ямпільська міська територіальна'!H36+'Яришівська сільська територіаль'!H36 -> 0 | I36: ='Бабчинецька сільська територіал'!I36+'Вендичанська селищна територіал'!I36+'Могилів-Подільська міська терит'!I36+'Мурованокуриловецька селищна те'!I36+'Чернівецька селищна територіаль'!I36+'Ямпільська міська територіальна'!I36+'Яришівська сільська територіаль'!I36 -> 0 | J36: ='Бабчинецька сільська територіал'!J36+'Вендичанська селищна територіал'!J36+'Могилів-Подільська міська терит'!J36+'Мурованокуриловецька селищна те'!J36+'Чернівецька селищна територіаль'!J36+'Ямпільська міська територіальна'!J36+'Яришівська сільська територіаль'!J36 -> 0
A37: Паліативний догляд | B37: ='Бабчинецька сільська територіал'!B37+'Вендичанська селищна територіал'!B37+'Могилів-Подільська міська терит'!B37+'Мурованокуриловецька селищна те'!B37+'Чернівецька селищна територіаль'!B37+'Ямпільська міська територіальна'!B37+'Яришівська сільська територіаль'!B37 -> 0 | C37: ='Бабчинецька сільська територіал'!C37+'Вендичанська селищна територіал'!C37+'Могилів-Подільська міська терит'!C37+'Мурованокуриловецька селищна те'!C37+'Чернівецька селищна територіаль'!C37+'Ямпільська міська територіальна'!C37+'Яришівська сільська територіаль'!C37 -> 0 | D37: ='Бабчинецька сільська територіал'!D37+'Вендичанська селищна територіал'!D37+'Могилів-Подільська міська терит'!D37+'Мурованокуриловецька селищна те'!D37+'Чернівецька селищна територіаль'!D37+'Ямпільська міська територіальна'!D37+'Яришівська сільська територіаль'!D37 -> 0 | E37: ='Бабчинецька сільська територіал'!E37+'Вендичанська селищна територіал'!E37+'Могилів-Подільська міська терит'!E37+'Мурованокуриловецька селищна те'!E37+'Чернівецька селищна територіаль'!E37+'Ямпільська міська територіальна'!E37+'Яришівська сільська територіаль'!E37 -> 0 | F37: ='Бабчинецька сільська територіал'!F37+'Вендичанська селищна територіал'!F37+'Могилів-Подільська міська терит'!F37+'Мурованокуриловецька селищна те'!F37+'Чернівецька селищна територіаль'!F37+'Ямпільська міська територіальна'!F37+'Яришівська сільська територіаль'!F37 -> 0 | G37: ='Бабчинецька сільська територіал'!G37+'Вендичанська селищна територіал'!G37+'Могилів-Подільська міська терит'!G37+'Мурованокуриловецька селищна те'!G37+'Чернівецька селищна територіаль'!G37+'Ямпільська міська територіальна'!G37+'Яришівська сільська територіаль'!G37 -> 0 | H37: ='Бабчинецька сільська територіал'!H37+'Вендичанська селищна територіал'!H37+'Могилів-Подільська міська терит'!H37+'Мурованокуриловецька селищна те'!H37+'Чернівецька селищна територіаль'!H37+'Ямпільська міська територіальна'!H37+'Яришівська сільська територіаль'!H37 -> 0 | I37: ='Бабчинецька сільська територіал'!I37+'Вендичанська селищна територіал'!I37+'Могилів-Подільська міська терит'!I37+'Мурованокуриловецька селищна те'!I37+'Чернівецька селищна територіаль'!I37+'Ямпільська міська територіальна'!I37+'Яришівська сільська територіаль'!I37 -> 0 | J37: ='Бабчинецька сільська територіал'!J37+'Вендичанська селищна територіал'!J37+'Могилів-Подільська міська терит'!J37+'Мурованокуриловецька селищна те'!J37+'Чернівецька селищна територіаль'!J37+'Ямпільська міська територіальна'!J37+'Яришівська сільська територіаль'!J37 -> 0
