Workbook

Sheet Могилів-Подільський район (узаг
A1: ДАНІ
A2: щодо забезпечення осіб/сімей, які належать до вразливих груп населення або перебувають у складних життєвих обставинах, соціальними послугами
A3: Назва соціальної послуги відповідно до переліку соціальних послуг | B3: Кількість осіб, які звертались щодо отримання соціальних послуг, та осіб/сімей, щодо яких надійшли звернення/ повідомлення про потребу в соціальних послугах у звітному періоді* | C3: Кількість осіб/сімей, щодо яких за результатами оцінки потреб особи/сім’ї зроблено висновок про потребу в наданні соціальних послуг* | D3: Кількість осіб/сімей, які отримували соціальні послуги* | E3: Кількість осіб, які звертались щодо отримання соціальних послуг екстрено (кризово), та осіб/сімей, щодо яких надійшли звернення / повідомлення про потребу в соціальних послугах** | H3: Кількість осіб/сімей, які отримували соціальні послуги екстрено(кризово)**
E4: всього осіб/сімей | F4: з них кількість внутрішньо переміщених осіб/сімей | G4: в них дітей | H4: всього осіб/сімей | I4: з них кількість внутрішньо переміщених осіб/сімей | J4: в них дітей
A5: 1 | B5: 2 | C5: 3 | D5: 4 | E5: 5 | F5: 6 | G5: 7 | H5: 8 | I5: 9 | J5: 10
A6: Базові соціальні послуги
A7: Догляд вдома | B7: ='Бабчинецька сільська територіал'!B7+'Вендичанська селищна територіал'!B7+'Могилів-Подільська міська терит'!B7+'Мурованокуриловецька селищна те'!B7+'Чернівецька селищна територіаль'!B7+'Ямпільська міська територіальна'!B7+'Яришівська сільська територіаль'!B7 -> 253 | C7: ='Бабчинецька сільська територіал'!C7+'Вендичанська селищна територіал'!C7+'Могилів-Подільська міська терит'!C7+'Мурованокуриловецька селищна те'!C7+'Чернівецька селищна територіаль'!C7+'Ямпільська міська територіальна'!C7+'Яришівська сільська територіаль'!C7 -> 253 | D7: ='Бабчинецька сільська територіал'!D7+'Вендичанська селищна територіал'!D7+'Могилів-Подільська міська терит'!D7+'Мурованокуриловецька селищна те'!D7+'Чернівецька селищна територіаль'!D7+'Ямпільська міська територіальна'!D7+'Яришівська сільська територіаль'!D7 -> 2049 | E7: ='Бабчинецька сільська територіал'!E7+'Вендичанська селищна територіал'!E7+'Могилів-Подільська міська терит'!E7+'Мурованокуриловецька селищна те'!E7+'Чернівецька селищна територіаль'!E7+'Ямпільська міська територіальна'!E7+'Яришівська сільська територіаль'!E7 -> 249 | F7: ='Бабчинецька сільська територіал'!F7+'Вендичанська селищна територіал'!F7+'Могилів-Подільська міська терит'!F7+'Мурованокуриловецька селищна те'!F7+'Чернівецька селищна територіаль'!F7+'Ямпільська міська територіальна'!F7+'Яришівська сільська територіаль'!F7 -> 6 | G7: ='Бабчинецька сільська територіал'!G7+'Вендичанська селищна територіал'!G7+'Могилів-Подільська міська терит'!G7+'Мурованокуриловецька селищна те'!G7+'Чернівецька селищна територіаль'!G7+'Ямпільська міська територіальна'!G7+'Яришівська сільська територіаль'!G7 -> 0 | H7: ='Бабчинецька сільська територіал'!H7+'Вендичанська селищна територіал'!H7+'Могилів-Подільська міська терит'!H7+'Мурованокуриловецька селищна те'!H7+'Чернівецька селищна територіаль'!H7+'Ямпільська міська територіальна'!H7+'Яришівська сільська територіаль'!H7 -> 4 | I7: ='Бабчинецька сільська територіал'!I7+'Вендичанська селищна територіал'!I7+'Могилів-Подільська міська терит'!I7+'Мурованокуриловецька селищна те'!I7+'Чернівецька селищна територіаль'!I7+'Ямпільська міська територіальна'!I7+'Яришівська сільська територіаль'!I7 -> 4 | J7: ='Бабчинецька сільська територіал'!J7+'Вендичанська селищна територіал'!J7+'Могилів-Подільська міська терит'!J7+'Мурованокуриловецька селищна те'!J7+'Чернівецька селищна територіаль'!J7+'Ямпільська міська територіальна'!J7+'Яришівська сільська територіаль'!J7 -> 0
A8: Денний догляд | B8: ='Бабчинецька сільська територіал'!B8+'Вендичанська селищна територіал'!B8+'Могилів-Подільська міська терит'!B8+'Мурованокуриловецька селищна те'!B8+'Чернівецька селищна територіаль'!B8+'Ямпільська міська територіальна'!B8+'Яришівська сільська територіаль'!B8 -> 0 | C8: ='Бабчинецька сільська територіал'!C8+'Вендичанська селищна територіал'!C8+'Могилів-Подільська міська терит'!C8+'Мурованокуриловецька селищна те'!C8+'Чернівецька селищна територіаль'!C8+'Ямпільська міська територіальна'!C8+'Яришівська сільська територіаль'!C8 -> 0 | D8: ='Бабчинецька сільська територіал'!D8+'Вендичанська селищна територіал'!D8+'Могилів-Подільська міська терит'!D8+'Мурованокуриловецька селищна те'!D8+'Чернівецька селищна територіаль'!D8+'Ямпільська міська територіальна'!D8+'Яришівська сільська територіаль'!D8 -> 0 | E8: ='Бабчинецька сільська територіал'!E8+'Вендичанська селищна територіал'!E8+'Могилів-Подільська міська терит'!E8+'Мурованокуриловецька селищна те'!E8+'Чернівецька селищна територіаль'!E8+'Ямпільська міська територіальна'!E8+'Яришівська сільська територіаль'!E8 -> 0 | F8: ='Бабчинецька сільська територіал'!F8+'Вендичанська селищна територіал'!F8+'Могилів-Подільська міська терит'!F8+'Мурованокуриловецька селищна те'!F8+'Чернівецька селищна територіаль'!F8+'Ямпільська міська територіальна'!F8+'Яришівська сільська територіаль'!F8 -> 0 | G8: ='Бабчинецька сільська територіал'!G8+'Вендичанська селищна територіал'!G8+'Могилів-Подільська міська терит'!G8+'Мурованокуриловецька селищна те'!G8+'Чернівецька селищна територіаль'!G8+'Ямпільська міська територіальна'!G8+'Яришівська сільська територіаль'!G8 -> 0 | H8: ='Бабчинецька сільська територіал'!H8+'Вендичанська селищна територіал'!H8+'Могилів-Подільська міська терит'!H8+'Мурованокуриловецька селищна те'!H8+'Чернівецька селищна територіаль'!H8+'Ямпільська міська територіальна'!H8+'Яришівська сільська територіаль'!H8 -> 0 | I8: ='Бабчинецька сільська територіал'!I8+'Вендичанська селищна територіал'!I8+'Могилів-Подільська міська терит'!I8+'Мурованокуриловецька селищна те'!I8+'Чернівецька селищна територіаль'!I8+'Ямпільська міська територіальна'!I8+'Яришівська сільська територіаль'!I8 -> 0 | J8: ='Бабчинецька сільська територіал'!J8+'Вендичанська селищна територіал'!J8+'Могилів-Подільська міська терит'!J8+'Мурованокуриловецька селищна те'!J8+'Чернівецька селищна територіаль'!J8+'Ямпільська міська територіальна'!J8+'Яришівська сільська територіаль'!J8 -> 0
A9: Денний догляд дітей з інвалідністю | B9: ='Бабчинецька сільська територіал'!B9+'Вендичанська селищна територіал'!B9+'Могилів-Подільська міська терит'!B9+'Мурованокуриловецька селищна те'!B9+'Чернівецька селищна територіаль'!B9+'Ямпільська міська територіальна'!B9+'Яришівська сільська територіаль'!B9 -> 0 | C9: ='Бабчинецька сільська територіал'!C9+'Вендичанська селищна територіал'!C9+'Могилів-Подільська міська терит'!C9+'Мурованокуриловецька селищна те'!C9+'Чернівецька селищна територіаль'!C9+'Ямпільська міська територіальна'!C9+'Яришівська сільська територіаль'!C9 -> 0 | D9: ='Бабчинецька сільська територіал'!D9+'Вендичанська селищна територіал'!D9+'Могилів-Подільська міська терит'!D9+'Мурованокуриловецька селищна те'!D9+'Чернівецька селищна територіаль'!D9+'Ямпільська міська територіальна'!D9+'Яришівська сільська територіаль'!D9 -> 0 | E9: ='Бабчинецька сільська територіал'!E9+'Вендичанська селищна територіал'!E9+'Могилів-Подільська міська терит'!E9+'Мурованокуриловецька селищна те'!E9+'Чернівецька селищна територіаль'!E9+'Ямпільська міська територіальна'!E9+'Яришівська сільська територіаль'!E9 -> 0 | F9: ='Бабчинецька сільська територіал'!F9+'Вендичанська селищна територіал'!F9+'Могилів-Подільська міська терит'!F9+'Мурованокуриловецька селищна те'!F9+'Чернівецька селищна територіаль'!F9+'Ямпільська міська територіальна'!F9+'Яришівська сільська територіаль'!F9 -> 0 | G9: ='Бабчинецька сільська територіал'!G9+'Вендичанська селищна територіал'!G9+'Могилів-Подільська міська терит'!G9+'Мурованокуриловецька селищна те'!G9+'Чернівецька селищна територіаль'!G9+'Ямпільська міська територіальна'!G9+'Яришівська сільська територіаль'!G9 -> 0 | H9: ='Бабчинецька сільська територіал'!H9+'Вендичанська селищна територіал'!H9+'Могилів-Подільська міська терит'!H9+'Мурованокуриловецька селищна те'!H9+'Чернівецька селищна територіаль'!H9+'Ямпільська міська територіальна'!H9+'Яришівська сільська територіаль'!H9 -> 0 | I9: ='Бабчинецька сільська територіал'!I9+'Вендичанська селищна територіал'!I9+'Могилів-Подільська міська терит'!I9+'Мурованокуриловецька селищна те'!I9+'Чернівецька селищна територіаль'!I9+'Ямпільська міська територіальна'!I9+'Яришівська сільська територіаль'!I9 -> 0 | J9: ='Бабчинецька сільська територіал'!J9+'Вендичанська селищна територіал'!J9+'Могилів-Подільська міська терит'!J9+'Мурованокуриловецька селищна те'!J9+'Чернівецька селищна територіаль'!J9+'Ямпільська міська територіальна'!J9+'Яришівська сільська територіаль'!J9 -> 0
A10: Підтримане проживання осіб похилого віку та осіб з інвалідністю | B10: ='Бабчинецька сільська територіал'!B10+'Вендичанська селищна територіал'!B10+'Могилів-Подільська міська терит'!B10+'Мурованокуриловецька селищна те'!B10+'Чернівецька селищна територіаль'!B10+'Ямпільська міська територіальна'!B10+'Яришівська сільська територіаль'!B10 -> 0 | C10: ='Бабчинецька сільська територіал'!C10+'Вендичанська селищна територіал'!C10+'Могилів-Подільська міська терит'!C10+'Мурованокуриловецька селищна те'!C10+'Чернівецька селищна територіаль'!C10+'Ямпільська міська територіальна'!C10+'Яришівська сільська територіаль'!C10 -> 0 | D10: ='Бабчинецька сільська територіал'!D10+'Вендичанська селищна територіал'!D10+'Могилів-Подільська міська терит'!D10+'Мурованокуриловецька селищна те'!D10+'Чернівецька селищна територіаль'!D10+'Ямпільська міська територіальна'!D10+'Яришівська сільська територіаль'!D10 -> 0 | E10: ='Бабчинецька сільська територіал'!E10+'Вендичанська селищна територіал'!E10+'Могилів-Подільська міська терит'!E10+'Мурованокуриловецька селищна те'!E10+'Чернівецька селищна територіаль'!E10+'Ямпільська міська територіальна'!E10+'Яришівська сільська територіаль'!E10 -> 0 | F10: ='Бабчинецька сільська територіал'!F10+'Вендичанська селищна територіал'!F10+'Могилів-Подільська міська терит'!F10+'Мурованокуриловецька селищна те'!F10+'Чернівецька селищна територіаль'!F10+'Ямпільська міська територіальна'!F10+'Яришівська сільська територіаль'!F10 -> 0 | G10: ='Бабчинецька сільська територіал'!G10+'Вендичанська селищна територіал'!G10+'Могилів-Подільська міська терит'!G10+'Мурованокуриловецька селищна те'!G10+'Чернівецька селищна територіаль'!G10+'Ямпільська міська територіальна'!G10+'Яришівська сільська територіаль'!G10 -> 0 | H10: ='Бабчинецька сільська територіал'!H10+'Вендичанська селищна територіал'!H10+'Могилів-Подільська міська терит'!H10+'Мурованокуриловецька селищна те'!H10+'Чернівецька селищна територіаль'!H10+'Ямпільська міська територіальна'!H10+'Яришівська сільська територіаль'!H10 -> 0 | I10: ='Бабчинецька сільська територіал'!I10+'Вендичанська селищна територіал'!I10+'Могилів-Подільська міська терит'!I10+'Мурованокуриловецька селищна те'!I10+'Чернівецька селищна територіаль'!I10+'Ямпільська міська територіальна'!I10+'Яришівська сільська територіаль'!I10 -> 0 | J10: ='Бабчинецька сільська територіал'!J10+'Вендичанська селищна територіал'!J10+'Могилів-Подільська міська терит'!J10+'Мурованокуриловецька селищна те'!J10+'Чернівецька селищна територіаль'!J10+'Ямпільська міська територіальна'!J10+'Яришівська сільська територіаль'!J10 -> 0
A11: Підтримане проживання бездомних осіб | B11: ='Бабчинецька сільська територіал'!B11+'Вендичанська селищна територіал'!B11+'Могилів-Подільська міська терит'!B11+'Мурованокуриловецька селищна те'!B11+'Чернівецька селищна територіаль'!B11+'Ямпільська міська територіальна'!B11+'Яришівська сільська територіаль'!B11 -> 0 | C11: ='Бабчинецька сільська територіал'!C11+'Вендичанська селищна територіал'!C11+'Могилів-Подільська міська терит'!C11+'Мурованокуриловецька селищна те'!C11+'Чернівецька селищна територіаль'!C11+'Ямпільська міська територіальна'!C11+'Яришівська сільська територіаль'!C11 -> 0 | D11: ='Бабчинецька сільська територіал'!D11+'Вендичанська селищна територіал'!D11+'Могилів-Подільська міська терит'!D11+'Мурованокуриловецька селищна те'!D11+'Чернівецька селищна територіаль'!D11+'Ямпільська міська територіальна'!D11+'Яришівська сільська територіаль'!D11 -> 0 | E11: ='Бабчинецька сільська територіал'!E11+'Вендичанська селищна територіал'!E11+'Могилів-Подільська міська терит'!E11+'Мурованокуриловецька селищна те'!E11+'Чернівецька селищна територіаль'!E11+'Ямпільська міська територіальна'!E11+'Яришівська сільська територіаль'!E11 -> 0 | F11: ='Бабчинецька сільська територіал'!F11+'Вендичанська селищна територіал'!F11+'Могилів-Подільська міська терит'!F11+'Мурованокуриловецька селищна те'!F11+'Чернівецька селищна територіаль'!F11+'Ямпільська міська територіальна'!F11+'Яришівська сільська територіаль'!F11 -> 0 | G11: ='Бабчинецька сільська територіал'!G11+'Вендичанська селищна територіал'!G11+'Могилів-Подільська міська терит'!G11+'Мурованокуриловецька селищна те'!G11+'Чернівецька селищна територіаль'!G11+'Ямпільська міська територіальна'!G11+'Яришівська сільська територіаль'!G11 -> 0 | H11: ='Бабчинецька сільська територіал'!H11+'Вендичанська селищна територіал'!H11+'Могилів-Подільська міська терит'!H11+'Мурованокуриловецька селищна те'!H11+'Чернівецька селищна територіаль'!H11+'Ямпільська міська територіальна'!H11+'Яришівська сільська територіаль'!H11 -> 0 | I11: ='Бабчинецька сільська територіал'!I11+'Вендичанська селищна територіал'!I11+'Могилів-Подільська міська терит'!I11+'Мурованокуриловецька селищна те'!I11+'Чернівецька селищна територіаль'!I11+'Ямпільська міська територіальна'!I11+'Яришівська сільська територіаль'!I11 -> 0 | J11: ='Бабчинецька сільська територіал'!J11+'Вендичанська селищна територіал'!J11+'Могилів-Подільська міська терит'!J11+'Мурованокуриловецька селищна те'!J11+'Чернівецька селищна територіаль'!J11+'Ямпільська міська територіальна'!J11+'Яришівська сільська територіаль'!J11 -> 0
A12: Транзитне підтримане проживання/ учбова соціальна квартира (будинок) | B12: ='Бабчинецька сільська територіал'!B12+'Вендичанська селищна територіал'!B12+'Могилів-Подільська міська терит'!B12+'Мурованокуриловецька селищна те'!B12+'Чернівецька селищна територіаль'!B12+'Ямпільська міська територіальна'!B12+'Яришівська сільська територіаль'!B12 -> 0 | C12: ='Бабчинецька сільська територіал'!C12+'Вендичанська селищна територіал'!C12+'Могилів-Подільська міська терит'!C12+'Мурованокуриловецька селищна те'!C12+'Чернівецька селищна територіаль'!C12+'Ямпільська міська територіальна'!C12+'Яришівська сільська територіаль'!C12 -> 0 | D12: ='Бабчинецька сільська територіал'!D12+'Вендичанська селищна територіал'!D12+'Могилів-Подільська міська терит'!D12+'Мурованокуриловецька селищна те'!D12+'Чернівецька селищна територіаль'!D12+'Ямпільська міська територіальна'!D12+'Яришівська сільська територіаль'!D12 -> 0 | E12: × | F12: × | G12: × | H12: × | I12: × | J12: ×
A13: Соціальна адаптація | B13: ='Бабчинецька сільська територіал'!B13+'Вендичанська селищна територіал'!B13+'Могилів-Подільська міська терит'!B13+'Мурованокуриловецька селищна те'!B13+'Чернівецька селищна територіаль'!B13+'Ямпільська міська територіальна'!B13+'Яришівська сільська територіаль'!B13 -> 2 | C13: ='Бабчинецька сільська територіал'!C13+'Вендичанська селищна територіал'!C13+'Могилів-Подільська міська терит'!C13+'Мурованокуриловецька селищна те'!C13+'Чернівецька селищна територіаль'!C13+'Ямпільська міська територіальна'!C13+'Яришівська сільська територіаль'!C13 -> 2 | D13: ='Бабчинецька сільська територіал'!D13+'Вендичанська селищна територіал'!D13+'Могилів-Подільська міська терит'!D13+'Мурованокуриловецька селищна те'!D13+'Чернівецька селищна територіаль'!D13+'Ямпільська міська територіальна'!D13+'Яришівська сільська територіаль'!D13 -> 2 | E13: × | F13: × | G13: × | H13: × | I13: × | J13: ×
A14: Соціальна інтеграція та реінтеграція | B14: ='Бабчинецька сільська територіал'!B14+'Вендичанська селищна територіал'!B14+'Могилів-Подільська міська терит'!B14+'Мурованокуриловецька селищна те'!B14+'Чернівецька селищна територіаль'!B14+'Ямпільська міська територіальна'!B14+'Яришівська сільська територіаль'!B14 -> 0 | C14: ='Бабчинецька сільська територіал'!C14+'Вендичанська селищна територіал'!C14+'Могилів-Подільська міська терит'!C14+'Мурованокуриловецька селищна те'!C14+'Чернівецька селищна територіаль'!C14+'Ямпільська міська територіальна'!C14+'Яришівська сільська територіаль'!C14 -> 0 | D14: ='Бабчинецька сільська територіал'!D14+'Вендичанська селищна територіал'!D14+'Могилів-Подільська міська терит'!D14+'Мурованокуриловецька селищна те'!D14+'Чернівецька селищна територіаль'!D14+'Ямпільська міська територіальна'!D14+'Яришівська сільська територіаль'!D14 -> 0 | E14: × | F14: × | G14: × | H14: × | I14: × | J14: ×
A15: Надання притулку | B15: ='Бабчинецька сільська територіал'!B15+'Вендичанська селищна територіал'!B15+'Могилів-Подільська міська терит'!B15+'Мурованокуриловецька селищна те'!B15+'Чернівецька селищна територіаль'!B15+'Ямпільська міська територіальна'!B15+'Яришівська сільська територіаль'!B15 -> 1 | C15: ='Бабчинецька сільська територіал'!C15+'Вендичанська селищна територіал'!C15+'Могилів-Подільська міська терит'!C15+'Мурованокуриловецька селищна те'!C15+'Чернівецька селищна територіаль'!C15+'Ямпільська міська територіальна'!C15+'Яришівська сільська територіаль'!C15 -> 1 | D15: ='Бабчинецька сільська територіал'!D15+'Вендичанська селищна територіал'!D15+'Могилів-Подільська міська терит'!D15+'Мурованокуриловецька селищна те'!D15+'Чернівецька селищна територіаль'!D15+'Ямпільська міська територіальна'!D15+'Яришівська сільська територіаль'!D15 -> 1 | E15: ='Бабчинецька сільська територіал'!E15+'Вендичанська селищна територіал'!E15+'Могилів-Подільська міська терит'!E15+'Мурованокуриловецька селищна те'!E15+'Чернівецька селищна територіаль'!E15+'Ямпільська міська територіальна'!E15+'Яришівська сільська територіаль'!E15 -> 0 | F15: ='Бабчинецька сільська територіал'!F15+'Вендичанська селищна територіал'!F15+'Могилів-Подільська міська терит'!F15+'Мурованокуриловецька селищна те'!F15+'Чернівецька селищна територіаль'!F15+'Ямпільська міська територіальна'!F15+'Яришівська сільська територіаль'!F15 -> 0 | G15: ='Бабчинецька сільська територіал'!G15+'Вендичанська селищна територіал'!G15+'Могилів-Подільська міська терит'!G15+'Мурованокуриловецька селищна те'!G15+'Чернівецька селищна територіаль'!G15+'Ямпільська міська територіальна'!G15+'Яришівська сільська територіаль'!G15 -> 0 | H15: ='Бабчинецька сільська територіал'!H15+'Вендичанська селищна територіал'!H15+'Могилів-Подільська міська терит'!H15+'Мурованокуриловецька селищна те'!H15+'Чернівецька селищна територіаль'!H15+'Ямпільська міська територіальна'!H15+'Яришівська сільська територіаль'!H15 -> 0 | I15: ='Бабчинецька сільська територіал'!I15+'Вендичанська селищна територіал'!I15+'Могилів-Подільська міська терит'!I15+'Мурованокуриловецька селищна те'!I15+'Чернівецька селищна територіаль'!I15+'Ямпільська міська територіальна'!I15+'Яришівська сільська територіаль'!I15 -> 0 | J15: ='Бабчинецька сільська територіал'!J15+'Вендичанська селищна територіал'!J15+'Могилів-Подільська міська терит'!J15+'Мурованокуриловецька селищна те'!J15+'Чернівецька селищна територіаль'!J15+'Ямпільська міська територіальна'!J15+'Яришівська сільська територіаль'!J15 -> 0
A16: Екстрене (кризове) втручання | B16: ='Бабчинецька сільська територіал'!B16+'Вендичанська селищна територіал'!B16+'Могилів-Подільська міська терит'!B16+'Мурованокуриловецька селищна те'!B16+'Чернівецька селищна територіаль'!B16+'Ямпільська міська територіальна'!B16+'Яришівська сільська територіаль'!B16 -> 0 | C16: ='Бабчинецька сільська територіал'!C16+'Вендичанська селищна територіал'!C16+'Могилів-Подільська міська терит'!C16+'Мурованокуриловецька селищна те'!C16+'Чернівецька селищна територіаль'!C16+'Ямпільська міська територіальна'!C16+'Яришівська сільська територіаль'!C16 -> 0 | D16: ='Бабчинецька сільська територіал'!D16+'Вендичанська селищна територіал'!D16+'Могилів-Подільська міська терит'!D16+'Мурованокуриловецька селищна те'!D16+'Чернівецька селищна територіаль'!D16+'Ямпільська міська територіальна'!D16+'Яришівська сільська територіаль'!D16 -> 0 | E16: ='Бабчинецька сільська територіал'!E16+'Вендичанська селищна територіал'!E16+'Могилів-Подільська міська терит'!E16+'Мурованокуриловецька селищна те'!E16+'Чернівецька селищна територіаль'!E16+'Ямпільська міська територіальна'!E16+'Яришівська сільська територіаль'!E16 -> 0 | F16: ='Бабчинецька сільська територіал'!F16+'Вендичанська селищна територіал'!F16+'Могилів-Подільська міська терит'!F16+'Мурованокуриловецька селищна те'!F16+'Чернівецька селищна територіаль'!F16+'Ямпільська міська територіальна'!F16+'Яришівська сільська територіаль'!F16 -> 0 | G16: ='Бабчинецька сільська територіал'!G16+'Вендичанська селищна територіал'!G16+'Могилів-Подільська міська терит'!G16+'Мурованокуриловецька селищна те'!G16+'Чернівецька селищна територіаль'!G16+'Ямпільська міська територіальна'!G16+'Яришівська сільська територіаль'!G16 -> 0 | H16: ='Бабчинецька сільська територіал'!H16+'Вендичанська селищна територіал'!H16+'Могилів-Подільська міська терит'!H16+'Мурованокуриловецька селищна те'!H16+'Чернівецька селищна територіаль'!H16+'Ямпільська міська територіальна'!H16+'Яришівська сільська територіаль'!H16 -> 0 | I16: ='Бабчинецька сільська територіал'!I16+'Вендичанська селищна територіал'!I16+'Могилів-Подільська міська терит'!I16+'Мурованокуриловецька селищна те'!I16+'Чернівецька селищна територіаль'!I16+'Ямпільська міська територіальна'!I16+'Яришівська сільська територіаль'!I16 -> 0 | J16: ='Бабчинецька сільська територіал'!J16+'Вендичанська селищна територіал'!J16+'Могилів-Подільська міська терит'!J16+'Мурованокуриловецька селищна те'!J16+'Чернівецька селищна територіаль'!J16+'Ямпільська міська територіальна'!J16+'Яришівська сільська територіаль'!J16 -> 0
A17: Консультування | B17: ='Бабчинецька сільська територіал'!B17+'Вендичанська селищна територіал'!B17+'Могилів-Подільська міська терит'!B17+'Мурованокуриловецька селищна те'!B17+'Чернівецька селищна територіаль'!B17+'Ямпільська міська територіальна'!B17+'Яришівська сільська територіаль'!B17 -> 1712 | C17: ='Бабчинецька сільська територіал'!C17+'Вендичанська селищна територіал'!C17+'Могилів-Подільська міська терит'!C17+'Мурованокуриловецька селищна те'!C17+'Чернівецька селищна територіаль'!C17+'Ямпільська міська територіальна'!C17+'Яришівська сільська територіаль'!C17 -> 1712 | D17: ='Бабчинецька сільська територіал'!D17+'Вендичанська селищна територіал'!D17+'Могилів-Подільська міська терит'!D17+'Мурованокуриловецька селищна те'!D17+'Чернівецька селищна територіаль'!D17+'Ямпільська міська територіальна'!D17+'Яришівська сільська територіаль'!D17 -> 2051 | E17: ='Бабчинецька сільська територіал'!E17+'Вендичанська селищна територіал'!E17+'Могилів-Подільська міська терит'!E17+'Мурованокуриловецька селищна те'!E17+'Чернівецька селищна територіаль'!E17+'Ямпільська міська територіальна'!E17+'Яришівська сільська територіаль'!E17 -> 1653 | F17: ='Бабчинецька сільська територіал'!F17+'Вендичанська селищна територіал'!F17+'Могилів-Подільська міська терит'!F17+'Мурованокуриловецька селищна те'!F17+'Чернівецька селищна територіаль'!F17+'Ямпільська міська територіальна'!F17+'Яришівська сільська територіаль'!F17 -> 206 | G17: ='Бабчинецька сільська територіал'!G17+'Вендичанська селищна територіал'!G17+'Могилів-Подільська міська терит'!G17+'Мурованокуриловецька селищна те'!G17+'Чернівецька селищна територіаль'!G17+'Ямпільська міська територіальна'!G17+'Яришівська сільська територіаль'!G17 -> 475 | H17: ='Бабчинецька сільська територіал'!H17+'Вендичанська селищна територіал'!H17+'Могилів-Подільська міська терит'!H17+'Мурованокуриловецька селищна те'!H17+'Чернівецька селищна територіаль'!H17+'Ямпільська міська територіальна'!H17+'Яришівська сільська територіаль'!H17 -> 0 | I17: ='Бабчинецька сільська територіал'!I17+'Вендичанська селищна територіал'!I17+'Могилів-Подільська міська терит'!I17+'Мурованокуриловецька селищна те'!I17+'Чернівецька селищна територіаль'!I17+'Ямпільська міська територіальна'!I17+'Яришівська сільська територіаль'!I17 -> 0 | J17: ='Бабчинецька сільська територіал'!J17+'Вендичанська селищна територіал'!J17+'Могилів-Подільська міська терит'!J17+'Мурованокуриловецька селищна те'!J17+'Чернівецька селищна територіаль'!J17+'Ямпільська міська територіальна'!J17+'Яришівська сільська територіаль'!J17 -> 0
A18: Соціальний супровід сімей/осіб, які перебувають у складних життєвих обставинах | B18: ='Бабчинецька сільська територіал'!B18+'Вендичанська селищна територіал'!B18+'Могилів-Подільська міська терит'!B18+'Мурованокуриловецька селищна те'!B18+'Чернівецька селищна територіаль'!B18+'Ямпільська міська територіальна'!B18+'Яришівська сільська територіаль'!B18 -> 103 | C18: ='Бабчинецька сільська територіал'!C18+'Вендичанська селищна територіал'!C18+'Могилів-Подільська міська терит'!C18+'Мурованокуриловецька селищна те'!C18+'Чернівецька селищна територіаль'!C18+'Ямпільська міська територіальна'!C18+'Яришівська сільська територіаль'!C18 -> 103 | D18: ='Бабчинецька сільська територіал'!D18+'Вендичанська селищна територіал'!D18+'Могилів-Подільська міська терит'!D18+'Мурованокуриловецька селищна те'!D18+'Чернівецька селищна територіаль'!D18+'Ямпільська міська територіальна'!D18+'Яришівська сільська територіаль'!D18 -> 126 | E18: ='Бабчинецька сільська територіал'!E18+'Вендичанська селищна територіал'!E18+'Могилів-Подільська міська терит'!E18+'Мурованокуриловецька селищна те'!E18+'Чернівецька селищна територіаль'!E18+'Ямпільська міська територіальна'!E18+'Яришівська сільська територіаль'!E18 -> 95 | F18: ='Бабчинецька сільська територіал'!F18+'Вендичанська селищна територіал'!F18+'Могилів-Подільська міська терит'!F18+'Мурованокуриловецька селищна те'!F18+'Чернівецька селищна територіаль'!F18+'Ямпільська міська територіальна'!F18+'Яришівська сільська територіаль'!F18 -> 3 | G18: ='Бабчинецька сільська територіал'!G18+'Вендичанська селищна територіал'!G18+'Могилів-Подільська міська терит'!G18+'Мурованокуриловецька селищна те'!G18+'Чернівецька селищна територіаль'!G18+'Ямпільська міська територіальна'!G18+'Яришівська сільська територіаль'!G18 -> 29 | H18: ='Бабчинецька сільська територіал'!H18+'Вендичанська селищна територіал'!H18+'Могилів-Подільська міська терит'!H18+'Мурованокуриловецька селищна те'!H18+'Чернівецька селищна територіаль'!H18+'Ямпільська міська територіальна'!H18+'Яришівська сільська територіаль'!H18 -> 41 | I18: ='Бабчинецька сільська територіал'!I18+'Вендичанська селищна територіал'!I18+'Могилів-Подільська міська терит'!I18+'Мурованокуриловецька селищна те'!I18+'Чернівецька селищна територіаль'!I18+'Ямпільська міська територіальна'!I18+'Яришівська сільська територіаль'!I18 -> 0 | J18: ='Бабчинецька сільська територіал'!J18+'Вендичанська селищна територіал'!J18+'Могилів-Подільська міська терит'!J18+'Мурованокуриловецька селищна те'!J18+'Чернівецька селищна територіаль'!J18+'Ямпільська міська територіальна'!J18+'Яришівська сільська територіаль'!J18 -> 0
A19: Соціальний супровід сімей, у яких виховуються діти-сироти і діти, позбавлені батьківського піклування | B19: ='Бабчинецька сільська територіал'!B19+'Вендичанська селищна територіал'!B19+'Могилів-Подільська міська терит'!B19+'Мурованокуриловецька селищна те'!B19+'Чернівецька селищна територіаль'!B19+'Ямпільська міська територіальна'!B19+'Яришівська сільська територіаль'!B19 -> 81 | C19: ='Бабчинецька сільська територіал'!C19+'Вендичанська селищна територіал'!C19+'Могилів-Подільська міська терит'!C19+'Мурованокуриловецька селищна те'!C19+'Чернівецька селищна територіаль'!C19+'Ямпільська міська територіальна'!C19+'Яришівська сільська територіаль'!C19 -> 81 | D19: ='Бабчинецька сільська територіал'!D19+'Вендичанська селищна територіал'!D19+'Могилів-Подільська міська терит'!D19+'Мурованокуриловецька селищна те'!D19+'Чернівецька селищна територіаль'!D19+'Ямпільська міська територіальна'!D19+'Яришівська сільська територіаль'!D19 -> 94 | E19: ='Бабчинецька сільська територіал'!E19+'Вендичанська селищна територіал'!E19+'Могилів-Подільська міська терит'!E19+'Мурованокуриловецька селищна те'!E19+'Чернівецька селищна територіаль'!E19+'Ямпільська міська територіальна'!E19+'Яришівська сільська територіаль'!E19 -> 81 | F19: ='Бабчинецька сільська територіал'!F19+'Вендичанська селищна територіал'!F19+'Могилів-Подільська міська терит'!F19+'Мурованокуриловецька селищна те'!F19+'Чернівецька селищна територіаль'!F19+'Ямпільська міська територіальна'!F19+'Яришівська сільська територіаль'!F19 -> 2 | G19: ='Бабчинецька сільська територіал'!G19+'Вендичанська селищна територіал'!G19+'Могилів-Подільська міська терит'!G19+'Мурованокуриловецька селищна те'!G19+'Чернівецька селищна територіаль'!G19+'Ямпільська міська територіальна'!G19+'Яришівська сільська територіаль'!G19 -> 87 | H19: ='Бабчинецька сільська територіал'!H19+'Вендичанська селищна територіал'!H19+'Могилів-Подільська міська терит'!H19+'Мурованокуриловецька селищна те'!H19+'Чернівецька селищна територіаль'!H19+'Ямпільська міська територіальна'!H19+'Яришівська сільська територіаль'!H19 -> 0 | I19: ='Бабчинецька сільська територіал'!I19+'Вендичанська селищна територіал'!I19+'Могилів-Подільська міська терит'!I19+'Мурованокуриловецька селищна те'!I19+'Чернівецька селищна територіаль'!I19+'Ямпільська міська територіальна'!I19+'Яришівська сільська територіаль'!I19 -> 0 | J19: ='Бабчинецька сільська територіал'!J19+'Вендичанська селищна територіал'!J19+'Могилів-Подільська міська терит'!J19+'Мурованокуриловецька селищна те'!J19+'Чернівецька селищна територіаль'!J19+'Ямпільська міська територіальна'!J19+'Яришівська сільська територіаль'!J19 -> 0
A20: Соціальний супровід при працевлаштуванні та на робочому місці | B20: ='Бабчинецька сільська територіал'!B20+'Вендичанська селищна територіал'!B20+'Могилів-Подільська міська терит'!B20+'Мурованокуриловецька селищна те'!B20+'Чернівецька селищна територіаль'!B20+'Ямпільська міська територіальна'!B20+'Яришівська сільська територіаль'!B20 -> 0 | C20: ='Бабчинецька сільська територіал'!C20+'Вендичанська селищна територіал'!C20+'Могилів-Подільська міська терит'!C20+'Мурованокуриловецька селищна те'!C20+'Чернівецька селищна територіаль'!C20+'Ямпільська міська територіальна'!C20+'Яришівська сільська територіаль'!C20 -> 0 | D20: ='Бабчинецька сільська територіал'!D20+'Вендичанська селищна територіал'!D20+'Могилів-Подільська міська терит'!D20+'Мурованокуриловецька селищна те'!D20+'Чернівецька селищна територіаль'!D20+'Ямпільська міська територіальна'!D20+'Яришівська сільська територіаль'!D20 -> 0 | E20: × | F20: × | G20: × | H20: × | I20: × | J20: ×
A21: Представництво інтересів | B21: ='Бабчинецька сільська територіал'!B21+'Вендичанська селищна територіал'!B21+'Могилів-Подільська міська терит'!B21+'Мурованокуриловецька селищна те'!B21+'Чернівецька селищна територіаль'!B21+'Ямпільська міська територіальна'!B21+'Яришівська сільська територіаль'!B21 -> 0 | C21: ='Бабчинецька сільська територіал'!C21+'Вендичанська селищна територіал'!C21+'Могилів-Подільська міська терит'!C21+'Мурованокуриловецька селищна те'!C21+'Чернівецька селищна територіаль'!C21+'Ямпільська міська територіальна'!C21+'Яришівська сільська територіаль'!C21 -> 0 | D21: ='Бабчинецька сільська територіал'!D21+'Вендичанська селищна територіал'!D21+'Могилів-Подільська міська терит'!D21+'Мурованокуриловецька селищна те'!D21+'Чернівецька селищна територіаль'!D21+'Ямпільська міська територіальна'!D21+'Яришівська сільська територіаль'!D21 -> 0 | E21: ='Бабчинецька сільська територіал'!E21+'Вендичанська селищна територіал'!E21+'Могилів-Подільська міська терит'!E21+'Мурованокуриловецька селищна те'!E21+'Чернівецька селищна територіаль'!E21+'Ямпільська міська територіальна'!E21+'Яришівська сільська територіаль'!E21 -> 0 | F21: ='Бабчинецька сільська територіал'!F21+'Вендичанська селищна територіал'!F21+'Могилів-Подільська міська терит'!F21+'Мурованокуриловецька селищна те'!F21+'Чернівецька селищна територіаль'!F21+'Ямпільська міська територіальна'!F21+'Яришівська сільська територіаль'!F21 -> 0 | G21: ='Бабчинецька сільська територіал'!G21+'Вендичанська селищна територіал'!G21+'Могилів-Подільська міська терит'!G21+'Мурованокуриловецька селищна те'!G21+'Чернівецька селищна територіаль'!G21+'Ямпільська міська територіальна'!G21+'Яришівська сільська територіаль'!G21 -> 0 | H21: ='Бабчинецька сільська територіал'!H21+'Вендичанська селищна територіал'!H21+'Могилів-Подільська міська терит'!H21+'Мурованокуриловецька селищна те'!H21+'Чернівецька селищна територіаль'!H21+'Ямпільська міська територіальна'!H21+'Яришівська сільська територіаль'!H21 -> 0 | I21: ='Бабчинецька сільська територіал'!I21+'Вендичанська селищна територіал'!I21+'Могилів-Подільська міська терит'!I21+'Мурованокуриловецька селищна те'!I21+'Чернівецька селищна територіаль'!I21+'Ямпільська міська територіальна'!I21+'Яришівська сільська територіаль'!I21 -> 0 | J21: ='Бабчинецька сільська територіал'!J21+'Вендичанська селищна територіал'!J21+'Могилів-Подільська міська терит'!J21+'Мурованокуриловецька селищна те'!J21+'Чернівецька селищна територіаль'!J21+'Ямпільська міська територіальна'!J21+'Яришівська сільська територіаль'!J21 -> 0
A22: Посередництво | B22: ='Бабчинецька сільська територіал'!B22+'Вендичанська селищна територіал'!B22+'Могилів-Подільська міська терит'!B22+'Мурованокуриловецька селищна те'!B22+'Чернівецька селищна територіаль'!B22+'Ямпільська міська територіальна'!B22+'Яришівська сільська територіаль'!B22 -> 0 | C22: ='Бабчинецька сільська територіал'!C22+'Вендичанська селищна територіал'!C22+'Могилів-Подільська міська терит'!C22+'Мурованокуриловецька селищна те'!C22+'Чернівецька селищна територіаль'!C22+'Ямпільська міська територіальна'!C22+'Яришівська сільська територіаль'!C22 -> 0 | D22: ='Бабчинецька сільська територіал'!D22+'Вендичанська селищна територіал'!D22+'Могилів-Подільська міська терит'!D22+'Мурованокуриловецька селищна те'!D22+'Чернівецька селищна територіаль'!D22+'Ямпільська міська територіальна'!D22+'Яришівська сільська територіаль'!D22 -> 0 | E22: × | F22: × | G22: × | H22: × | I22: × | J22: ×
A23: Соціальна профілактика | B23: ='Бабчинецька сільська територіал'!B23+'Вендичанська селищна територіал'!B23+'Могилів-Подільська міська терит'!B23+'Мурованокуриловецька селищна те'!B23+'Чернівецька селищна територіаль'!B23+'Ямпільська міська територіальна'!B23+'Яришівська сільська територіаль'!B23 -> 6 | C23: ='Бабчинецька сільська територіал'!C23+'Вендичанська селищна територіал'!C23+'Могилів-Подільська міська терит'!C23+'Мурованокуриловецька селищна те'!C23+'Чернівецька селищна територіаль'!C23+'Ямпільська міська територіальна'!C23+'Яришівська сільська територіаль'!C23 -> 6 | D23: ='Бабчинецька сільська територіал'!D23+'Вендичанська селищна територіал'!D23+'Могилів-Подільська міська терит'!D23+'Мурованокуриловецька селищна те'!D23+'Чернівецька селищна територіаль'!D23+'Ямпільська міська територіальна'!D23+'Яришівська сільська територіаль'!D23 -> 6 | E23: × | F23: × | G23: × | H23: × | I23: × | J23: ×
A24: Натуральна допомога | B24: ='Бабчинецька сільська територіал'!B24+'Вендичанська селищна територіал'!B24+'Могилів-Подільська міська терит'!B24+'Мурованокуриловецька селищна те'!B24+'Чернівецька селищна територіаль'!B24+'Ямпільська міська територіальна'!B24+'Яришівська сільська територіаль'!B24 -> 587 | C24: ='Бабчинецька сільська територіал'!C24+'Вендичанська селищна територіал'!C24+'Могилів-Подільська міська терит'!C24+'Мурованокуриловецька селищна те'!C24+'Чернівецька селищна територіаль'!C24+'Ямпільська міська територіальна'!C24+'Яришівська сільська територіаль'!C24 -> 587 | D24: ='Бабчинецька сільська територіал'!D24+'Вендичанська селищна територіал'!D24+'Могилів-Подільська міська терит'!D24+'Мурованокуриловецька селищна те'!D24+'Чернівецька селищна територіаль'!D24+'Ямпільська міська територіальна'!D24+'Яришівська сільська територіаль'!D24 -> 1315 | E24: ='Бабчинецька сільська територіал'!E24+'Вендичанська селищна територіал'!E24+'Могилів-Подільська міська терит'!E24+'Мурованокуриловецька селищна те'!E24+'Чернівецька селищна територіаль'!E24+'Ямпільська міська територіальна'!E24+'Яришівська сільська територіаль'!E24 -> 587 | F24: ='Бабчинецька сільська територіал'!F24+'Вендичанська селищна територіал'!F24+'Могилів-Подільська міська терит'!F24+'Мурованокуриловецька селищна те'!F24+'Чернівецька селищна територіаль'!F24+'Ямпільська міська територіальна'!F24+'Яришівська сільська територіаль'!F24 -> 147 | G24: ='Бабчинецька сільська територіал'!G24+'Вендичанська селищна територіал'!G24+'Могилів-Подільська міська терит'!G24+'Мурованокуриловецька селищна те'!G24+'Чернівецька селищна територіаль'!G24+'Ямпільська міська територіальна'!G24+'Яришівська сільська територіаль'!G24 -> 212 | H24: ='Бабчинецька сільська територіал'!H24+'Вендичанська селищна територіал'!H24+'Могилів-Подільська міська терит'!H24+'Мурованокуриловецька селищна те'!H24+'Чернівецька селищна територіаль'!H24+'Ямпільська міська територіальна'!H24+'Яришівська сільська територіаль'!H24 -> 0 | I24: ='Бабчинецька сільська територіал'!I24+'Вендичанська селищна територіал'!I24+'Могилів-Подільська міська терит'!I24+'Мурованокуриловецька селищна те'!I24+'Чернівецька селищна територіаль'!I24+'Ямпільська міська територіальна'!I24+'Яришівська сільська територіаль'!I24 -> 0 | J24: ='Бабчинецька сільська територіал'!J24+'Вендичанська селищна територіал'!J24+'Могилів-Подільська міська терит'!J24+'Мурованокуриловецька селищна те'!J24+'Чернівецька селищна територіаль'!J24+'Ямпільська міська територіальна'!J24+'Яришівська сільська територіаль'!J24 -> 0
A25: Фізичний супровід осіб з інвалідністю, які мають порушення опорно-рухового апарату та пересуваються на кріслах колісних, з інтелектуальним, сенсорними, фізичними, моторними, психічними та поведінковими порушеннями | B25: ='Бабчинецька сільська територіал'!B25+'Вендичанська селищна територіал'!B25+'Могилів-Подільська міська терит'!B25+'Мурованокуриловецька селищна те'!B25+'Чернівецька селищна територіаль'!B25+'Ямпільська міська територіальна'!B25+'Яришівська сільська територіаль'!B25 -> 0 | C25: ='Бабчинецька сільська територіал'!C25+'Вендичанська селищна територіал'!C25+'Могилів-Подільська міська терит'!C25+'Мурованокуриловецька селищна те'!C25+'Чернівецька селищна територіаль'!C25+'Ямпільська міська територіальна'!C25+'Яришівська сільська територіаль'!C25 -> 0 | D25: ='Бабчинецька сільська територіал'!D25+'Вендичанська селищна територіал'!D25+'Могилів-Подільська міська терит'!D25+'Мурованокуриловецька селищна те'!D25+'Чернівецька селищна територіаль'!D25+'Ямпільська міська територіальна'!D25+'Яришівська сільська територіаль'!D25 -> 0 | E25: × | F25: × | G25: × | H25: × | I25: × | J25: ×
A26: Переклад жестовою мовою | B26: ='Бабчинецька сільська територіал'!B26+'Вендичанська селищна територіал'!B26+'Могилів-Подільська міська терит'!B26+'Мурованокуриловецька селищна те'!B26+'Чернівецька селищна територіаль'!B26+'Ямпільська міська територіальна'!B26+'Яришівська сільська територіаль'!B26 -> 0 | C26: ='Бабчинецька сільська територіал'!C26+'Вендичанська селищна територіал'!C26+'Могилів-Подільська міська терит'!C26+'Мурованокуриловецька селищна те'!C26+'Чернівецька селищна територіаль'!C26+'Ямпільська міська територіальна'!C26+'Яришівська сільська територіаль'!C26 -> 0 | D26: ='Бабчинецька сільська територіал'!D26+'Вендичанська селищна територіал'!D26+'Могилів-Подільська міська терит'!D26+'Мурованокуриловецька селищна те'!D26+'Чернівецька селищна територіаль'!D26+'Ямпільська міська територіальна'!D26+'Яришівська сільська територіаль'!D26 -> 0 | E26: ='Бабчинецька сільська територіал'!E26+'Вендичанська селищна територіал'!E26+'Могилів-Подільська міська терит'!E26+'Мурованокуриловецька селищна те'!E26+'Чернівецька селищна територіаль'!E26+'Ямпільська міська територіальна'!E26+'Яришівська сільська територіаль'!E26 -> 0 | F26: ='Бабчинецька сільська територіал'!F26+'Вендичанська селищна територіал'!F26+'Могилів-Подільська міська терит'!F26+'Мурованокуриловецька селищна те'!F26+'Чернівецька селищна територіаль'!F26+'Ямпільська міська територіальна'!F26+'Яришівська сільська територіаль'!F26 -> 0 | G26: ='Бабчинецька сільська територіал'!G26+'Вендичанська селищна територіал'!G26+'Могилів-Подільська міська терит'!G26+'Мурованокуриловецька селищна те'!G26+'Чернівецька селищна територіаль'!G26+'Ямпільська міська територіальна'!G26+'Яришівська сільська територіаль'!G26 -> 0 | H26: ='Бабчинецька сільська територіал'!H26+'Вендичанська селищна територіал'!H26+'Могилів-Подільська міська терит'!H26+'Мурованокуриловецька селищна те'!H26+'Чернівецька селищна територіаль'!H26+'Ямпільська міська територіальна'!H26+'Яришівська сільська територіаль'!H26 -> 0 | I26: ='Бабчинецька сільська територіал'!I26+'Вендичанська селищна територіал'!I26+'Могилів-Подільська міська терит'!I26+'Мурованокуриловецька селищна те'!I26+'Чернівецька селищна територіаль'!I26+'Ямпільська міська територіальна'!I26+'Яришівська сільська територіаль'!I26 -> 0 | J26: ='Бабчинецька сільська територіал'!J26+'Вендичанська селищна територіал'!J26+'Могилів-Подільська міська терит'!J26+'Мурованокуриловецька селищна те'!J26+'Чернівецька селищна територіаль'!J26+'Ямпільська міська територіальна'!J26+'Яришівська сільська територіаль'!J26 -> 0
A27: Догляд та виховання дітей в умовах, наближених до сімейних | B27: ='Бабчинецька сільська територіал'!B27+'Вендичанська селищна територіал'!B27+'Могилів-Подільська міська терит'!B27+'Мурованокуриловецька селищна те'!B27+'Чернівецька селищна територіаль'!B27+'Ямпільська міська територіальна'!B27+'Яришівська сільська територіаль'!B27 -> 0 | C27: ='Бабчинецька сільська територіал'!C27+'Вендичанська селищна територіал'!C27+'Могилів-Подільська міська терит'!C27+'Мурованокуриловецька селищна те'!C27+'Чернівецька селищна територіаль'!C27+'Ямпільська міська територіальна'!C27+'Яришівська сільська територіаль'!C27 -> 0 | D27: ='Бабчинецька сільська територіал'!D27+'Вендичанська селищна територіал'!D27+'Могилів-Подільська міська терит'!D27+'Мурованокуриловецька селищна те'!D27+'Чернівецька селищна територіаль'!D27+'Ямпільська міська територіальна'!D27+'Яришівська сільська територіаль'!D27 -> 0 | E27: × | F27: × | G27: × | H27: × | I27: × | J27: ×
A28: Супровід під час інклюзивного навчання | B28: ='Бабчинецька сільська територіал'!B28+'Вендичанська селищна територіал'!B28+'Могилів-Подільська міська терит'!B28+'Мурованокуриловецька селищна те'!B28+'Чернівецька селищна територіаль'!B28+'Ямпільська міська територіальна'!B28+'Яришівська сільська територіаль'!B28 -> 0 | C28: ='Бабчинецька сільська територіал'!C28+'Вендичанська селищна територіал'!C28+'Могилів-Подільська міська терит'!C28+'Мурованокуриловецька селищна те'!C28+'Чернівецька селищна територіаль'!C28+'Ямпільська міська територіальна'!C28+'Яришівська сільська територіаль'!C28 -> 0 | D28: ='Бабчинецька сільська територіал'!D28+'Вендичанська селищна територіал'!D28+'Могилів-Подільська міська терит'!D28+'Мурованокуриловецька селищна те'!D28+'Чернівецька селищна територіаль'!D28+'Ямпільська міська територіальна'!D28+'Яришівська сільська територіаль'!D28 -> 1 | E28: × | F28: × | G28: × | H28: × | I28: × | J28: ×
A29: Інформування | B29: ='Бабчинецька сільська територіал'!B29+'Вендичанська селищна територіал'!B29+'Могилів-Подільська міська терит'!B29+'Мурованокуриловецька селищна те'!B29+'Чернівецька селищна територіаль'!B29+'Ямпільська міська територіальна'!B29+'Яришівська сільська територіаль'!B29 -> 2015 | C29: ='Бабчинецька сільська територіал'!C29+'Вендичанська селищна територіал'!C29+'Могилів-Подільська міська терит'!C29+'Мурованокуриловецька селищна те'!C29+'Чернівецька селищна територіаль'!C29+'Ямпільська міська територіальна'!C29+'Яришівська сільська територіаль'!C29 -> 2015 | D29: ='Бабчинецька сільська територіал'!D29+'Вендичанська селищна територіал'!D29+'Могилів-Подільська міська терит'!D29+'Мурованокуриловецька селищна те'!D29+'Чернівецька селищна територіаль'!D29+'Ямпільська міська територіальна'!D29+'Яришівська сільська територіаль'!D29 -> 2403 | E29: ='Бабчинецька сільська територіал'!E29+'Вендичанська селищна територіал'!E29+'Могилів-Подільська міська терит'!E29+'Мурованокуриловецька селищна те'!E29+'Чернівецька селищна територіаль'!E29+'Ямпільська міська територіальна'!E29+'Яришівська сільська територіаль'!E29 -> 1936 | F29: ='Бабчинецька сільська територіал'!F29+'Вендичанська селищна територіал'!F29+'Могилів-Подільська міська терит'!F29+'Мурованокуриловецька селищна те'!F29+'Чернівецька селищна територіаль'!F29+'Ямпільська міська територіальна'!F29+'Яришівська сільська територіаль'!F29 -> 233 | G29: ='Бабчинецька сільська територіал'!G29+'Вендичанська селищна територіал'!G29+'Могилів-Подільська міська терит'!G29+'Мурованокуриловецька селищна те'!G29+'Чернівецька селищна територіаль'!G29+'Ямпільська міська територіальна'!G29+'Яришівська сільська територіаль'!G29 -> 497 | H29: ='Бабчинецька сільська територіал'!H29+'Вендичанська селищна територіал'!H29+'Могилів-Подільська міська терит'!H29+'Мурованокуриловецька селищна те'!H29+'Чернівецька селищна територіаль'!H29+'Ямпільська міська територіальна'!H29+'Яришівська сільська територіаль'!H29 -> 0 | I29: ='Бабчинецька сільська територіал'!I29+'Вендичанська селищна територіал'!I29+'Могилів-Подільська міська терит'!I29+'Мурованокуриловецька селищна те'!I29+'Чернівецька селищна територіаль'!I29+'Ямпільська міська територіальна'!I29+'Яришівська сільська територіаль'!I29 -> 0 | J29: ='Бабчинецька сільська територіал'!J29+'Вендичанська селищна територіал'!J29+'Могилів-Подільська міська терит'!J29+'Мурованокуриловецька селищна те'!J29+'Чернівецька селищна територіаль'!J29+'Ямпільська міська територіальна'!J29+'Яришівська сільська територіаль'!J29 -> 0
A30: Медіація | B30: ='Бабчинецька сільська територіал'!B30+'Вендичанська селищна територіал'!B30+'Могилів-Подільська міська терит'!B30+'Мурованокуриловецька селищна те'!B30+'Чернівецька селищна територіаль'!B30+'Ямпільська міська територіальна'!B30+'Яришівська сільська територіаль'!B30 -> 0 | C30: ='Бабчинецька сільська територіал'!C30+'Вендичанська селищна територіал'!C30+'Могилів-Подільська міська терит'!C30+'Мурованокуриловецька селищна те'!C30+'Чернівецька селищна територіаль'!C30+'Ямпільська міська територіальна'!C30+'Яришівська сільська територіаль'!C30 -> 0 | D30: ='Бабчинецька сільська територіал'!D30+'Вендичанська селищна територіал'!D30+'Могилів-Подільська міська терит'!D30+'Мурованокуриловецька селищна те'!D30+'Чернівецька селищна територіаль'!D30+'Ямпільська міська територіальна'!D30+'Яришівська сільська територіаль'!D30 -> 0 | E30: × | F30: × | G30: × | H30: × | I30: × | J30: ×
A31: Інші соціальні послуги
A32: Консультативний кризовий телефон | B32: ='Бабчинецька сільська територіал'!B32+'Вендичанська селищна територіал'!B32+'Могилів-Подільська міська терит'!B32+'Мурованокуриловецька селищна те'!B32+'Чернівецька селищна територіаль'!B32+'Ямпільська міська територіальна'!B32+'Яришівська сільська територіаль'!B32 -> 0 | C32: ='Бабчинецька сільська територіал'!C32+'Вендичанська селищна територіал'!C32+'Могилів-Подільська міська терит'!C32+'Мурованокуриловецька селищна те'!C32+'Чернівецька селищна територіаль'!C32+'Ямпільська міська територіальна'!C32+'Яришівська сільська територіаль'!C32 -> 0 | D32: ='Бабчинецька сільська територіал'!D32+'Вендичанська селищна територіал'!D32+'Могилів-Подільська міська терит'!D32+'Мурованокуриловецька селищна те'!D32+'Чернівецька селищна територіаль'!D32+'Ямпільська міська територіальна'!D32+'Яришівська сільська територіаль'!D32 -> 0 | E32: ='Бабчинецька сільська територіал'!E32+'Вендичанська селищна територіал'!E32+'Могилів-Подільська міська терит'!E32+'Мурованокуриловецька селищна те'!E32+'Чернівецька селищна територіаль'!E32+'Ямпільська міська територіальна'!E32+'Яришівська сільська територіаль'!E32 -> 0 | F32: ='Бабчинецька сільська територіал'!F32+'Вендичанська селищна територіал'!F32+'Могилів-Подільська міська терит'!F32+'Мурованокуриловецька селищна те'!F32+'Чернівецька селищна територіаль'!F32+'Ямпільська міська територіальна'!F32+'Яришівська сільська територіаль'!F32 -> 0 | G32: ='Бабчинецька сільська територіал'!G32+'Вендичанська селищна територіал'!G32+'Могилів-Подільська міська терит'!G32+'Мурованокуриловецька селищна те'!G32+'Чернівецька селищна територіаль'!G32+'Ямпільська міська територіальна'!G32+'Яришівська сільська територіаль'!G32 -> 0 | H32: ='Бабчинецька сільська територіал'!H32+'Вендичанська селищна територіал'!H32+'Могилів-Подільська міська терит'!H32+'Мурованокуриловецька селищна те'!H32+'Чернівецька селищна територіаль'!H32+'Ямпільська міська територіальна'!H32+'Яришівська сільська територіаль'!H32 -> 0 | I32: ='Бабчинецька сільська територіал'!I32+'Вендичанська селищна територіал'!I32+'Могилів-Подільська міська терит'!I32+'Мурованокуриловецька селищна те'!I32+'Чернівецька селищна територіаль'!I32+'Ямпільська міська територіальна'!I32+'Яришівська сільська територіаль'!I32 -> 0 | J32: ='Бабчинецька сільська територіал'!J32+'Вендичанська селищна територіал'!J32+'Могилів-Подільська міська терит'!J32+'Мурованокуриловецька селищна те'!J32+'Чернівецька селищна територіаль'!J32+'Ямпільська міська територіальна'!J32+'Яришівська сільська територіаль'!J32 -> 0
A33: Нічний притулок | B33: ='Бабчинецька сільська територіал'!B33+'Вендичанська селищна територіал'!B33+'Могилів-Подільська міська терит'!B33+'Мурованокуриловецька селищна те'!B33+'Чернівецька селищна територіаль'!B33+'Ямпільська міська територіальна'!B33+'Яришівська сільська територіаль'!B33 -> 0 | C33: ='Бабчинецька сільська територіал'!C33+'Вендичанська селищна територіал'!C33+'Могилів-Подільська міська терит'!C33+'Мурованокуриловецька селищна те'!C33+'Чернівецька селищна територіаль'!C33+'Ямпільська міська територіальна'!C33+'Яришівська сільська територіаль'!C33 -> 0 | D33: ='Бабчинецька сільська територіал'!D33+'Вендичанська селищна територіал'!D33+'Могилів-Подільська міська терит'!D33+'Мурованокуриловецька селищна те'!D33+'Чернівецька селищна територіаль'!D33+'Ямпільська міська територіальна'!D33+'Яришівська сільська територіаль'!D33 -> 0 | E33: ='Бабчинецька сільська територіал'!E33+'Вендичанська селищна територіал'!E33+'Могилів-Подільська міська терит'!E33+'Мурованокуриловецька селищна те'!E33+'Чернівецька селищна територіаль'!E33+'Ямпільська міська територіальна'!E33+'Яришівська сільська територіаль'!E33 -> 0 | F33: ='Бабчинецька сільська територіал'!F33+'Вендичанська селищна територіал'!F33+'Могилів-Подільська міська терит'!F33+'Мурованокуриловецька селищна те'!F33+'Чернівецька селищна територіаль'!F33+'Ямпільська міська територіальна'!F33+'Яришівська сільська територіаль'!F33 -> 0 | G33: ='Бабчинецька сільська територіал'!G33+'Вендичанська селищна територіал'!G33+'Могилів-Подільська міська терит'!G33+'Мурованокуриловецька селищна те'!G33+'Чернівецька селищна територіаль'!G33+'Ямпільська міська територіальна'!G33+'Яришівська сільська територіаль'!G33 -> 0 | H33: ='Бабчинецька сільська територіал'!H33+'Вендичанська селищна територіал'!H33+'Могилів-Подільська міська терит'!H33+'Мурованокуриловецька селищна те'!H33+'Чернівецька селищна територіаль'!H33+'Ямпільська міська територіальна'!H33+'Яришівська сільська територіаль'!H33 -> 0 | I33: ='Бабчинецька сільська територіал'!I33+'Вендичанська селищна територіал'!I33+'Могилів-Подільська міська терит'!I33+'Мурованокуриловецька селищна те'!I33+'Чернівецька селищна територіаль'!I33+'Ямпільська міська територіальна'!I33+'Яришівська сільська територіаль'!I33 -> 0 | J33: ='Бабчинецька сільська територіал'!J33+'Вендичанська селищна територіал'!J33+'Могилів-Подільська міська терит'!J33+'Мурованокуриловецька селищна те'!J33+'Чернівецька селищна територіаль'!J33+'Ямпільська міська територіальна'!J33+'Яришівська сільська територіаль'!J33 -> 0
A34: Короткотермінове проживання | B34: ='Бабчинецька сільська територіал'!B34+'Вендичанська селищна територіал'!B34+'Могилів-Подільська міська терит'!B34+'Мурованокуриловецька селищна те'!B34+'Чернівецька селищна територіаль'!B34+'Ямпільська міська територіальна'!B34+'Яришівська сільська територіаль'!B34 -> 0 | C34: ='Бабчинецька сільська територіал'!C34+'Вендичанська селищна територіал'!C34+'Могилів-Подільська міська терит'!C34+'Мурованокуриловецька селищна те'!C34+'Чернівецька селищна територіаль'!C34+'Ямпільська міська територіальна'!C34+'Яришівська сільська територіаль'!C34 -> 0 | D34: ='Бабчинецька сільська територіал'!D34+'Вендичанська селищна територіал'!D34+'Могилів-Подільська міська терит'!D34+'Мурованокуриловецька селищна те'!D34+'Чернівецька селищна територіаль'!D34+'Ямпільська міська територіальна'!D34+'Яришівська сільська територіаль'!D34 -> 0 | E34: ='Бабчинецька сільська територіал'!E34+'Вендичанська селищна територіал'!E34+'Могилів-Подільська міська терит'!E34+'Мурованокуриловецька селищна те'!E34+'Чернівецька селищна територіаль'!E34+'Ямпільська міська територіальна'!E34+'Яришівська сільська територіаль'!E34 -> 0 | F34: ='Бабчинецька сільська територіал'!F34+'Вендичанська селищна територіал'!F34+'Могилів-Подільська міська терит'!F34+'Мурованокуриловецька селищна те'!F34+'Чернівецька селищна територіаль'!F34+'Ямпільська міська територіальна'!F34+'Яришівська сільська територіаль'!F34 -> 0 | G34: ='Бабчинецька сільська територіал'!G34+'Вендичанська селищна територіал'!G34+'Могилів-Подільська міська терит'!G34+'Мурованокуриловецька селищна те'!G34+'Чернівецька селищна територіаль'!G34+'Ямпільська міська територіальна'!G34+'Яришівська сільська територіаль'!G34 -> 0 | H34: ='Бабчинецька сільська територіал'!H34+'Вендичанська селищна територіал'!H34+'Могилів-Подільська міська терит'!H34+'Мурованокуриловецька селищна те'!H34+'Чернівецька селищна територіаль'!H34+'Ямпільська міська територіальна'!H34+'Яришівська сільська територіаль'!H34 -> 0 | I34: ='Бабчинецька сільська територіал'!I34+'Вендичанська селищна територіал'!I34+'Могилів-Подільська міська терит'!I34+'Мурованокуриловецька селищна те'!I34+'Чернівецька селищна територіаль'!I34+'Ямпільська міська територіальна'!I34+'Яришівська сільська територіаль'!I34 -> 0 | J34: ='Бабчинецька сільська територіал'!J34+'Вендичанська селищна територіал'!J34+'Могилів-Подільська міська терит'!J34+'Мурованокуриловецька селищна те'!J34+'Чернівецька селищна територіаль'!J34+'Ямпільська міська територіальна'!J34+'Яришівська сільська територіаль'!J34 -> 0
A35: Соціально-трудова адаптація | B35: ='Бабчинецька сільська територіал'!B35+'Вендичанська селищна територіал'!B35+'Могилів-Подільська міська терит'!B35+'Мурованокуриловецька селищна те'!B35+'Чернівецька селищна територіаль'!B35+'Ямпільська міська територіальна'!B35+'Яришівська сільська територіаль'!B35 -> 0 | C35: ='Бабчинецька сільська територіал'!C35+'Вендичанська селищна територіал'!C35+'Могилів-Подільська міська терит'!C35+'Мурованокуриловецька селищна те'!C35+'Чернівецька селищна територіаль'!C35+'Ямпільська міська територіальна'!C35+'Яришівська сільська територіаль'!C35 -> 0 | D35: ='Бабчинецька сільська територіал'!D35+'Вендичанська селищна територіал'!D35+'Могилів-Подільська міська терит'!D35+'Мурованокуриловецька селищна те'!D35+'Чернівецька селищна територіаль'!D35+'Ямпільська міська територіальна'!D35+'Яришівська сільська територіаль'!D35 -> 0 | E35: × | F35: × | G35: × | H35: × | I35: × | J35: ×
A36: Догляд стаціонарний | B36: ='Бабчинецька сільська територіал'!B36+'Вендичанська селищна територіал'!B36+'Могилів-Подільська міська терит'!B36+'Мурованокуриловецька селищна те'!B36+'Чернівецька селищна територіаль'!B36+'Ямпільська міська територіальна'!B36+'Яришівська сільська територіаль'!B36 -> 19 | C36: ='Бабчинецька сільська територіал'!C36+'Вендичанська селищна територіал'!C36+'Могилів-Подільська міська терит'!C36+'Мурованокуриловецька селищна те'!C36+'Чернівецька селищна територіаль'!C36+'Ямпільська міська територіальна'!C36+'Яришівська сільська територіаль'!C36 -> 19 | D36: ='Бабчинецька сільська територіал'!D36+'Вендичанська селищна територіал'!D36+'Могилів-Подільська міська терит'!D36+'Мурованокуриловецька селищна те'!D36+'Чернівецька селищна територіаль'!D36+'Ямпільська міська територіальна'!D36+'Яришівська сільська територіаль'!D36 -> 98 | E36: ='Бабчинецька сільська територіал'!E36+'Вендичанська селищна територіал'!E36+'Могилів-Подільська міська терит'!E36+'Мурованокуриловецька селищна те'!E36+'Чернівецька селищна територіаль'!E36+'Ямпільська міська територіальна'!E36+'Яришівська сільська територіаль'!E36 -> 19 | F36: ='Бабчинецька сільська територіал'!F36+'Вендичанська селищна територіал'!F36+'Могилів-Подільська міська терит'!F36+'Мурованокуриловецька селищна те'!F36+'Чернівецька селищна територіаль'!F36+'Ямпільська міська територіальна'!F36+'Яришівська сільська територіаль'!F36 -> 0 | G36: ='Бабчинецька сільська територіал'!G36+'Вендичанська селищна територіал'!G36+'Могилів-Подільська міська терит'!G36+'Мурованокуриловецька селищна те'!G36+'Чернівецька селищна територіаль'!G36+'Ямпільська міська територіальна'!G36+'Яришівська сільська територіаль'!G36 -> 0 | H36: ='Бабчинецька сільська територіал'!H36+'Вендичанська селищна територіал'!H36+'Могилів-Подільська міська терит'!H36+'Мурованокуриловецька селищна те'!H36+'Чернівецька селищна територіаль'!H36+'Ямпільська міська територіальна'!H36+'Яришівська сільська територіаль'!H36 -> 0 | I36: ='Бабчинецька сільська територіал'!I36+'Вендичанська селищна територіал'!I36+'Могилів-Подільська міська терит'!I36+'Мурованокуриловецька селищна те'!I36+'Чернівецька селищна територіаль'!I36+'Ямпільська міська територіальна'!I36+'Яришівська сільська територіаль'!I36 -> 0 | J36: ='Бабчинецька сільська територіал'!J36+'Вендичанська селищна територіал'!J36+'Могилів-Подільська міська терит'!J36+'Мурованокуриловецька селищна те'!J36+'Чернівецька селищна територіаль'!J36+'Ямпільська міська територіальна'!J36+'Яришівська сільська територіаль'!J36 -> 0
A37: Паліативний догляд | B37: ='Бабчинецька сільська територіал'!B37+'Вендичанська селищна територіал'!B37+'Могилів-Подільська міська терит'!B37+'Мурованокуриловецька селищна те'!B37+'Чернівецька селищна територіаль'!B37+'Ямпільська міська територіальна'!B37+'Яришівська сільська територіаль'!B37 -> 0 | C37: ='Бабчинецька сільська територіал'!C37+'Вендичанська селищна територіал'!C37+'Могилів-Подільська міська терит'!C37+'Мурованокуриловецька селищна те'!C37+'Чернівецька селищна територіаль'!C37+'Ямпільська міська територіальна'!C37+'Яришівська сільська територіаль'!C37 -> 0 | D37: ='Бабчинецька сільська територіал'!D37+'Вендичанська селищна територіал'!D37+'Могилів-Подільська міська терит'!D37+'Мурованокуриловецька селищна те'!D37+'Чернівецька селищна територіаль'!D37+'Ямпільська міська територіальна'!D37+'Яришівська сільська територіаль'!D37 -> 0 | E37: ='Бабчинецька сільська територіал'!E37+'Вендичанська селищна територіал'!E37+'Могилів-Подільська міська терит'!E37+'Мурованокуриловецька селищна те'!E37+'Чернівецька селищна територіаль'!E37+'Ямпільська міська територіальна'!E37+'Яришівська сільська територіаль'!E37 -> 0 | F37: ='Бабчинецька сільська територіал'!F37+'Вендичанська селищна територіал'!F37+'Могилів-Подільська міська терит'!F37+'Мурованокуриловецька селищна те'!F37+'Чернівецька селищна територіаль'!F37+'Ямпільська міська територіальна'!F37+'Яришівська сільська територіаль'!F37 -> 0 | G37: ='Бабчинецька сільська територіал'!G37+'Вендичанська селищна територіал'!G37+'Могилів-Подільська міська терит'!G37+'Мурованокуриловецька селищна те'!G37+'Чернівецька селищна територіаль'!G37+'Ямпільська міська територіальна'!G37+'Яришівська сільська територіаль'!G37 -> 0 | H37: ='Бабчинецька сільська територіал'!H37+'Вендичанська селищна територіал'!H37+'Могилів-Подільська міська терит'!H37+'Мурованокуриловецька селищна те'!H37+'Чернівецька селищна територіаль'!H37+'Ямпільська міська територіальна'!H37+'Яришівська сільська територіаль'!H37 -> 0 | I37: ='Бабчинецька сільська територіал'!I37+'Вендичанська селищна територіал'!I37+'Могилів-Подільська міська терит'!I37+'Мурованокуриловецька селищна те'!I37+'Чернівецька селищна територіаль'!I37+'Ямпільська міська територіальна'!I37+'Яришівська сільська територіаль'!I37 -> 0 | J37: ='Бабчинецька сільська територіал'!J37+'Вендичанська селищна територіал'!J37+'Могилів-Подільська міська терит'!J37+'Мурованокуриловецька селищна те'!J37+'Чернівецька селищна територіаль'!J37+'Ямпільська міська територіальна'!J37+'Яришівська сільська територіаль'!J37 -> 0
A38: Персональний асистент | B38: ='Бабчинецька сільська територіал'!B38+'Вендичанська селищна територіал'!B38+'Могилів-Подільська міська терит'!B38+'Мурованокуриловецька селищна те'!B38+'Чернівецька селищна територіаль'!B38+'Ямпільська міська територіальна'!B38+'Яришівська сільська територіаль'!B38 -> 0 | C38: ='Бабчинецька сільська територіал'!C38+'Вендичанська селищна територіал'!C38+'Могилів-Подільська міська терит'!C38+'Мурованокуриловецька селищна те'!C38+'Чернівецька селищна територіаль'!C38+'Ямпільська міська територіальна'!C38+'Яришівська сільська територіаль'!C38 -> 0 | D38: ='Бабчинецька сільська територіал'!D38+'Вендичанська селищна територіал'!D38+'Могилів-Подільська міська терит'!D38+'Мурованокуриловецька селищна те'!D38+'Чернівецька селищна територіаль'!D38+'Ямпільська міська територіальна'!D38+'Яришівська сільська територіаль'!D38 -> 0 | E38: × | F38: × | G38: × | H38: × | I38: × | J38: ×
A39: Соціальна реабілітація осіб з інтелектуальними та психічними порушеннями | B39: ='Бабчинецька сільська територіал'!B39+'Вендичанська селищна територіал'!B39+'Могилів-Подільська міська терит'!B39+'Мурованокуриловецька селищна те'!B39+'Чернівецька селищна територіаль'!B39+'Ямпільська міська територіальна'!B39+'Яришівська сільська територіаль'!B39 -> 0 | C39: ='Бабчинецька сільська територіал'!C39+'Вендичанська селищна територіал'!C39+'Могилів-Подільська міська терит'!C39+'Мурованокуриловецька селищна те'!C39+'Чернівецька селищна територіаль'!C39+'Ямпільська міська територіальна'!C39+'Яришівська сільська територіаль'!C39 -> 0 | D39: ='Бабчинецька сільська територіал'!D39+'Вендичанська селищна територіал'!D39+'Могилів-Подільська міська терит'!D39+'Мурованокуриловецька селищна те'!D39+'Чернівецька селищна територіаль'!D39+'Ямпільська міська територіальна'!D39+'Яришівська сільська територіаль'!D39 -> 0 | E39: × | F39: × | G39: × | H39: × | I39: × | J39: ×
A40: Соціально-психологічна реабілітація | B40: ='Бабчинецька сільська територіал'!B40+'Вендичанська селищна територіал'!B40+'Могилів-Подільська міська терит'!B40+'Мурованокуриловецька селищна те'!B40+'Чернівецька селищна територіаль'!B40+'Ямпільська міська територіальна'!B40+'Яришівська сільська територіаль'!B40 -> 0 | C40: ='Бабчинецька сільська територіал'!C40+'Вендичанська селищна територіал'!C40+'Могилів-Подільська міська терит'!C40+'Мурованокуриловецька селищна те'!C40+'Чернівецька селищна територіаль'!C40+'Ямпільська міська територіальна'!C40+'Яришівська сільська територіаль'!C40 -> 0 | D40: ='Бабчинецька сільська територіал'!D40+'Вендичанська селищна територіал'!D40+'Могилів-Подільська міська терит'!D40+'Мурованокуриловецька селищна те'!D40+'Чернівецька селищна територіаль'!D40+'Ямпільська міська територіальна'!D40+'Яришівська сільська територіаль'!D40 -> 0 | E40: ='Бабчинецька сільська територіал'!E40+'Вендичанська селищна територіал'!E40+'Могилів-Подільська міська терит'!E40+'Мурованокуриловецька селищна те'!E40+'Чернівецька селищна територіаль'!E40+'Ямпільська міська територіальна'!E40+'Яришівська сільська територіаль'!E40 -> 0 | F40: ='Бабчинецька сільська територіал'!F40+'Вендичанська селищна територіал'!F40+'Могилів-Подільська міська терит'!F40+'Мурованокуриловецька селищна те'!F40+'Чернівецька селищна територіаль'!F40+'Ямпільська міська територіальна'!F40+'Яришівська сільська територіаль'!F40 -> 0 | G40: ='Бабчинецька сільська територіал'!G40+'Вендичанська селищна територіал'!G40+'Могилів-Подільська міська терит'!G40+'Мурованокуриловецька селищна те'!G40+'Чернівецька селищна територіаль'!G40+'Ямпільська міська територіальна'!G40+'Яришівська сільська територіаль'!G40 -> 0 | H40: ='Бабчинецька сільська територіал'!H40+'Вендичанська селищна територіал'!H40+'Могилів-Подільська міська терит'!H40+'Мурованокуриловецька селищна те'!H40+'Чернівецька селищна територіаль'!H40+'Ямпільська міська територіальна'!H40+'Яришівська сільська територіаль'!H40 -> 0 | I40: ='Бабчинецька сільська територіал'!I40+'Вендичанська селищна територіал'!I40+'Могилів-Подільська міська терит'!I40+'Мурованокуриловецька селищна те'!I40+'Чернівецька селищна територіаль'!I40+'Ямпільська міська територіальна'!I40+'Яришівська сільська територіаль'!I40 -> 0 | J40: ='Бабчинецька сільська територіал'!J40+'Вендичанська селищна територіал'!J40+'Могилів-Подільська міська терит'!J40+'Мурованокуриловецька селищна те'!J40+'Чернівецька селищна територіаль'!J40+'Ямпільська міська територіальна'!J40+'Яришівська сільська територіаль'!J40 -> 0
A41: Соціально-психологічна реабілітація осіб із залежністю від наркотичних засобів чи психотропних речовин | B41: ='Бабчинецька сільська територіал'!B41+'Вендичанська селищна територіал'!B41+'Могилів-Подільська міська терит'!B41+'Мурованокуриловецька селищна те'!B41+'Чернівецька селищна територіаль'!B41+'Ямпільська міська територіальна'!B41+'Яришівська сільська територіаль'!B41 -> 0 | C41: ='Бабчинецька сільська територіал'!C41+'Вендичанська селищна територіал'!C41+'Могилів-Подільська міська терит'!C41+'Мурованокуриловецька селищна те'!C41+'Чернівецька селищна територіаль'!C41+'Ямпільська міська територіальна'!C41+'Яришівська сільська територіаль'!C41 -> 0 | D41: ='Бабчинецька сільська територіал'!D41+'Вендичанська селищна територіал'!D41+'Могилів-Подільська міська терит'!D41+'Мурованокуриловецька селищна те'!D41+'Чернівецька селищна територіаль'!D41+'Ямпільська міська територіальна'!D41+'Яришівська сільська територіаль'!D41 -> 0 | E41: × | F41: × | G41: × | H41: × | I41: × | J41: ×
A42: Соціально-психологічна реабілітація осіб із ігровою залежністю | B42: ='Бабчинецька сільська територіал'!B42+'Вендичанська селищна територіал'!B42+'Могилів-Подільська міська терит'!B42+'Мурованокуриловецька селищна те'!B42+'Чернівецька селищна територіаль'!B42+'Ямпільська міська територіальна'!B42+'Яришівська сільська територіаль'!B42 -> 0 | C42: ='Бабчинецька сільська територіал'!C42+'Вендичанська селищна територіал'!C42+'Могилів-Подільська міська терит'!C42+'Мурованокуриловецька селищна те'!C42+'Чернівецька селищна територіаль'!C42+'Ямпільська міська територіальна'!C42+'Яришівська сільська територіаль'!C42 -> 0 | D42: ='Бабчинецька сільська територіал'!D42+'Вендичанська селищна територіал'!D42+'Могилів-Подільська міська терит'!D42+'Мурованокуриловецька селищна те'!D42+'Чернівецька селищна територіаль'!D42+'Ямпільська міська територіальна'!D42+'Яришівська сільська територіаль'!D42 -> 0 | E42: × | F42: × | G42: × | H42: × | I42: × | J42: ×
A43: Тимчасовий відпочинок для батьків або осіб, які їх замінюють, що здійснюють догляд за дітьми з інвалідністю | B43: ='Бабчинецька сільська територіал'!B43+'Вендичанська селищна територіал'!B43+'Могилів-Подільська міська терит'!B43+'Мурованокуриловецька селищна те'!B43+'Чернівецька селищна територіаль'!B43+'Ямпільська міська територіальна'!B43+'Яришівська сільська територіаль'!B43 -> 0 | C43: ='Бабчинецька сільська територіал'!C43+'Вендичанська селищна територіал'!C43+'Могилів-Подільська міська терит'!C43+'Мурованокуриловецька селищна те'!C43+'Чернівецька селищна територіаль'!C43+'Ямпільська міська територіальна'!C43+'Яришівська сільська територіаль'!C43 -> 0 | D43: ='Бабчинецька сільська територіал'!D43+'Вендичанська селищна територіал'!D43+'Могилів-Подільська міська терит'!D43+'Мурованокуриловецька селищна те'!D43+'Чернівецька селищна територіаль'!D43+'Ямпільська міська територіальна'!D43+'Яришівська сільська територіаль'!D43 -> 0 | E43: × | F43: × | G43: × | H43: × | I43: × | J43: ×
A44: Тимчасовий відпочинок для осіб, що здійснюють догляд за особами з інвалідністю, особами, які мають невиліковні хвороби, хвороби, що потребують тривалого лікування | B44: ='Бабчинецька сільська територіал'!B44+'Вендичанська селищна територіал'!B44+'Могилів-Подільська міська терит'!B44+'Мурованокуриловецька селищна те'!B44+'Чернівецька селищна територіаль'!B44+'Ямпільська міська територіальна'!B44+'Яришівська сільська територіаль'!B44 -> 0 | C44: ='Бабчинецька сільська територіал'!C44+'Вендичанська селищна територіал'!C44+'Могилів-Подільська міська терит'!C44+'Мурованокуриловецька селищна те'!C44+'Чернівецька селищна територіаль'!C44+'Ямпільська міська територіальна'!C44+'Яришівська сільська територіаль'!C44 -> 0 | D44: ='Бабчинецька сільська територіал'!D44+'Вендичанська селищна територіал'!D44+'Могилів-Подільська міська терит'!D44+'Мурованокуриловецька селищна те'!D44+'Чернівецька селищна територіаль'!D44+'Ямпільська міська територіальна'!D44+'Яришівська сільська територіаль'!D44 -> 0 | E44: × | F44: × | G44: × | H44: × | I44: × | J44: ×
A45: Транспортні послуги | B45: ='Бабчинецька сільська територіал'!B45+'Вендичанська селищна територіал'!B45+'Могилів-Подільська міська терит'!B45+'Мурованокуриловецька селищна те'!B45+'Чернівецька селищна територіаль'!B45+'Ямпільська міська територіальна'!B45+'Яришівська сільська територіаль'!B45 -> 0 | C45: ='Бабчинецька сільська територіал'!C45+'Вендичанська селищна територіал'!C45+'Могилів-Подільська міська терит'!C45+'Мурованокуриловецька селищна те'!C45+'Чернівецька селищна територіаль'!C45+'Ямпільська міська територіальна'!C45+'Яришівська сільська територіаль'!C45 -> 0 | D45: ='Бабчинецька сільська територіал'!D45+'Вендичанська селищна територіал'!D45+'Могилів-Подільська міська терит'!D45+'Мурованокуриловецька селищна те'!D45+'Чернівецька селищна територіаль'!D45+'Ямпільська міська територіальна'!D45+'Яришівська сільська територіаль'!D45 -> 0 | E45: ='Бабчинецька сільська територіал'!E45+'Вендичанська селищна територіал'!E45+'Могилів-Подільська міська терит'!E45+'Мурованокуриловецька селищна те'!E45+'Чернівецька селищна територіаль'!E45+'Ямпільська міська територіальна'!E45+'Яришівська сільська територіаль'!E45 -> 0 | F45: ='Бабчинецька сільська територіал'!F45+'Вендичанська селищна територіал'!F45+'Могилів-Подільська міська терит'!F45+'Мурованокуриловецька селищна те'!F45+'Чернівецька селищна територіаль'!F45+'Ямпільська міська територіальна'!F45+'Яришівська сільська територіаль'!F45 -> 0 | G45: ='Бабчинецька сільська територіал'!G45+'Вендичанська селищна територіал'!G45+'Могилів-Подільська міська терит'!G45+'Мурованокуриловецька селищна те'!G45+'Чернівецька селищна територіаль'!G45+'Ямпільська міська територіальна'!G45+'Яришівська сільська територіаль'!G45 -> 0 | H45: ='Бабчинецька сільська територіал'!H45+'Вендичанська селищна територіал'!H45+'Могилів-Подільська міська терит'!H45+'Мурованокуриловецька селищна те'!H45+'Чернівецька селищна територіаль'!H45+'Ямпільська міська територіальна'!H45+'Яришівська сільська територіаль'!H45 -> 0 | I45: ='Бабчинецька сільська територіал'!I45+'Вендичанська селищна територіал'!I45+'Могилів-Подільська міська терит'!I45+'Мурованокуриловецька селищна те'!I45+'Чернівецька селищна територіаль'!I45+'Ямпільська міська територіальна'!I45+'Яришівська сільська територіаль'!I45 -> 0 | J45: ='Бабчинецька сільська територіал'!J45+'Вендичанська селищна територіал'!J45+'Могилів-Подільська міська терит'!J45+'Мурованокуриловецька селищна те'!J45+'Чернівецька селищна територіаль'!J45+'Ямпільська міська територіальна'!J45+'Яришівська сільська територіаль'!J45 -> 0

Sheet Бабчинецька сільська територіал
A1: ДАНІ
A2: щодо забезпечення осіб/сімей, які належать до вразливих груп населення або перебувають у складних життєвих обставинах, соціальними послугами
A3: Назва соціальної послуги відповідно до переліку соціальних послуг | B3: Кількість осіб, які звертались щодо отримання соціальних послуг, та осіб/сімей, щодо яких надійшли звернення/ повідомлення про потребу в соціальних послугах у звітному періоді* | C3: Кількість осіб/сімей, щодо яких за результатами оцінки потреб особи/сім’ї зроблено висновок про потребу в наданні соціальних послуг* | D3: Кількість осіб/сімей, які отримували соціальні послуги* | E3: Кількість осіб, які звертались щодо отримання соціальних послуг екстрено (кризово), та осіб/сімей, щодо яких надійшли звернення / повідомлення про потребу в соціальних послугах** | H3: Кількість осіб/сімей, які отримували соціальні послуги екстрено(кризово)**
E4: всього осіб/сімей | F4: з них кількість внутрішньо переміщених осіб/сімей | G4: в них дітей | H4: всього осіб/сімей | I4: з них кількість внутрішньо переміщених осіб/сімей | J4: в них дітей
A5: 1 | B5: 2 | C5: 3 | D5: 4 | E5: 5 | F5: 6 | G5: 7 | H5: 8 | I5: 9 | J5: 10
A6: Базові соціальні послуги
A7: Догляд вдома | B7: 4 | C7: 4 | D7: 67 | E7: 0 | F7: 0 | G7: 0 | H7: 0 | I7: 0 | J7: 0 | K7: Бабчинецька сільська територіальна громада | L7: UA05080010000038400
A8: Денний догляд | B8: 0 | C8: 0 | D8: 0 | E8: 0 | F8: 0 | G8: 0 | H8: 0 | I8: 0 | J8: 0 | K8: Бабчинецька сільська територіальна громада | L8: UA05080010000038400
A9: Денний догляд дітей з інвалідністю | B9: 0 | C9: 0 | D9: 0 | E9: 0 | F9: 0 | G9: 0 | H9: 0 | I9: 0 | J9: 0 | K9: Бабчинецька сільська територіальна громада | L9: UA05080010000038400
A10: Підтримане проживання осіб похилого віку та осіб з інвалідністю | B10: 0 | C10: 0 | D10: 0 | E10: 0 | F10: 0 | G10: 0 | H10: 0 | I10: 0 | J10: 0 | K10: Бабчинецька сільська територіальна громада | L10: UA05080010000038400
A11: Підтримане проживання бездомних осіб | B11: 0 | C11: 0 | D11: 0 | E11: 0 | F11: 0 | G11: 0 | H11: 0 | I11: 0 | J11: 0 | K11: Бабчинецька сільська територіальна громада | L11: UA05080010000038400
A12: Транзитне підтримане проживання/ учбова соціальна квартира (будинок) | B12: 0 | C12: 0 | D12: 0 | E12: × | F12: × | G12: × | H12: × | I12: × | J12: × | K12: Бабчинецька сільська територіальна громада | L12: UA05080010000038400
A13: Соціальна адаптація | B13: 0 | C13: 0 | D13: 0 | E13: × | F13: × | G13: × | H13: × | I13: × | J13: × | K13: Бабчинецька сільська територіальна громада | L13: UA05080010000038400
A14: Соціальна інтеграція та реінтеграція | B14: 0 | C14: 0 | D14: 0 | E14: × | F14: × | G14: × | H14: × | I14: × | J14: × | K14: Бабчинецька сільська територіальна громада | L14: UA05080010000038400
A15: Надання притулку | B15: 1 | C15: 1 | D15: 1 | E15: 0 | F15: 0 | G15: 0 | H15: 0 | I15: 0 | J15: 0 | K15: Бабчинецька сільська територіальна громада | L15: UA05080010000038400
A16: Екстрене (кризове) втручання | B16: 0 | C16: 0 | D16: 0 | E16: 0 | F16: 0 | G16: 0 | H16: 0 | I16: 0 | J16: 0 | K16: Бабчинецька сільська територіальна громада | L16: UA05080010000038400
A17: Консультування | B17: 59 | C17: 59 | D17: 74 | E17: 0 | F17: 0 | G17: 0 | H17: 0 | I17: 0 | J17: 0 | K17: Бабчинецька сільська територіальна громада | L17: UA05080010000038400
A18: Соціальний супровід сімей/осіб, які перебувають у складних життєвих обставинах | B18: 8 | C18: 8 | D18: 8 | E18: 0 | F18: 0 | G18: 0 | H18: 0 | I18: 0 | J18: 0 | K18: Бабчинецька сільська територіальна громада | L18: UA05080010000038400
A19: Соціальний супровід сімей, у яких виховуються діти-сироти і діти, позбавлені батьківського піклування | B19: 0 | C19: 0 | D19: 0 | E19: 0 | F19: 0 | G19: 0 | H19: 0 | I19: 0 | J19: 0 | K19: Бабчинецька сільська територіальна громада | L19: UA05080010000038400
A20: Соціальний супровід при працевлаштуванні та на робочому місці | B20: 0 | C20: 0 | D20: 0 | E20: × | F20: × | G20: × | H20: × | I20: × | J20: × | K20: Бабчинецька сільська територіальна громада | L20: UA05080010000038400
A21: Представництво інтересів | B21: 0 | C21: 0 | D21: 0 | E21: 0 | F21: 0 | G21: 0 | H21: 0 | I21: 0 | J21: 0 | K21: Бабчинецька сільська територіальна громада | L21: UA05080010000038400
A22: Посередництво | B22: 0 | C22: 0 | D22: 0 | E22: × | F22: × | G22: × | H22: × | I22: × | J22: × | K22: Бабчинецька сільська територіальна громада | L22: UA05080010000038400
A23: Соціальна профілактика | B23: 0 | C23: 0 | D23: 0 | E23: × | F23: × | G23: × | H23: × | I23: × | J23: × | K23: Бабчинецька сільська територіальна громада | L23: UA05080010000038400
A24: Натуральна допомога | B24: 0 | C24: 0 | D24: 0 | E24: 0 | F24: 0 | G24: 0 | H24: 0 | I24: 0 | J24: 0 | K24: Бабчинецька сільська територіальна громада | L24: UA05080010000038400
A25: Фізичний супровід осіб з інвалідністю, які мають порушення опорно-рухового апарату та пересуваються на кріслах колісних, з інтелектуальним, сенсорними, фізичними, моторними, психічними та поведінковими порушеннями | B25: 0 | C25: 0 | D25: 0 | E25: × | F25: × | G25: × | H25: × | I25: × | J25: × | K25: Бабчинецька сільська територіальна громада | L25: UA05080010000038400
A26: Переклад жестовою мовою | B26: 0 | C26: 0 | D26: 0 | E26: 0 | F26: 0 | G26: 0 | H26: 0 | I26: 0 | J26: 0 | K26: Бабчинецька сільська територіальна громада | L26: UA05080010000038400
A27: Догляд та виховання дітей в умовах, наближених до сімейних | B27: 0 | C27: 0 | D27: 0 | E27: × | F27: × | G27: × | H27: × | I27: × | J27: × | K27: Бабчинецька сільська територіальна громада | L27: UA05080010000038400
A28: Супровід під час інклюзивного навчання | B28: 0 | C28: 0 | D28: 0 | E28: × | F28: × | G28: × | H28: × | I28: × | J28: × | K28: Бабчинецька сільська територіальна громада | L28: UA05080010000038400
A29: Інформування | B29: 79 | C29: 79 | D29: 123 | E29: 0 | F29: 0 | G29: 0 | H29: 0 | I29: 0 | J29: 0 | K29: Бабчинецька сільська територіальна громада | L29: UA05080010000038400
A30: Медіація | B30: 0 | C30: 0 | D30: 0 | E30: × | F30: × | G30: × | H30: × | I30: × | J30: × | K30: Бабчинецька сільська територіальна громада | L30: UA05080010000038400
A31: Інші соціальні послуги | K31: Бабчинецька сільська територіальна громада | L31: UA05080010000038400
A32: Консультативний кризовий телефон | B32: 0 | C32: 0 | D32: 0 | E32: 0 | F32: 0 | G32: 0 | H32: 0 | I32: 0 | J32: 0 | K32: Бабчинецька сільська територіальна громада | L32: UA05080010000038400
A33: Нічний притулок | B33: 0 | C33: 0 | D33: 0 | E33: 0 | F33: 0 | G33: 0 | H33: 0 | I33: 0 | J33: 0 | K33: Бабчинецька сільська територіальна громада | L33: UA05080010000038400
A34: Короткотермінове проживання | B34: 0 | C34: 0 | D34: 0 | E34: 0 | F34: 0 | G34: 0 | H34: 0 | I34: 0 | J34: 0 | K34: Бабчинецька сільська територіальна громада | L34: UA05080010000038400
A35: Соціально-трудова адаптація | B35: 0 | C35: 0 | D35: 0 | E35: × | F35: × | G35: × | H35: × | I35: × | J35: × | K35: Бабчинецька сільська територіальна громада | L35: UA05080010000038400
A36: Догляд стаціонарний | B36: 0 | C36: 0 | D36: 0 | E36: 0 | F36: 0 | G36: 0 | H36: 0 | I36: 0 | J36: 0 | K36: Бабчинецька сільська територіальна громада | L36: UA05080010000038400
A37: Паліативний догляд | B37: 0 | C37: 0 | D37: 0 | E37: 0 | F37: 0 | G37: 0 | H37: 0 | I37: 0 | J37: 0 | K37: Бабчинецька сільська територіальна громада | L37: UA05080010000038400
A38: Персональний асистент | B38: 0 | C38: 0 | D38: 0 | E38: × | F38: × | G38: × | H38: × | I38: × | J38: × | K38: Бабчинецька сільська територіальна громада | L38: UA05080010000038400
A39: Соціальна реабілітація осіб з інтелектуальними та психічними порушеннями | B39: 0 | C39: 0 | D39: 0 | E39: × | F39: × | G39: × | H39: × | I39: × | J39: × | K39: Бабчинецька сільська територіальна громада | L39: UA05080010000038400
A40: Соціально-психологічна реабілітація | B40: 0 | C40: 0 | D40: 0 | E40: 0 | F40: 0 | G40: 0 | H40: 0 | I40: 0 | J40: 0 | K40: Бабчинецька сільська територіальна громада | L40: UA05080010000038400
A41: Соціально-психологічна реабілітація осіб із залежністю від наркотичних засобів чи психотропних речовин | B41: 0 | C41: 0 | D41: 0 | E41: × | F41: × | G41: × | H41: × | I41: × | J41: × | K41: Бабчинецька сільська територіальна громада | L41: UA05080010000038400
A42: Соціально-психологічна реабілітація осіб із ігровою залежністю | B42: 0 | C42: 0 | D42: 0 | E42: × | F42: × | G42: × | H42: × | I42: × | J42: × | K42: Бабчинецька сільська територіальна громада | L42: UA05080010000038400
A43: Тимчасовий відпочинок для батьків або осіб, які їх замінюють, що здійснюють догляд за дітьми з інвалідністю | B43: 0 | C43: 0 | D43: 0 | E43: × | F43: × | G43: × | H43: × | I43: × | J43: × | K43: Бабчинецька сільська територіальна громада | L43: UA05080010000038400
A44: Тимчасовий відпочинок для осіб, що здійснюють догляд за особами з інвалідністю, особами, які мають невиліковні хвороби, хвороби, що потребують тривалого лікування | B44: 0 | C44: 0 | D44: 0 | E44: × | F44: × | G44: × | H44: × | I44: × | J44: × | K44: Бабчинецька сільська територіальна громада | L44: UA05080010000038400
A45: Транспортні послуги | B45: 0 | C45: 0 | D45: 0 | E45: 0 | F45: 0 | G45: 0 | H45: 0 | I45: 0 | J45: 0 | K45: Бабчинецька сільська територіальна громада | L45: UA05080010000038400

Sheet Вендичанська селищна територіал
A1: ДАНІ
A2: щодо забезпечення осіб/сімей, які належать до вразливих груп населення або перебувають у складних життєвих обставинах, соціальними послугами
A3: Назва соціальної послуги відповідно до переліку соціальних послуг | B3: Кількість осіб, які звертались щодо отримання соціальних послуг, та осіб/сімей, щодо яких надійшли звернення/ повідомлення про потребу в соціальних послугах у звітному періоді* | C3: Кількість осіб/сімей, щодо яких за результатами оцінки потреб особи/сім’ї зроблено висновок про потребу в наданні соціальних послуг* | D3: Кількість осіб/сімей, які отримували соціальні послуги* | E3: Кількість осіб, які звертались щодо отримання соціальних послуг екстрено (кризово), та осіб/сімей, щодо яких надійшли звернення / повідомлення про потребу в соціальних послугах** | H3: Кількість осіб/сімей, які отримували соціальні послуги екстрено(кризово)**
E4: всього осіб/сімей | F4: з них кількість внутрішньо переміщених осіб/сімей | G4: в них дітей | H4: всього осіб/сімей | I4: з них кількість внутрішньо переміщених осіб/сімей | J4: в них дітей
A5: 1 | B5: 2 | C5: 3 | D5: 4 | E5: 5 | F5: 6 | G5: 7 | H5: 8 | I5: 9 | J5: 10
A6: Базові соціальні послуги
A7: Догляд вдома | B7: 28 | C7: 28 | D7: 265 | E7: 28 | F7: 0 | G7: 0 | H7: 0 | I7: 0 | J7: 0 | K7: Вендичанська селищна територіальна громада | L7: UA05080030000089348
A8: Денний догляд | B8: 0 | C8: 0 | D8: 0 | E8: 0 | F8: 0 | G8: 0 | H8: 0 | I8: 0 | J8: 0 | K8: Вендичанська селищна територіальна громада | L8: UA05080030000089348
A9: Денний догляд дітей з інвалідністю | B9: 0 | C9: 0 | D9: 0 | E9: 0 | F9: 0 | G9: 0 | H9: 0 | I9: 0 | J9: 0 | K9: Вендичанська селищна територіальна громада | L9: UA05080030000089348
A10: Підтримане проживання осіб похилого віку та осіб з інвалідністю | B10: 0 | C10: 0 | D10: 0 | E10: 0 | F10: 0 | G10: 0 | H10: 0 | I10: 0 | J10: 0 | K10: Вендичанська селищна територіальна громада | L10: UA05080030000089348
A11: Підтримане проживання бездомних осіб | B11: 0 | C11: 0 | D11: 0 | E11: 0 | F11: 0 | G11: 0 | H11: 0 | I11: 0 | J11: 0 | K11: Вендичанська селищна територіальна громада | L11: UA05080030000089348
A12: Транзитне підтримане проживання/ учбова соціальна квартира (будинок) | B12: 0 | C12: 0 | D12: 0 | E12: × | F12: × | G12: × | H12: × | I12: × | J12: × | K12: Вендичанська селищна територіальна громада | L12: UA05080030000089348
A13: Соціальна адаптація | B13: 0 | C13: 0 | D13: 0 | E13: × | F13: × | G13: × | H13: × | I13: × | J13: × | K13: Вендичанська селищна територіальна громада | L13: UA05080030000089348
A14: Соціальна інтеграція та реінтеграція | B14: 0 | C14: 0 | D14: 0 | E14: × | F14: × | G14: × | H14: × | I14: × | J14: × | K14: Вендичанська селищна територіальна громада | L14: UA05080030000089348
A15: Надання притулку | B15: 0 | C15: 0 | D15: 0 | E15: 0 | F15: 0 | G15: 0 | H15: 0 | I15: 0 | J15: 0 | K15: Вендичанська селищна територіальна громада | L15: UA05080030000089348
A16: Екстрене (кризове) втручання | B16: 0 | C16: 0 | D16: 0 | E16: 0 | F16: 0 | G16: 0 | H16: 0 | I16: 0 | J16: 0 | K16: Вендичанська селищна територіальна громада | L16: UA05080030000089348
A17: Консультування | B17: 71 | C17: 71 | D17: 71 | E17: 71 | F17: 10 | G17: 0 | H17: 0 | I17: 0 | J17: 0 | K17: Вендичанська селищна територіальна громада | L17: UA05080030000089348
A18: Соціальний супровід сімей/осіб, які перебувають у складних життєвих обставинах | B18: 6 | C18: 6 | D18: 8 | E18: 6 | F18: 0 | G18: 11 | H18: 0 | I18: 0 | J18: 0 | K18: Вендичанська селищна територіальна громада | L18: UA05080030000089348
A19: Соціальний супровід сімей, у яких виховуються діти-сироти і діти, позбавлені батьківського піклування | B19: 0 | C19: 0 | D19: 2 | E19: 0 | F19: 0 | G19: 0 | H19: 0 | I19: 0 | J19: 0 | K19: Вендичанська селищна територіальна громада | L19: UA05080030000089348
A20: Соціальний супровід при працевлаштуванні та на робочому місці | B20: 0 | C20: 0 | D20: 0 | E20: × | F20: × | G20: × | H20: × | I20: × | J20: × | K20: Вендичанська селищна територіальна громада | L20: UA05080030000089348
A21: Представництво інтересів | B21: 0 | C21: 0 | D21: 0 | E21: 0 | F21: 0 | G21: 0 | H21: 0 | I21: 0 | J21: 0 | K21: Вендичанська селищна територіальна громада | L21: UA05080030000089348
A22: Посередництво | B22: 0 | C22: 0 | D22: 0 | E22: × | F22: × | G22: × | H22: × | I22: × | J22: × | K22: Вендичанська селищна територіальна громада | L22: UA05080030000089348
A23: Соціальна профілактика | B23: 0 | C23: 0 | D23: 0 | E23: × | F23: × | G23: × | H23: × | I23: × | J23: × | K23: Вендичанська селищна територіальна громада | L23: UA05080030000089348
A24: Натуральна допомога | B24: 0 | C24: 0 | D24: 0 | K24: Вендичанська селищна територіальна громада | L24: UA05080030000089348
A25: Фізичний супровід осіб з інвалідністю, які мають порушення опорно-рухового апарату та пересуваються на кріслах колісних, з інтелектуальним, сенсорними, фізичними, моторними, психічними та поведінковими порушеннями | B25: 0 | C25: 0 | D25: 0 | E25: × | F25: × | G25: × | H25: × | I25: × | J25: × | K25: Вендичанська селищна територіальна громада | L25: UA05080030000089348
A26: Переклад жестовою мовою | B26: 0 | C26: 0 | D26: 0 | E26: 0 | F26: 0 | G26: 0 | H26: 0 | I26: 0 | J26: 0 | K26: Вендичанська селищна територіальна громада | L26: UA05080030000089348
A27: Догляд та виховання дітей в умовах, наближених до сімейних | B27: 0 | C27: 0 | D27: 0 | E27: × | F27: × | G27: × | H27: × | I27: × | J27: × | K27: Вендичанська селищна територіальна громада | L27: UA05080030000089348
A28: Супровід під час інклюзивного навчання | B28: 0 | C28: 0 | D28: 0 | E28: × | F28: × | G28: × | H28: × | I28: × | J28: × | K28: Вендичанська селищна територіальна громада | L28: UA05080030000089348
A29: Інформування | B29: 14 | C29: 14 | D29: 14 | E29: 14 | F29: 2 | G29: 0 | H29: 0 | I29: 0 | J29: 0 | K29: Вендичанська селищна територіальна громада | L29: UA05080030000089348
A30: Медіація | B30: 0 | C30: 0 | D30: 0 | E30: × | F30: × | G30: × | H30: × | I30: × | J30: × | K30: Вендичанська селищна територіальна громада | L30: UA05080030000089348
A31: Інші соціальні послуги | K31: Вендичанська селищна територіальна громада | L31: UA05080030000089348
A32: Консультативний кризовий телефон | B32: 0 | C32: 0 | D32: 0 | E32: 0 | F32: 0 | G32: 0 | H32: 0 | I32: 0 | J32: 0 | K32: Вендичанська селищна територіальна громада | L32: UA05080030000089348
A33: Нічний притулок | B33: 0 | C33: 0 | D33: 0 | E33: 0 | F33: 0 | G33: 0 | H33: 0 | I33: 0 | J33: 0 | K33: Вендичанська селищна територіальна громада | L33: UA05080030000089348
A34: Короткотермінове проживання | B34: 0 | C34: 0 | D34: 0 | E34: 0 | F34: 0 | G34: 0 | H34: 0 | I34: 0 | J34: 0 | K34: Вендичанська селищна територіальна громада | L34: UA05080030000089348
A35: Соціально-трудова адаптація | B35: 0 | C35: 0 | D35: 0 | E35: × | F35: × | G35: × | H35: × | I35: × | J35: × | K35: Вендичанська селищна територіальна громада | L35: UA05080030000089348
A36: Догляд стаціонарний | B36: 3 | C36: 3 | D36: 37 | E36: 3 | F36: 0 | G36: 0 | H36: 0 | I36: 0 | J36: 0 | K36: Вендичанська селищна територіальна громада | L36: UA05080030000089348
A37: Паліативний догляд | B37: 0 | C37: 0 | D37: 0 | E37: 0 | F37: 0 | G37: 0 | H37: 0 | I37: 0 | J37: 0 | K37: Вендичанська селищна територіальна громада | L37: UA05080030000089348
A38: Персональний асистент | B38: 0 | C38: 0 | D38: 0 | E38: × | F38: × | G38: × | H38: × | I38: × | J38: × | K38: Вендичанська селищна територіальна громада | L38: UA05080030000089348
A39: Соціальна реабілітація осіб з інтелектуальними та психічними порушеннями | B39: 0 | C39: 0 | D39: 0 | E39: × | F39: × | G39: × | H39: × | I39: × | J39: × | K39: Вендичанська селищна територіальна громада | L39: UA05080030000089348
A40: Соціально-психологічна реабілітація | B40: 0 | C40: 0 | D40: 0 | E40: 0 | F40: 0 | G40: 0 | H40: 0 | I40: 0 | J40: 0 | K40: Вендичанська селищна територіальна громада | L40: UA05080030000089348
A41: Соціально-психологічна реабілітація осіб із залежністю від наркотичних засобів чи психотропних речовин | B41: 0 | C41: 0 | D41: 0 | E41: × | F41: × | G41: × | H41: × | I41: × | J41: × | K41: Вендичанська селищна територіальна громада | L41: UA05080030000089348
A42: Соціально-психологічна реабілітація осіб із ігровою залежністю | B42: 0 | C42: 0 | D42: 0 | E42: × | F42: × | G42: × | H42: × | I42: × | J42: × | K42: Вендичанська селищна територіальна громада | L42: UA05080030000089348
A43: Тимчасовий відпочинок для батьків або осіб, які їх замінюють, що здійснюють догляд за дітьми з інвалідністю | B43: 0 | C43: 0 | D43: 0 | E43: × | F43: × | G43: × | H43: × | I43: × | J43: × | K43: Вендичанська селищна територіальна громада | L43: UA05080030000089348
A44: Тимчасовий відпочинок для осіб, що здійснюють догляд за особами з інвалідністю, особами, які мають невиліковні хвороби, хвороби, що потребують тривалого лікування | B44: 0 | C44: 0 | D44: 0 | E44: × | F44: × | G44: × | H44: × | I44: × | J44: × | K44: Вендичанська селищна територіальна громада | L44: UA05080030000089348
A45: Транспортні послуги | B45: 0 | C45: 0 | D45: 0 | E45: 0 | F45: 0 | G45: 0 | H45: 0 | I45: 0 | J45: 0 | K45: Вендичанська селищна територіальна громада | L45: UA05080030000089348

Sheet Могилів-Подільська міська терит
A1: ДАНІ
A2: щодо забезпечення осіб/сімей, які належать до вразливих груп населення або перебувають у складних життєвих обставинах, соціальними послугами
A3: Назва соціальної послуги відповідно до переліку соціальних послуг | B3: Кількість осіб, які звертались щодо отримання соціальних послуг, та осіб/сімей, щодо яких надійшли звернення/ повідомлення про потребу в соціальних послугах у звітному періоді* | C3: Кількість осіб/сімей, щодо яких за результатами оцінки потреб особи/сім’ї зроблено висновок про потребу в наданні соціальних послуг* | D3: Кількість осіб/сімей, які отримували соціальні послуги* | E3: Кількість осіб, які звертались щодо отримання соціальних послуг екстрено (кризово), та осіб/сімей, щодо яких надійшли звернення / повідомлення про потребу в соціальних послугах** | H3: Кількість осіб/сімей, які отримували соціальні послуги екстрено(кризово)**
E4: всього осіб/сімей | F4: з них кількість внутрішньо переміщених осіб/сімей | G4: в них дітей | H4: всього осіб/сімей | I4: з них кількість внутрішньо переміщених осіб/сімей | J4: в них дітей
A5: 1 | B5: 2 | C5: 3 | D5: 4 | E5: 5 | F5: 6 | G5: 7 | H5: 8 | I5: 9 | J5: 10
A6: Базові соціальні послуги
A7: Догляд вдома | B7: 50 | C7: 50 | D7: 296 | E7: 50 | F7: 2 | G7: 0 | H7: 0 | I7: 0 | J7: 0 | K7: Могилів-Подільська міська територіальна громада | L7: UA05080050000023603
A8: Денний догляд | B8: 0 | C8: 0 | D8: 0 | E8: 0 | F8: 0 | G8: 0 | H8: 0 | I8: 0 | J8: 0 | K8: Могилів-Подільська міська територіальна громада | L8: UA05080050000023603
A9: Денний догляд дітей з інвалідністю | B9: 0 | C9: 0 | D9: 0 | E9: 0 | F9: 0 | G9: 0 | H9: 0 | I9: 0 | J9: 0 | K9: Могилів-Подільська міська територіальна громада | L9: UA05080050000023603
A10: Підтримане проживання осіб похилого віку та осіб з інвалідністю | B10: 0 | C10: 0 | D10: 0 | E10: 0 | F10: 0 | G10: 0 | H10: 0 | I10: 0 | J10: 0 | K10: Могилів-Подільська міська територіальна громада | L10: UA05080050000023603
A11: Підтримане проживання бездомних осіб | B11: 0 | C11: 0 | D11: 0 | E11: 0 | F11: 0 | G11: 0 | H11: 0 | I11: 0 | J11: 0 | K11: Могилів-Подільська міська територіальна громада | L11: UA05080050000023603
A12: Транзитне підтримане проживання/ учбова соціальна квартира (будинок) | B12: 0 | C12: 0 | D12: 0 | E12: × | F12: × | G12: × | H12: × | I12: × | J12: × | K12: Могилів-Подільська міська територіальна громада | L12: UA05080050000023603
A13: Соціальна адаптація | B13: 0 | C13: 0 | D13: 0 | E13: × | F13: × | G13: × | H13: × | I13: × | J13: × | K13: Могилів-Подільська міська територіальна громада | L13: UA05080050000023603
A14: Соціальна інтеграція та реінтеграція | B14: 0 | C14: 0 | D14: 0 | E14: × | F14: × | G14: × | H14: × | I14: × | J14: × | K14: Могилів-Подільська міська територіальна громада | L14: UA05080050000023603
A15: Надання притулку | B15: 0 | C15: 0 | D15: 0 | E15: 0 | F15: 0 | G15: 0 | H15: 0 | I15: 0 | J15: 0 | K15: Могилів-Подільська міська територіальна громада | L15: UA05080050000023603
A16: Екстрене (кризове) втручання | B16: 0 | C16: 0 | D16: 0 | E16: 0 | F16: 0 | G16: 0 | H16: 0 | I16: 0 | J16: 0 | K16: Могилів-Подільська міська територіальна громада | L16: UA05080050000023603
A17: Консультування | B17: 402 | C17: 402 | D17: 675 | E17: 402 | F17: 7 | G17: 13 | H17: 0 | I17: 0 | J17: 0 | K17: Могилів-Подільська міська територіальна громада | L17: UA05080050000023603
A18: Соціальний супровід сімей/осіб, які перебувають у складних життєвих обставинах | B18: 22 | C18: 22 | D18: 27 | E18: 22 | F18: 2 | G18: 4 | H18: 0 | I18: 0 | J18: 0 | K18: Могилів-Подільська міська територіальна громада | L18: UA05080050000023603
A19: Соціальний супровід сімей, у яких виховуються діти-сироти і діти, позбавлені батьківського піклування | B19: 34 | C19: 34 | D19: 39 | E19: 34 | F19: 2 | G19: 7 | H19: 0 | I19: 0 | J19: 0 | K19: Могилів-Подільська міська територіальна громада | L19: UA05080050000023603
A20: Соціальний супровід при працевлаштуванні та на робочому місці | B20: 0 | C20: 0 | D20: 0 | E20: × | F20: × | G20: × | H20: × | I20: × | J20: × | K20: Могилів-Подільська міська територіальна громада | L20: UA05080050000023603
A21: Представництво інтересів | B21: 0 | C21: 0 | D21: 0 | E21: 0 | F21: 0 | G21: 0 | H21: 0 | I21: 0 | J21: 0 | K21: Могилів-Подільська міська територіальна громада | L21: UA05080050000023603
A22: Посередництво | B22: 0 | C22: 0 | D22: 0 | E22: × | F22: × | G22: × | H22: × | I22: × | J22: × | K22: Могилів-Подільська міська територіальна громада | L22: UA05080050000023603
A23: Соціальна профілактика | B23: 0 | C23: 0 | D23: 0 | E23: × | F23: × | G23: × | H23: × | I23: × | J23: × | K23: Могилів-Подільська міська територіальна громада | L23: UA05080050000023603
A24: Натуральна допомога | B24: 7 | C24: 7 | D24: 577 | E24: 7 | F24: 0 | G24: 0 | H24: 0 | I24: 0 | J24: 0 | K24: Могилів-Подільська міська територіальна громада | L24: UA05080050000023603
A25: Фізичний супровід осіб з інвалідністю, які мають порушення опорно-рухового апарату та пересуваються на кріслах колісних, з інтелектуальним, сенсорними, фізичними, моторними, психічними та поведінковими порушеннями | B25: 0 | C25: 0 | D25: 0 | E25: × | F25: × | G25: × | H25: × | I25: × | J25: × | K25: Могилів-Подільська міська територіальна громада | L25: UA05080050000023603
A26: Переклад жестовою мовою | B26: 0 | C26: 0 | D26: 0 | E26: 0 | F26: 0 | G26: 0 | H26: 0 | I26: 0 | J26: 0 | K26: Могилів-Подільська міська територіальна громада | L26: UA05080050000023603
A27: Догляд та виховання дітей в умовах, наближених до сімейних | B27: 0 | C27: 0 | D27: 0 | E27: × | F27: × | G27: × | H27: × | I27: × | J27: × | K27: Могилів-Подільська міська територіальна громада | L27: UA05080050000023603
A28: Супровід під час інклюзивного навчання | B28: 0 | C28: 0 | D28: 0 | E28: × | F28: × | G28: × | H28: × | I28: × | J28: × | K28: Могилів-Подільська міська територіальна громада | L28: UA05080050000023603
A29: Інформування | B29: 355 | C29: 355 | D29: 602 | E29: 355 | F29: 36 | G29: 59 | H29: 0 | I29: 0 | J29: 0 | K29: Могилів-Подільська міська територіальна громада | L29: UA05080050000023603
A30: Медіація | B30: 0 | C30: 0 | D30: 0 | E30: × | F30: × | G30: × | H30: × | I30: × | J30: × | K30: Могилів-Подільська міська територіальна громада | L30: UA05080050000023603
A31: Інші соціальні послуги | K31: Могилів-Подільська міська територіальна громада | L31: UA05080050000023603
A32: Консультативний кризовий телефон | B32: 0 | C32: 0 | D32: 0 | E32: 0 | F32: 0 | G32: 0 | H32: 0 | I32: 0 | J32: 0 | K32: Могилів-Подільська міська територіальна громада | L32: UA05080050000023603
A33: Нічний притулок | B33: 0 | C33: 0 | D33: 0 | E33: 0 | F33: 0 | G33: 0 | H33: 0 | I33: 0 | J33: 0 | K33: Могилів-Подільська міська територіальна громада | L33: UA05080050000023603
A34: Короткотермінове проживання | B34: 0 | C34: 0 | D34: 0 | E34: 0 | F34: 0 | G34: 0 | H34: 0 | I34: 0 | J34: 0 | K34: Могилів-Подільська міська територіальна громада | L34: UA05080050000023603
A35: Соціально-трудова адаптація | B35: 0 | C35: 0 | D35: 0 | E35: × | F35: × | G35: × | H35: × | I35: × | J35: × | K35: Могилів-Подільська міська територіальна громада | L35: UA05080050000023603
A36: Догляд стаціонарний | B36: 0 | C36: 0 | D36: 0 | E36: 0 | F36: 0 | G36: 0 | H36: 0 | I36: 0 | J36: 0 | K36: Могилів-Подільська міська територіальна громада | L36: UA05080050000023603
A37: Паліативний догляд | B37: 0 | C37: 0 | D37: 0 | E37: 0 | F37: 0 | G37: 0 | H37: 0 | I37: 0 | J37: 0 | K37: Могилів-Подільська міська територіальна громада | L37: UA05080050000023603
A38: Персональний асистент | B38: 0 | C38: 0 | D38: 0 | E38: × | F38: × | G38: × | H38: × | I38: × | J38: × | K38: Могилів-Подільська міська територіальна громада | L38: UA05080050000023603
A39: Соціальна реабілітація осіб з інтелектуальними та психічними порушеннями | B39: 0 | C39: 0 | D39: 0 | E39: × | F39: × | G39: × | H39: × | I39: × | J39: × | K39: Могилів-Подільська міська територіальна громада | L39: UA05080050000023603
A40: Соціально-психологічна реабілітація | B40: 0 | C40: 0 | D40: 0 | E40: 0 | F40: 0 | G40: 0 | H40: 0 | I40: 0 | J40: 0 | K40: Могилів-Подільська міська територіальна громада | L40: UA05080050000023603
A41: Соціально-психологічна реабілітація осіб із залежністю від наркотичних засобів чи психотропних речовин | B41: 0 | C41: 0 | D41: 0 | E41: × | F41: × | G41: × | H41: × | I41: × | J41: × | K41: Могилів-Подільська міська територіальна громада | L41: UA05080050000023603
A42: Соціально-психологічна реабілітація осіб із ігровою залежністю | B42: 0 | C42: 0 | D42: 0 | E42: × | F42: × | G42: × | H42: × | I42: × | J42: × | K42: Могилів-Подільська міська територіальна громада | L42: UA05080050000023603
A43: Тимчасовий відпочинок для батьків або осіб, які їх замінюють, що здійснюють догляд за дітьми з інвалідністю | B43: 0 | C43: 0 | D43: 0 | E43: × | F43: × | G43: × | H43: × | I43: × | J43: × | K43: Могилів-Подільська міська територіальна громада | L43: UA05080050000023603
A44: Тимчасовий відпочинок для осіб, що здійснюють догляд за особами з інвалідністю, особами, які мають невиліковні хвороби, хвороби, що потребують тривалого лікування | B44: 0 | C44: 0 | D44: 0 | E44: × | F44: × | G44: × | H44: × | I44: × | J44: × | K44: Могилів-Подільська міська територіальна громада | L44: UA05080050000023603
A45: Транспортні послуги | B45: 0 | C45: 0 | D45: 0 | E45: 0 | F45: 0 | G45: 0 | H45: 0 | I45: 0 | J45: 0 | K45: Могилів-Подільська міська територіальна громада | L45: UA05080050000023603

Sheet Мурованокуриловецька селищна те
A1: ДАНІ
A2: щодо забезпечення осіб/сімей, які належать до вразливих груп населення або перебувають у складних життєвих обставинах, соціальними послугами
A3: Назва соціальної послуги відповідно до переліку соціальних послуг | B3: Кількість осіб, які звертались щодо отримання соціальних послуг, та осіб/сімей, щодо яких надійшли звернення/ повідомлення про потребу в соціальних послугах у звітному періоді* | C3: Кількість осіб/сімей, щодо яких за результатами оцінки потреб особи/сім’ї зроблено висновок про потребу в наданні соціальних послуг* | D3: Кількість осіб/сімей, які отримували соціальні послуги* | E3: Кількість осіб, які звертались щодо отримання соціальних послуг екстрено (кризово), та осіб/сімей, щодо яких надійшли звернення / повідомлення про потребу в соціальних послугах** | H3: Кількість осіб/сімей, які отримували соціальні послуги екстрено(кризово)**
E4: всього осіб/сімей | F4: з них кількість внутрішньо переміщених осіб/сімей | G4: в них дітей | H4: всього осіб/сімей | I4: з них кількість внутрішньо переміщених осіб/сімей | J4: в них дітей
A5: 1 | B5: 2 | C5: 3 | D5: 4 | E5: 5 | F5: 6 | G5: 7 | H5: 8 | I5: 9 | J5: 10
A6: Базові соціальні послуги
A7: Догляд вдома | B7: 66 | C7: 66 | D7: 329 | E7: 66 | F7: 0 | G7: 0 | H7: 0 | I7: 0 | J7: 0 | K7: Мурованокуриловецька селищна територіальна громада | L7: UA05080070000010150
A8: Денний догляд | B8: 0 | C8: 0 | D8: 0 | E8: 0 | F8: 0 | G8: 0 | H8: 0 | I8: 0 | J8: 0 | K8: Мурованокуриловецька селищна територіальна громада | L8: UA05080070000010150
A9: Денний догляд дітей з інвалідністю | B9: 0 | C9: 0 | D9: 0 | E9: 0 | F9: 0 | G9: 0 | H9: 0 | I9: 0 | J9: 0 | K9: Мурованокуриловецька селищна територіальна громада | L9: UA05080070000010150
A10: Підтримане проживання осіб похилого віку та осіб з інвалідністю | B10: 0 | C10: 0 | D10: 0 | E10: 0 | F10: 0 | G10: 0 | H10: 0 | I10: 0 | J10: 0 | K10: Мурованокуриловецька селищна територіальна громада | L10: UA05080070000010150
A11: Підтримане проживання бездомних осіб | B11: 0 | C11: 0 | D11: 0 | E11: 0 | F11: 0 | G11: 0 | H11: 0 | I11: 0 | J11: 0 | K11: Мурованокуриловецька селищна територіальна громада | L11: UA05080070000010150
A12: Транзитне підтримане проживання/ учбова соціальна квартира (будинок) | B12: 0 | C12: 0 | D12: 0 | E12: × | F12: × | G12: × | H12: × | I12: × | J12: × | K12: Мурованокуриловецька селищна територіальна громада | L12: UA05080070000010150
A13: Соціальна адаптація | B13: 0 | C13: 0 | D13: 0 | E13: × | F13: × | G13: × | H13: × | I13: × | J13: × | K13: Мурованокуриловецька селищна територіальна громада | L13: UA05080070000010150
A14: Соціальна інтеграція та реінтеграція | B14: 0 | C14: 0 | D14: 0 | E14: × | F14: × | G14: × | H14: × | I14: × | J14: × | K14: Мурованокуриловецька селищна територіальна громада | L14: UA05080070000010150
A15: Надання притулку | B15: 0 | C15: 0 | D15: 0 | E15: 0 | F15: 0 | G15: 0 | H15: 0 | I15: 0 | J15: 0 | K15: Мурованокуриловецька селищна територіальна громада | L15: UA05080070000010150
A16: Екстрене (кризове) втручання | B16: 0 | C16: 0 | D16: 0 | E16: 0 | F16: 0 | G16: 0 | H16: 0 | I16: 0 | J16: 0 | K16: Мурованокуриловецька селищна територіальна громада | L16: UA05080070000010150
A17: Консультування | B17: 670 | C17: 670 | D17: 670 | E17: 670 | F17: 152 | G17: 211 | H17: 0 | I17: 0 | J17: 0 | K17: Мурованокуриловецька селищна територіальна громада | L17: UA05080070000010150
A18: Соціальний супровід сімей/осіб, які перебувають у складних життєвих обставинах | B18: 17 | C18: 17 | D18: 23 | E18: 17 | F18: 0 | G18: 0 | H18: 41 | I18: 0 | J18: 0 | K18: Мурованокуриловецька селищна територіальна громада | L18: UA05080070000010150
A19: Соціальний супровід сімей, у яких виховуються діти-сироти і діти, позбавлені батьківського піклування | B19: 31 | C19: 31 | D19: 36 | E19: 31 | F19: 0 | G19: 61 | H19: 0 | I19: 0 | J19: 0 | K19: Мурованокуриловецька селищна територіальна громада | L19: UA05080070000010150
A20: Соціальний супровід при працевлаштуванні та на робочому місці | B20: 0 | C20: 0 | D20: 0 | E20: × | F20: × | G20: × | H20: × | I20: × | J20: × | K20: Мурованокуриловецька селищна територіальна громада | L20: UA05080070000010150
A21: Представництво інтересів | B21: 0 | C21: 0 | D21: 0 | E21: 0 | F21: 0 | G21: 0 | H21: 0 | I21: 0 | J21: 0 | K21: Мурованокуриловецька селищна територіальна громада | L21: UA05080070000010150
A22: Посередництво | B22: 0 | C22: 0 | D22: 0 | E22: × | F22: × | G22: × | H22: × | I22: × | J22: × | K22: Мурованокуриловецька селищна територіальна громада | L22: UA05080070000010150
A23: Соціальна профілактика | B23: 0 | C23: 0 | D23: 0 | E23: × | F23: × | G23: × | H23: × | I23: × | J23: × | K23: Мурованокуриловецька селищна територіальна громада | L23: UA05080070000010150
A24: Натуральна допомога | B24: 159 | C24: 159 | D24: 317 | E24: 159 | F24: 139 | G24: 188 | H24: 0 | I24: 0 | J24: 0 | K24: Мурованокуриловецька селищна територіальна громада | L24: UA05080070000010150
A25: Фізичний супровід осіб з інвалідністю, які мають порушення опорно-рухового апарату та пересуваються на кріслах колісних, з інтелектуальним, сенсорними, фізичними, моторними, психічними та поведінковими порушеннями | B25: 0 | C25: 0 | D25: 0 | E25: × | F25: × | G25: × | H25: × | I25: × | J25: × | K25: Мурованокуриловецька селищна територіальна громада | L25: UA05080070000010150
A26: Переклад жестовою мовою | B26: 0 | C26: 0 | D26: 0 | E26: 0 | F26: 0 | G26: 0 | H26: 0 | I26: 0 | J26: 0 | K26: Мурованокуриловецька селищна територіальна громада | L26: UA05080070000010150
A27: Догляд та виховання дітей в умовах, наближених до сімейних | B27: 0 | C27: 0 | D27: 0 | E27: × | F27: × | G27: × | H27: × | I27: × | J27: × | K27: Мурованокуриловецька селищна територіальна громада | L27: UA05080070000010150
A28: Супровід під час інклюзивного навчання | B28: 0 | C28: 0 | D28: 0 | E28: × | F28: × | G28: × | H28: × | I28: × | J28: × | K28: Мурованокуриловецька селищна територіальна громада | L28: UA05080070000010150
A29: Інформування | B29: 692 | C29: 692 | D29: 692 | E29: 692 | F29: 152 | G29: 211 | H29: 0 | I29: 0 | J29: 0 | K29: Мурованокуриловецька селищна територіальна громада | L29: UA05080070000010150
A30: Медіація | B30: 0 | C30: 0 | D30: 0 | E30: × | F30: × | G30: × | H30: × | I30: × | J30: × | K30: Мурованокуриловецька селищна територіальна громада | L30: UA05080070000010150
A31: Інші соціальні послуги | K31: Мурованокуриловецька селищна територіальна громада | L31: UA05080070000010150
A32: Консультативний кризовий телефон | B32: 0 | C32: 0 | D32: 0 | E32: 0 | F32: 0 | G32: 0 | H32: 0 | I32: 0 | J32: 0 | K32: Мурованокуриловецька селищна територіальна громада | L32: UA05080070000010150
A33: Нічний притулок | B33: 0 | C33: 0 | D33: 0 | E33: 0 | F33: 0 | G33: 0 | H33: 0 | I33: 0 | J33: 0 | K33: Мурованокуриловецька селищна територіальна громада | L33: UA05080070000010150
A34: Короткотермінове проживання | B34: 0 | C34: 0 | D34: 0 | E34: 0 | F34: 0 | G34: 0 | H34: 0 | I34: 0 | J34: 0 | K34: Мурованокуриловецька селищна територіальна громада | L34: UA05080070000010150
A35: Соціально-трудова адаптація | B35: 0 | C35: 0 | D35: 0 | E35: × | F35: × | G35: × | H35: × | I35: × | J35: × | K35: Мурованокуриловецька селищна територіальна громада | L35: UA05080070000010150
A36: Догляд стаціонарний | B36: 10 | C36: 10 | D36: 31 | E36: 10 | F36: 0 | G36: 0 | H36: 0 | I36: 0 | J36: 0 | K36: Мурованокуриловецька селищна територіальна громада | L36: UA05080070000010150
A37: Паліативний догляд | B37: 0 | C37: 0 | D37: 0 | E37: 0 | F37: 0 | G37: 0 | H37: 0 | I37: 0 | J37: 0 | K37: Мурованокуриловецька селищна територіальна громада | L37: UA05080070000010150
A38: Персональний асистент | B38: 0 | C38: 0 | D38: 0 | E38: × | F38: × | G38: × | H38: × | I38: × | J38: × | K38: Мурованокуриловецька селищна територіальна громада | L38: UA05080070000010150
A39: Соціальна реабілітація осіб з інтелектуальними та психічними порушеннями | B39: 0 | C39: 0 | D39: 0 | E39: × | F39: × | G39: × | H39: × | I39: × | J39: × | K39: Мурованокуриловецька селищна територіальна громада | L39: UA05080070000010150
A40: Соціально-психологічна реабілітація | B40: 0 | C40: 0 | D40: 0 | E40: 0 | F40: 0 | G40: 0 | H40: 0 | I40: 0 | J40: 0 | K40: Мурованокуриловецька селищна територіальна громада | L40: UA05080070000010150
A41: Соціально-психологічна реабілітація осіб із залежністю від наркотичних засобів чи психотропних речовин | B41: 0 | C41: 0 | D41: 0 | E41: × | F41: × | G41: × | H41: × | I41: × | J41: × | K41: Мурованокуриловецька селищна територіальна громада | L41: UA05080070000010150
A42: Соціально-психологічна реабілітація осіб із ігровою залежністю | B42: 0 | C42: 0 | D42: 0 | E42: × | F42: × | G42: × | H42: × | I42: × | J42: × | K42: Мурованокуриловецька селищна територіальна громада | L42: UA05080070000010150
A43: Тимчасовий відпочинок для батьків або осіб, які їх замінюють, що здійснюють догляд за дітьми з інвалідністю | B43: 0 | C43: 0 | D43: 0 | E43: × | F43: × | G43: × | H43: × | I43: × | J43: × | K43: Мурованокуриловецька селищна територіальна громада | L43: UA05080070000010150
A44: Тимчасовий відпочинок для осіб, що здійснюють догляд за особами з інвалідністю, особами, які мають невиліковні хвороби, хвороби, що потребують тривалого лікування | B44: 0 | C44: 0 | D44: 0 | E44: × | F44: × | G44: × | H44: × | I44: × | J44: × | K44: Мурованокуриловецька селищна територіальна громада | L44: UA05080070000010150
A45: Транспортні послуги | B45: 0 | C45: 0 | D45: 0 | E45: 0 | F45: 0 | G45: 0 | H45: 0 | I45: 0 | J45: 0 | K45: Мурованокуриловецька селищна територіальна громада | L45: UA05080070000010150

Sheet Чернівецька селищна територіаль
A1: ДАНІ
A2: щодо забезпечення осіб/сімей, які належать до вразливих груп населення або перебувають у складних життєвих обставинах, соціальними послугами
A3: Назва соціальної послуги відповідно до переліку соціальних послуг | B3: Кількість осіб, які звертались щодо отримання соціальних послуг, та осіб/сімей, щодо яких надійшли звернення/ повідомлення про потребу в соціальних послугах у звітному періоді* | C3: Кількість осіб/сімей, щодо яких за результатами оцінки потреб особи/сім’ї зроблено висновок про потребу в наданні соціальних послуг* | D3: Кількість осіб/сімей, які отримували соціальні послуги* | E3: Кількість осіб, які звертались щодо отримання соціальних послуг екстрено (кризово), та осіб/сімей, щодо яких надійшли звернення / повідомлення про потребу в соціальних послугах** | H3: Кількість осіб/сімей, які отримували соціальні послуги екстрено(кризово)**
E4: всього осіб/сімей | F4: з них кількість внутрішньо переміщених осіб/сімей | G4: в них дітей | H4: всього осіб/сімей | I4: з них кількість внутрішньо переміщених осіб/сімей | J4: в них дітей
A5: 1 | B5: 2 | C5: 3 | D5: 4 | E5: 5 | F5: 6 | G5: 7 | H5: 8 | I5: 9 | J5: 10
A6: Базові соціальні послуги
A7: Догляд вдома | B7: 55 | C7: 55 | D7: 378 | E7: 55 | F7: 4 | G7: 0 | H7: 4 | I7: 4 | J7: 0 | K7: Чернівецька селищна територіальна громада | L7: UA05080090000089922
A8: Денний догляд | B8: 0 | C8: 0 | D8: 0 | E8: 0 | F8: 0 | G8: 0 | H8: 0 | I8: 0 | J8: 0 | K8: Чернівецька селищна територіальна громада | L8: UA05080090000089922
A9: Денний догляд дітей з інвалідністю | B9: 0 | C9: 0 | D9: 0 | E9: 0 | F9: 0 | G9: 0 | H9: 0 | I9: 0 | J9: 0 | K9: Чернівецька селищна територіальна громада | L9: UA05080090000089922
A10: Підтримане проживання осіб похилого віку та осіб з інвалідністю | B10: 0 | C10: 0 | D10: 0 | E10: 0 | F10: 0 | G10: 0 | H10: 0 | I10: 0 | J10: 0 | K10: Чернівецька селищна територіальна громада | L10: UA05080090000089922
A11: Підтримане проживання бездомних осіб | B11: 0 | C11: 0 | D11: 0 | E11: 0 | F11: 0 | G11: 0 | H11: 0 | I11: 0 | J11: 0 | K11: Чернівецька селищна територіальна громада | L11: UA05080090000089922
A12: Транзитне підтримане проживання/ учбова соціальна квартира (будинок) | B12: 0 | C12: 0 | D12: 0 | E12: × | F12: × | G12: × | H12: × | I12: × | J12: × | K12: Чернівецька селищна територіальна громада | L12: UA05080090000089922
A13: Соціальна адаптація | B13: 0 | C13: 0 | D13: 0 | E13: × | F13: × | G13: × | H13: × | I13: × | J13: × | K13: Чернівецька селищна територіальна громада | L13: UA05080090000089922
A14: Соціальна інтеграція та реінтеграція | B14: 0 | C14: 0 | D14: 0 | E14: × | F14: × | G14: × | H14: × | I14: × | J14: × | K14: Чернівецька селищна територіальна громада | L14: UA05080090000089922
A15: Надання притулку | B15: 0 | C15: 0 | D15: 0 | E15: 0 | F15: 0 | G15: 0 | H15: 0 | I15: 0 | J15: 0 | K15: Чернівецька селищна територіальна громада | L15: UA05080090000089922
A16: Екстрене (кризове) втручання | B16: 0 | C16: 0 | D16: 0 | E16: 0 | F16: 0 | G16: 0 | H16: 0 | I16: 0 | J16: 0 | K16: Чернівецька селищна територіальна громада | L16: UA05080090000089922
A17: Консультування | B17: 190 | C17: 190 | D17: 190 | E17: 190 | F17: 0 | G17: 207 | H17: 0 | I17: 0 | J17: 0 | K17: Чернівецька селищна територіальна громада | L17: UA05080090000089922
A18: Соціальний супровід сімей/осіб, які перебувають у складних життєвих обставинах | B18: 8 | C18: 8 | D18: 12 | E18: 8 | F18: 1 | G18: 3 | H18: 0 | I18: 0 | J18: 0 | K18: Чернівецька селищна територіальна громада | L18: UA05080090000089922
A19: Соціальний супровід сімей, у яких виховуються діти-сироти і діти, позбавлені батьківського піклування | B19: 3 | C19: 3 | D19: 4 | E19: 3 | F19: 0 | G19: 7 | H19: 0 | I19: 0 | J19: 0 | K19: Чернівецька селищна територіальна громада | L19: UA05080090000089922
A20: Соціальний супровід при працевлаштуванні та на робочому місці | B20: 0 | C20: 0 | D20: 0 | E20: × | F20: × | G20: × | H20: × | I20: × | J20: × | K20: Чернівецька селищна територіальна громада | L20: UA05080090000089922
A21: Представництво інтересів | B21: 0 | C21: 0 | D21: 0 | E21: 0 | F21: 0 | G21: 0 | H21: 0 | I21: 0 | J21: 0 | K21: Чернівецька селищна територіальна громада | L21: UA05080090000089922
A22: Посередництво | B22: 0 | C22: 0 | D22: 0 | E22: × | F22: × | G22: × | H22: × | I22: × | J22: × | K22: Чернівецька селищна територіальна громада | L22: UA05080090000089922
A23: Соціальна профілактика | B23: 0 | C23: 0 | D23: 0 | E23: × | F23: × | G23: × | H23: × | I23: × | J23: × | K23: Чернівецька селищна територіальна громада | L23: UA05080090000089922
A24: Натуральна допомога | B24: 0 | C24: 0 | D24: 0 | E24: 0 | F24: 0 | G24: 0 | H24: 0 | I24: 0 | J24: 0 | K24: Чернівецька селищна територіальна громада | L24: UA05080090000089922
A25: Фізичний супровід осіб з інвалідністю, які мають порушення опорно-рухового апарату та пересуваються на кріслах колісних, з інтелектуальним, сенсорними, фізичними, моторними, психічними та поведінковими порушеннями | B25: 0 | C25: 0 | D25: 0 | E25: × | F25: × | G25: × | H25: × | I25: × | J25: × | K25: Чернівецька селищна територіальна громада | L25: UA05080090000089922
A26: Переклад жестовою мовою | B26: 0 | C26: 0 | D26: 0 | E26: 0 | F26: 0 | G26: 0 | H26: 0 | I26: 0 | J26: 0 | K26: Чернівецька селищна територіальна громада | L26: UA05080090000089922
A27: Догляд та виховання дітей в умовах, наближених до сімейних | B27: 0 | C27: 0 | D27: 0 | E27: × | F27: × | G27: × | H27: × | I27: × | J27: × | K27: Чернівецька селищна територіальна громада | L27: UA05080090000089922
A28: Супровід під час інклюзивного навчання | B28: 0 | C28: 0 | D28: 0 | E28: × | F28: × | G28: × | H28: × | I28: × | J28: × | K28: Чернівецька селищна територіальна громада | L28: UA05080090000089922
A29: Інформування | B29: 185 | C29: 185 | D29: 282 | E29: 185 | F29: 0 | G29: 165 | H29: 0 | I29: 0 | J29: 0 | K29: Чернівецька селищна територіальна громада | L29: UA05080090000089922
A30: Медіація | B30: 0 | C30: 0 | D30: 0 | E30: × | F30: × | G30: × | H30: × | I30: × | J30: × | K30: Чернівецька селищна територіальна громада | L30: UA05080090000089922
A31: Інші соціальні послуги | K31: Чернівецька селищна територіальна громада | L31: UA05080090000089922
A32: Консультативний кризовий телефон | B32: 0 | C32: 0 | D32: 0 | E32: 0 | F32: 0 | G32: 0 | H32: 0 | I32: 0 | J32: 0 | K32: Чернівецька селищна територіальна громада | L32: UA05080090000089922
A33: Нічний притулок | B33: 0 | C33: 0 | D33: 0 | E33: 0 | F33: 0 | G33: 0 | H33: 0 | I33: 0 | J33: 0 | K33: Чернівецька селищна територіальна громада | L33: UA05080090000089922
A34: Короткотермінове проживання | B34: 0 | C34: 0 | D34: 0 | E34: 0 | F34: 0 | G34: 0 | H34: 0 | I34: 0 | J34: 0 | K34: Чернівецька селищна територіальна громада | L34: UA05080090000089922
A35: Соціально-трудова адаптація | B35: 0 | C35: 0 | D35: 0 | E35: × | F35: × | G35: × | H35: × | I35: × | J35: × | K35: Чернівецька селищна територіальна громада | L35: UA05080090000089922
A36: Догляд стаціонарний | B36: 0 | C36: 0 | D36: 0 | E36: 0 | F36: 0 | G36: 0 | H36: 0 | I36: 0 | J36: 0 | K36: Чернівецька селищна територіальна громада | L36: UA05080090000089922
A37: Паліативний догляд | B37: 0 | C37: 0 | D37: 0 | E37: 0 | F37: 0 | G37: 0 | H37: 0 | I37: 0 | J37: 0 | K37: Чернівецька селищна територіальна громада | L37: UA05080090000089922
A38: Персональний асистент | B38: 0 | C38: 0 | D38: 0 | E38: × | F38: × | G38: × | H38: × | I38: × | J38: × | K38: Чернівецька селищна територіальна громада | L38: UA05080090000089922
A39: Соціальна реабілітація осіб з інтелектуальними та психічними порушеннями | B39: 0 | C39: 0 | D39: 0 | E39: × | F39: × | G39: × | H39: × | I39: × | J39: × | K39: Чернівецька селищна територіальна громада | L39: UA05080090000089922
A40: Соціально-психологічна реабілітація | B40: 0 | C40: 0 | D40: 0 | E40: 0 | F40: 0 | G40: 0 | H40: 0 | I40: 0 | J40: 0 | K40: Чернівецька селищна територіальна громада | L40: UA05080090000089922
A41: Соціально-психологічна реабілітація осіб із залежністю від наркотичних засобів чи психотропних речовин | B41: 0 | C41: 0 | D41: 0 | E41: × | F41: × | G41: × | H41: × | I41: × | J41: × | K41: Чернівецька селищна територіальна громада | L41: UA05080090000089922
A42: Соціально-психологічна реабілітація осіб із ігровою залежністю | B42: 0 | C42: 0 | D42: 0 | E42: × | F42: × | G42: × | H42: × | I42: × | J42: × | K42: Чернівецька селищна територіальна громада | L42: UA05080090000089922
A43: Тимчасовий відпочинок для батьків або осіб, які їх замінюють, що здійснюють догляд за дітьми з інвалідністю | B43: 0 | C43: 0 | D43: 0 | E43: × | F43: × | G43: × | H43: × | I43: × | J43: × | K43: Чернівецька селищна територіальна громада | L43: UA05080090000089922
A44: Тимчасовий відпочинок для осіб, що здійснюють догляд за особами з інвалідністю, особами, які мають невиліковні хвороби, хвороби, що потребують тривалого лікування | B44: 0 | C44: 0 | D44: 0 | E44: × | F44: × | G44: × | H44: × | I44: × | J44: × | K44: Чернівецька селищна територіальна громада | L44: UA05080090000089922
A45: Транспортні послуги | B45: 0 | C45: 0 | D45: 0 | E45: 0 | F45: 0 | G45: 0 | H45: 0 | I45: 0 | J45: 0 | K45: Чернівецька селищна територіальна громада | L45: UA05080090000089922

Sheet Ямпільська міська територіальна
A1: ДАНІ
A2: щодо забезпечення осіб/сімей, які належать до вразливих груп населення або перебувають у складних життєвих обставинах, соціальними послугами
A3: Назва соціальної послуги відповідно до переліку соціальних послуг | B3: Кількість осіб, які звертались щодо отримання соціальних послуг, та осіб/сімей, щодо яких надійшли звернення/ повідомлення про потребу в соціальних послугах у звітному періоді* | C3: Кількість осіб/сімей, щодо яких за результатами оцінки потреб особи/сім’ї зроблено висновок про потребу в наданні соціальних послуг* | D3: Кількість осіб/сімей, які отримували соціальні послуги* | E3: Кількість осіб, які звертались щодо отримання соціальних послуг екстрено (кризово), та осіб/сімей, щодо яких надійшли звернення / повідомлення про потребу в соціальних послугах** | H3: Кількість осіб/сімей, які отримували соціальні послуги екстрено(кризово)**
E4: всього осіб/сімей | F4: з них кількість внутрішньо переміщених осіб/сімей | G4: в них дітей | H4: всього осіб/сімей | I4: з них кількість внутрішньо переміщених осіб/сімей | J4: в них дітей
A5: 1 | B5: 2 | C5: 3 | D5: 4 | E5: 5 | F5: 6 | G5: 7 | H5: 8 | I5: 9 | J5: 10
A6: Базові соціальні послуги
A7: Догляд вдома | B7: 35 | C7: 35 | D7: 535 | E7: 35 | F7: 0 | G7: 0 | H7: 0 | I7: 0 | J7: 0 | K7: Ямпільська міська територіальна громада | L7: UA05080110000056824
A8: Денний догляд | B8: 0 | C8: 0 | D8: 0 | E8: 0 | F8: 0 | G8: 0 | H8: 0 | I8: 0 | J8: 0 | K8: Ямпільська міська територіальна громада | L8: UA05080110000056824
A9: Денний догляд дітей з інвалідністю | B9: 0 | C9: 0 | D9: 0 | E9: 0 | F9: 0 | G9: 0 | H9: 0 | I9: 0 | J9: 0 | K9: Ямпільська міська територіальна громада | L9: UA05080110000056824
A10: Підтримане проживання осіб похилого віку та осіб з інвалідністю | B10: 0 | C10: 0 | D10: 0 | E10: 0 | F10: 0 | G10: 0 | H10: 0 | I10: 0 | J10: 0 | K10: Ямпільська міська територіальна громада | L10: UA05080110000056824
A11: Підтримане проживання бездомних осіб | B11: 0 | C11: 0 | D11: 0 | E11: 0 | F11: 0 | G11: 0 | H11: 0 | I11: 0 | J11: 0 | K11: Ямпільська міська територіальна громада | L11: UA05080110000056824
A12: Транзитне підтримане проживання/ учбова соціальна квартира (будинок) | B12: 0 | C12: 0 | D12: 0 | E12: × | F12: × | G12: × | H12: × | I12: × | J12: × | K12: Ямпільська міська територіальна громада | L12: UA05080110000056824
A13: Соціальна адаптація | B13: 2 | C13: 2 | D13: 2 | E13: × | F13: × | G13: × | H13: × | I13: × | J13: × | K13: Ямпільська міська територіальна громада | L13: UA05080110000056824
A14: Соціальна інтеграція та реінтеграція | B14: 0 | C14: 0 | D14: 0 | E14: × | F14: × | G14: × | H14: × | I14: × | J14: × | K14: Ямпільська міська територіальна громада | L14: UA05080110000056824
A15: Надання притулку | B15: 0 | C15: 0 | D15: 0 | E15: 0 | F15: 0 | G15: 0 | H15: 0 | I15: 0 | J15: 0 | K15: Ямпільська міська територіальна громада | L15: UA05080110000056824
A16: Екстрене (кризове) втручання | B16: 0 | C16: 0 | D16: 0 | E16: 0 | F16: 0 | G16: 0 | H16: 0 | I16: 0 | J16: 0 | K16: Ямпільська міська територіальна громада | L16: UA05080110000056824
A17: Консультування | B17: 305 | C17: 305 | D17: 356 | E17: 305 | F17: 35 | G17: 44 | H17: 0 | I17: 0 | J17: 0 | K17: Ямпільська міська територіальна громада | L17: UA05080110000056824
A18: Соціальний супровід сімей/осіб, які перебувають у складних життєвих обставинах | B18: 35 | C18: 35 | D18: 41 | E18: 35 | F18: 0 | G18: 0 | H18: 0 | I18: 0 | J18: 0 | K18: Ямпільська міська територіальна громада | L18: UA05080110000056824
A19: Соціальний супровід сімей, у яких виховуються діти-сироти і діти, позбавлені батьківського піклування | B19: 11 | C19: 11 | D19: 11 | E19: 11 | F19: 0 | G19: 0 | H19: 0 | I19: 0 | J19: 0 | K19: Ямпільська міська територіальна громада | L19: UA05080110000056824
A20: Соціальний супровід при працевлаштуванні та на робочому місці | B20: 0 | C20: 0 | D20: 0 | E20: × | F20: × | G20: × | H20: × | I20: × | J20: × | K20: Ямпільська міська територіальна громада | L20: UA05080110000056824
A21: Представництво інтересів | B21: 0 | C21: 0 | D21: 0 | E21: 0 | F21: 0 | G21: 0 | H21: 0 | I21: 0 | J21: 0 | K21: Ямпільська міська територіальна громада | L21: UA05080110000056824
A22: Посередництво | B22: 0 | C22: 0 | D22: 0 | E22: × | F22: × | G22: × | H22: × | I22: × | J22: × | K22: Ямпільська міська територіальна громада | L22: UA05080110000056824
A23: Соціальна профілактика | B23: 6 | C23: 6 | D23: 6 | E23: × | F23: × | G23: × | H23: × | I23: × | J23: × | K23: Ямпільська міська територіальна громада | L23: UA05080110000056824
A24: Натуральна допомога | B24: 309 | C24: 309 | D24: 309 | E24: 309 | F24: 4 | G24: 0 | H24: 0 | I24: 0 | J24: 0 | K24: Ямпільська міська територіальна громада | L24: UA05080110000056824
A25: Фізичний супровід осіб з інвалідністю, які мають порушення опорно-рухового апарату та пересуваються на кріслах колісних, з інтелектуальним, сенсорними, фізичними, моторними, психічними та поведінковими порушеннями | B25: 0 | C25: 0 | D25: 0 | E25: × | F25: × | G25: × | H25: × | I25: × | J25: × | K25: Ямпільська міська територіальна громада | L25: UA05080110000056824
A26: Переклад жестовою мовою | B26: 0 | C26: 0 | D26: 0 | E26: 0 | F26: 0 | G26: 0 | H26: 0 | I26: 0 | J26: 0 | K26: Ямпільська міська територіальна громада | L26: UA05080110000056824
A27: Догляд та виховання дітей в умовах, наближених до сімейних | B27: 0 | C27: 0 | D27: 0 | E27: × | F27: × | G27: × | H27: × | I27: × | J27: × | K27: Ямпільська міська територіальна громада | L27: UA05080110000056824
A28: Супровід під час інклюзивного навчання | B28: 0 | C28: 0 | D28: 1 | E28: × | F28: × | G28: × | H28: × | I28: × | J28: × | K28: Ямпільська міська територіальна громада | L28: UA05080110000056824
A29: Інформування | B29: 566 | C29: 566 | D29: 566 | E29: 566 | F29: 38 | G29: 54 | H29: 0 | I29: 0 | J29: 0 | K29: Ямпільська міська територіальна громада | L29: UA05080110000056824
A30: Медіація | B30: 0 | C30: 0 | D30: 0 | E30: × | F30: × | G30: × | H30: × | I30: × | J30: × | K30: Ямпільська міська територіальна громада | L30: UA05080110000056824
A31: Інші соціальні послуги | K31: Ямпільська міська територіальна громада | L31: UA05080110000056824
A32: Консультативний кризовий телефон | B32: 0 | C32: 0 | D32: 0 | E32: 0 | F32: 0 | G32: 0 | H32: 0 | I32: 0 | J32: 0 | K32: Ямпільська міська територіальна громада | L32: UA05080110000056824
A33: Нічний притулок | B33: 0 | C33: 0 | D33: 0 | E33: 0 | F33: 0 | G33: 0 | H33: 0 | I33: 0 | J33: 0 | K33: Ямпільська міська територіальна громада | L33: UA05080110000056824
A34: Короткотермінове проживання | B34: 0 | C34: 0 | D34: 0 | E34: 0 | F34: 0 | G34: 0 | H34: 0 | I34: 0 | J34: 0 | K34: Ямпільська міська територіальна громада | L34: UA05080110000056824
A35: Соціально-трудова адаптація | B35: 0 | C35: 0 | D35: 0 | E35: × | F35: × | G35: × | H35: × | I35: × | J35: × | K35: Ямпільська міська територіальна громада | L35: UA05080110000056824
A36: Догляд стаціонарний | B36: 6 | C36: 6 | D36: 30 | E36: 6 | F36: 0 | G36: 0 | H36: 0 | I36: 0 | J36: 0 | K36: Ямпільська міська територіальна громада | L36: UA05080110000056824
A37: Паліативний догляд | B37: 0 | C37: 0 | D37: 0 | E37: 0 | F37: 0 | G37: 0 | H37: 0 | I37: 0 | J37: 0 | K37: Ямпільська міська територіальна громада | L37: UA05080110000056824
A38: Персональний асистент | B38: 0 | C38: 0 | D38: 0 | E38: × | F38: × | G38: × | H38: × | I38: × | J38: × | K38: Ямпільська міська територіальна громада | L38: UA05080110000056824
A39: Соціальна реабілітація осіб з інтелектуальними та психічними порушеннями | B39: 0 | C39: 0 | D39: 0 | E39: × | F39: × | G39: × | H39: × | I39: × | J39: × | K39: Ямпільська міська територіальна громада | L39: UA05080110000056824
A40: Соціально-психологічна реабілітація | B40: 0 | C40: 0 | D40: 0 | E40: 0 | F40: 0 | G40: 0 | H40: 0 | I40: 0 | J40: 0 | K40: Ямпільська міська територіальна громада | L40: UA05080110000056824
A41: Соціально-психологічна реабілітація осіб із залежністю від наркотичних засобів чи психотропних речовин | B41: 0 | C41: 0 | D41: 0 | E41: × | F41: × | G41: × | H41: × | I41: × | J41: × | K41: Ямпільська міська територіальна громада | L41: UA05080110000056824
A42: Соціально-психологічна реабілітація осіб із ігровою залежністю | B42: 0 | C42: 0 | D42: 0 | E42: × | F42: × | G42: × | H42: × | I42: × | J42: × | K42: Ямпільська міська територіальна громада | L42: UA05080110000056824
A43: Тимчасовий відпочинок для батьків або осіб, які їх замінюють, що здійснюють догляд за дітьми з інвалідністю | B43: 0 | C43: 0 | D43: 0 | E43: × | F43: × | G43: × | H43: × | I43: × | J43: × | K43: Ямпільська міська територіальна громада | L43: UA05080110000056824
A44: Тимчасовий відпочинок для осіб, що здійснюють догляд за особами з інвалідністю, особами, які мають невиліковні хвороби, хвороби, що потребують тривалого лікування | B44: 0 | C44: 0 | D44: 0 | E44: × | F44: × | G44: × | H44: × | I44: × | J44: × | K44: Ямпільська міська територіальна громада | L44: UA05080110000056824
A45: Транспортні послуги | B45: 0 | C45: 0 | D45: 0 | E45: 0 | F45: 0 | G45: 0 | H45: 0 | I45: 0 | J45: 0 | K45: Ямпільська міська територіальна громада | L45: UA05080110000056824

Sheet Яришівська сільська територіаль
A1: ДАНІ
A2: щодо забезпечення осіб/сімей, які належать до вразливих груп населення або перебувають у складних життєвих обставинах, соціальними послугами
A3: Назва соціальної послуги відповідно до переліку соціальних послуг | B3: Кількість осіб, які звертались щодо отримання соціальних послуг, та осіб/сімей, щодо яких надійшли звернення/ повідомлення про потребу в соціальних послугах у звітному періоді* | C3: Кількість осіб/сімей, щодо яких за результатами оцінки потреб особи/сім’ї зроблено висновок про потребу в наданні соціальних послуг* | D3: Кількість осіб/сімей, які отримували соціальні послуги* | E3: Кількість осіб, які звертались щодо отримання соціальних послуг екстрено (кризово), та осіб/сімей, щодо яких надійшли звернення / повідомлення про потребу в соціальних послугах** | H3: Кількість осіб/сімей, які отримували соціальні послуги екстрено(кризово)**
E4: всього осіб/сімей | F4: з них кількість внутрішньо переміщених осіб/сімей | G4: в них дітей | H4: всього осіб/сімей | I4: з них кількість внутрішньо переміщених осіб/сімей | J4: в них дітей
A5: 1 | B5: 2 | C5: 3 | D5: 4 | E5: 5 | F5: 6 | G5: 7 | H5: 8 | I5: 9 | J5: 10
A6: Базові соціальні послуги
A7: Догляд вдома | B7: 15 | C7: 15 | D7: 179 | E7: 15 | F7: 0 | G7: 0 | H7: 0 | I7: 0 | J7: 0 | K7: Яришівська сільська територіальна громада | L7: UA05080130000024964
A8: Денний догляд | B8: 0 | C8: 0 | D8: 0 | E8: 0 | F8: 0 | G8: 0 | H8: 0 | I8: 0 | J8: 0 | K8: Яришівська сільська територіальна громада | L8: UA05080130000024964
A9: Денний догляд дітей з інвалідністю | B9: 0 | C9: 0 | D9: 0 | E9: 0 | F9: 0 | G9: 0 | H9: 0 | I9: 0 | J9: 0 | K9: Яришівська сільська територіальна громада | L9: UA05080130000024964
A10: Підтримане проживання осіб похилого віку та осіб з інвалідністю | B10: 0 | C10: 0 | D10: 0 | E10: 0 | F10: 0 | G10: 0 | H10: 0 | I10: 0 | J10: 0 | K10: Яришівська сільська територіальна громада | L10: UA05080130000024964
A11: Підтримане проживання бездомних осіб | B11: 0 | C11: 0 | D11: 0 | E11: 0 | F11: 0 | G11: 0 | H11: 0 | I11: 0 | J11: 0 | K11: Яришівська сільська територіальна громада | L11: UA05080130000024964
A12: Транзитне підтримане проживання/ учбова соціальна квартира (будинок) | B12: 0 | C12: 0 | D12: 0 | E12: × | F12: × | G12: × | H12: × | I12: × | J12: × | K12: Яришівська сільська територіальна громада | L12: UA05080130000024964
A13: Соціальна адаптація | B13: 0 | C13: 0 | D13: 0 | E13: × | F13: × | G13: × | H13: × | I13: × | J13: × | K13: Яришівська сільська територіальна громада | L13: UA05080130000024964
A14: Соціальна інтеграція та реінтеграція | B14: 0 | C14: 0 | D14: 0 | E14: × | F14: × | G14: × | H14: × | I14: × | J14: × | K14: Яришівська сільська територіальна громада | L14: UA05080130000024964
A15: Надання притулку | B15: 0 | C15: 0 | D15: 0 | E15: 0 | F15: 0 | G15: 0 | H15: 0 | I15: 0 | J15: 0 | K15: Яришівська сільська територіальна громада | L15: UA05080130000024964
A16: Екстрене (кризове) втручання | B16: 0 | C16: 0 | D16: 0 | E16: 0 | F16: 0 | G16: 0 | H16: 0 | I16: 0 | J16: 0 | K16: Яришівська сільська територіальна громада | L16: UA05080130000024964
A17: Консультування | B17: 15 | C17: 15 | D17: 15 | E17: 15 | F17: 2 | G17: 0 | H17: 0 | I17: 0 | J17: 0 | K17: Яришівська сільська територіальна громада | L17: UA05080130000024964
A18: Соціальний супровід сімей/осіб, які перебувають у складних життєвих обставинах | B18: 7 | C18: 7 | D18: 7 | E18: 7 | F18: 0 | G18: 11 | H18: 0 | I18: 0 | J18: 0 | K18: Яришівська сільська територіальна громада | L18: UA05080130000024964
A19: Соціальний супровід сімей, у яких виховуються діти-сироти і діти, позбавлені батьківського піклування | B19: 2 | C19: 2 | D19: 2 | E19: 2 | F19: 0 | G19: 12 | H19: 0 | I19: 0 | J19: 0 | K19: Яришівська сільська територіальна громада | L19: UA05080130000024964
A20: Соціальний супровід при працевлаштуванні та на робочому місці | B20: 0 | C20: 0 | D20: 0 | E20: × | F20: × | G20: × | H20: × | I20: × | J20: × | K20: Яришівська сільська територіальна громада | L20: UA05080130000024964
A21: Представництво інтересів | B21: 0 | C21: 0 | D21: 0 | E21: 0 | F21: 0 | G21: 0 | H21: 0 | I21: 0 | J21: 0 | K21: Яришівська сільська територіальна громада | L21: UA05080130000024964
A22: Посередництво | B22: 0 | C22: 0 | D22: 0 | E22: × | F22: × | G22: × | H22: × | I22: × | J22: × | K22: Яришівська сільська територіальна громада | L22: UA05080130000024964
A23: Соціальна профілактика | B23: 0 | C23: 0 | D23: 0 | E23: × | F23: × | G23: × | H23: × | I23: × | J23: × | K23: Яришівська сільська територіальна громада | L23: UA05080130000024964
A24: Натуральна допомога | B24: 112 | C24: 112 | D24: 112 | E24: 112 | F24: 4 | G24: 24 | H24: 0 | I24: 0 | J24: 0 | K24: Яришівська сільська територіальна громада | L24: UA05080130000024964
A25: Фізичний супровід осіб з інвалідністю, які мають порушення опорно-рухового апарату та пересуваються на кріслах колісних, з інтелектуальним, сенсорними, фізичними, моторними, психічними та поведінковими порушеннями | B25: 0 | C25: 0 | D25: 0 | E25: × | F25: × | G25: × | H25: × | I25: × | J25: × | K25: Яришівська сільська територіальна громада | L25: UA05080130000024964
A26: Переклад жестовою мовою | B26: 0 | C26: 0 | D26: 0 | E26: 0 | F26: 0 | G26: 0 | H26: 0 | I26: 0 | J26: 0 | K26: Яришівська сільська територіальна громада | L26: UA05080130000024964
A27: Догляд та виховання дітей в умовах, наближених до сімейних | B27: 0 | C27: 0 | D27: 0 | E27: × | F27: × | G27: × | H27: × | I27: × | J27: × | K27: Яришівська сільська територіальна громада | L27: UA05080130000024964
A28: Супровід під час інклюзивного навчання | B28: 0 | C28: 0 | D28: 0 | E28: × | F28: × | G28: × | H28: × | I28: × | J28: × | K28: Яришівська сільська територіальна громада | L28: UA05080130000024964
A29: Інформування | B29: 124 | C29: 124 | D29: 124 | E29: 124 | F29: 5 | G29: 8 | H29: 0 | I29: 0 | J29: 0 | K29: Яришівська сільська територіальна громада | L29: UA05080130000024964
A30: Медіація | B30: 0 | C30: 0 | D30: 0 | E30: × | F30: × | G30: × | H30: × | I30: × | J30: × | K30: Яришівська сільська територіальна громада | L30: UA05080130000024964
A31: Інші соціальні послуги | K31: Яришівська сільська територіальна громада | L31: UA05080130000024964
A32: Консультативний кризовий телефон | B32: 0 | C32: 0 | D32: 0 | E32: 0 | F32: 0 | G32: 0 | H32: 0 | I32: 0 | J32: 0 | K32: Яришівська сільська територіальна громада | L32: UA05080130000024964
A33: Нічний притулок | B33: 0 | C33: 0 | D33: 0 | E33: 0 | F33: 0 | G33: 0 | H33: 0 | I33: 0 | J33: 0 | K33: Яришівська сільська територіальна громада | L33: UA05080130000024964
A34: Короткотермінове проживання | B34: 0 | C34: 0 | D34: 0 | E34: 0 | F34: 0 | G34: 0 | H34: 0 | I34: 0 | J34: 0 | K34: Яришівська сільська територіальна громада | L34: UA05080130000024964
A35: Соціально-трудова адаптація | B35: 0 | C35: 0 | D35: 0 | E35: × | F35: × | G35: × | H35: × | I35: × | J35: × | K35: Яришівська сільська територіальна громада | L35: UA05080130000024964
A36: Догляд стаціонарний | B36: 0 | C36: 0 | D36: 0 | E36: 0 | F36: 0 | G36: 0 | H36: 0 | I36: 0 | J36: 0 | K36: Яришівська сільська територіальна громада | L36: UA05080130000024964
A37: Паліативний догляд | B37: 0 | C37: 0 | D37: 0 | E37: 0 | F37: 0 | G37: 0 | H37: 0 | I37: 0 | J37: 0 | K37: Яришівська сільська територіальна громада | L37: UA05080130000024964
A38: Персональний асистент | B38: 0 | C38: 0 | D38: 0 | E38: × | F38: × | G38: × | H38: × | I38: × | J38: × | K38: Яришівська сільська територіальна громада | L38: UA05080130000024964
A39: Соціальна реабілітація осіб з інтелектуальними та психічними порушеннями | B39: 0 | C39: 0 | D39: 0 | E39: × | F39: × | G39: × | H39: × | I39: × | J39: × | K39: Яришівська сільська територіальна громада | L39: UA05080130000024964
A40: Соціально-психологічна реабілітація | B40: 0 | C40: 0 | D40: 0 | E40: 0 | F40: 0 | G40: 0 | H40: 0 | I40: 0 | J40: 0 | K40: Яришівська сільська територіальна громада | L40: UA05080130000024964
A41: Соціально-психологічна реабілітація осіб із залежністю від наркотичних засобів чи психотропних речовин | B41: 0 | C41: 0 | D41: 0 | E41: × | F41: × | G41: × | H41: × | I41: × | J41: × | K41: Яришівська сільська територіальна громада | L41: UA05080130000024964
A42: Соціально-психологічна реабілітація осіб із ігровою залежністю | B42: 0 | C42: 0 | D42: 0 | E42: × | F42: × | G42: × | H42: × | I42: × | J42: × | K42: Яришівська сільська територіальна громада | L42: UA05080130000024964
A43: Тимчасовий відпочинок для батьків або осіб, які їх замінюють, що здійснюють догляд за дітьми з інвалідністю | B43: 0 | C43: 0 | D43: 0 | E43: × | F43: × | G43: × | H43: × | I43: × | J43: × | K43: Яришівська сільська територіальна громада | L43: UA05080130000024964
A44: Тимчасовий відпочинок для осіб, що здійснюють догляд за особами з інвалідністю, особами, які мають невиліковні хвороби, хвороби, що потребують тривалого лікування | B44: 0 | C44: 0 | D44: 0 | E44: × | F44: × | G44: × | H44: × | I44: × | J44: × | K44: Яришівська сільська територіальна громада | L44: UA05080130000024964
A45: Транспортні послуги | B45: 0 | C45: 0 | D45: 0 | E45: 0 | F45: 0 | G45: 0 | H45: 0 | I45: 0 | J45: 0 | K45: Яришівська сільська територіальна громада | L45: UA05080130000024964

Sheet Могилів-Подільський район(зведе
A1: Догляд вдома | B1: 9 | C1: 9 | D1: 72 | E1: 9 | F1: 3 | G1: 0 | H1: 0 | I1: 0 | J1: 0 | K1: Бабчинецька сільська територіальна громада | L1: UA05080010000038400
A2: Денний догляд | B2: 0 | C2: 0 | D2: 0 | E2: 0 | F2: 0 | G2: 0 | H2: 0 | I2: 0 | J2: 0 | K2: Бабчинецька сільська територіальна громада | L2: UA05080010000038400
A3: Денний догляд дітей з інвалідністю | B3: 0 | C3: 0 | D3: 0 | E3: 0 | F3: 0 | G3: 0 | H3: 0 | I3: 0 | J3: 0 | K3: Бабчинецька сільська територіальна громада | L3: UA05080010000038400
A4: Підтримане проживання осіб похилого віку та осіб з інвалідністю | B4: 0 | C4: 0 | D4: 0 | E4: 0 | F4: 0 | G4: 0 | H4: 0 | I4: 0 | J4: 0 | K4: Бабчинецька сільська територіальна громада | L4: UA05080010000038400
A5: Підтримане проживання бездомних осіб | B5: 0 | C5: 0 | D5: 0 | E5: 0 | F5: 0 | G5: 0 | H5: 0 | I5: 0 | J5: 0 | K5: Бабчинецька сільська територіальна громада | L5: UA05080010000038400
A6: Транзитне підтримане проживання/ учбова соціальна квартира (будинок) | B6: 0 | C6: 0 | D6: 0 | E6: × | F6: × | G6: × | H6: × | I6: × | J6: × | K6: Бабчинецька сільська територіальна громада | L6: UA05080010000038400
A7: Соціальна адаптація | B7: 0 | C7: 0 | D7: 0 | E7: × | F7: × | G7: × | H7: × | I7: × | J7: × | K7: Бабчинецька сільська територіальна громада | L7: UA05080010000038400
A8: Соціальна інтеграція та реінтеграція | B8: 0 | C8: 0 | D8: 0 | E8: × | F8: × | G8: × | H8: × | I8: × | J8: × | K8: Бабчинецька сільська територіальна громада | L8: UA05080010000038400
A9: Надання притулку | B9: 0 | C9: 0 | D9: 0 | E9: 0 | F9: 0 | G9: 0 | H9: 0 | I9: 0 | J9: 0 | K9: Бабчинецька сільська територіальна громада | L9: UA05080010000038400
A10: Екстрене (кризове) втручання | B10: 0 | C10: 0 | D10: 0 | E10: 0 | F10: 0 | G10: 0 | H10: 0 | I10: 0 | J10: 0 | K10: Бабчинецька сільська територіальна громада | L10: UA05080010000038400
A11: Консультування | B11: 56 | C11: 24 | D11: 61 | E11: 56 | F11: 19 | G11: 14 | H11: 0 | I11: 0 | J11: 0 | K11: Бабчинецька сільська територіальна громада | L11: UA05080010000038400
A12: Соціальний супровід сімей/осіб, які перебувають у складних життєвих обставинах | B12: 4 | C12: 4 | D12: 6 | E12: 4 | F12: 0 | G12: 9 | H12: 0 | I12: 0 | J12: 0 | K12: Бабчинецька сільська територіальна громада | L12: UA05080010000038400
A13: Соціальний супровід сімей, у яких виховуються діти-сироти і діти, позбавлені батьківського піклування | B13: 1 | C13: 1 | D13: 1 | E13: 1 | F13: 0 | G13: 2 | H13: 0 | I13: 0 | J13: 0 | K13: Бабчинецька сільська територіальна громада | L13: UA05080010000038400
A14: Соціальний супровід при працевлаштуванні та на робочому місці | B14: 0 | C14: 0 | D14: 0 | E14: × | F14: × | G14: × | H14: × | I14: × | J14: × | K14: Бабчинецька сільська територіальна громада | L14: UA05080010000038400
A15: Представництво інтересів | B15: 0 | C15: 0 | D15: 0 | E15: 0 | F15: 0 | G15: 0 | H15: 0 | I15: 0 | J15: 0 | K15: Бабчинецька сільська територіальна громада | L15: UA05080010000038400
A16: Посередництво | B16: 0 | C16: 0 | D16: 0 | E16: × | F16: × | G16: × | H16: × | I16: × | J16: × | K16: Бабчинецька сільська територіальна громада | L16: UA05080010000038400
A17: Соціальна профілактика | B17: 0 | C17: 0 | D17: 0 | E17: × | F17: × | G17: × | H17: × | I17: × | J17: × | K17: Бабчинецька сільська територіальна громада | L17: UA05080010000038400
A18: Натуральна допомога | B18: 0 | C18: 0 | D18: 0 | E18: 0 | F18: 0 | G18: 0 | H18: 0 | I18: 0 | J18: 0 | K18: Бабчинецька сільська територіальна громада | L18: UA05080010000038400
A19: Фізичний супровід осіб з інвалідністю, які мають порушення опорно-рухового апарату та пересуваються на кріслах колісних, з інтелектуальним, сенсорними, фізичними, моторними, психічними та поведінковими порушеннями | B19: 0 | C19: 0 | D19: 0 | E19: × | F19: × | G19: × | H19: × | I19: × | J19: × | K19: Бабчинецька сільська територіальна громада | L19: UA05080010000038400
A20: Переклад жестовою мовою | B20: 0 | C20: 0 | D20: 0 | E20: 0 | F20: 0 | G20: 0 | H20: 0 | I20: 0 | J20: 0 | K20: Бабчинецька сільська територіальна громада | L20: UA05080010000038400
A21: Догляд та виховання дітей в умовах, наближених до сімейних | B21: 0 | C21: 0 | D21: 0 | E21: × | F21: × | G21: × | H21: × | I21: × | J21: × | K21: Бабчинецька сільська територіальна громада | L21: UA05080010000038400
A22: Супровід під час інклюзивного навчання | B22: 0 | C22: 0 | D22: 0 | E22: × | F22: × | G22: × | H22: × | I22: × | J22: × | K22: Бабчинецька сільська територіальна громада | L22: UA05080010000038400
A23: Інформування | B23: 72 | C23: 31 | D23: 72 | E23: 72 | F23: 23 | G23: 14 | H23: 0 | I23: 0 | J23: 0 | K23: Бабчинецька сільська територіальна громада | L23: UA05080010000038400
A24: Медіація | B24: 0 | C24: 0 | D24: 0 | E24: × | F24: × | G24: × | H24: × | I24: × | J24: × | K24: Бабчинецька сільська територіальна громада | L24: UA05080010000038400
A25: Інші соціальні послуги | K25: Бабчинецька сільська територіальна громада | L25: UA05080010000038400
A26: Консультативний кризовий телефон | B26: 0 | C26: 0 | D26: 0 | E26: 0 | F26: 0 | G26: 0 | H26: 0 | I26: 0 | J26: 0 | K26: Бабчинецька сільська територіальна громада | L26: UA05080010000038400
A27: Нічний притулок | B27: 0 | C27: 0 | D27: 0 | E27: 0 | F27: 0 | G27: 0 | H27: 0 | I27: 0 | J27: 0 | K27: Бабчинецька сільська територіальна громада | L27: UA05080010000038400
A28: Короткотермінове проживання | B28: 0 | C28: 0 | D28: 0 | E28: 0 | F28: 0 | G28: 0 | H28: 0 | I28: 0 | J28: 0 | K28: Бабчинецька сільська територіальна громада | L28: UA05080010000038400
A29: Соціально-трудова адаптація | B29: 0 | C29: 0 | D29: 0 | E29: × | F29: × | G29: × | H29: × | I29: × | J29: × | K29: Бабчинецька сільська територіальна громада | L29: UA05080010000038400
A30: Догляд стаціонарний | B30: 0 | C30: 0 | D30: 0 | E30: 0 | F30: 0 | G30: 0 | H30: 0 | I30: 0 | J30: 0 | K30: Бабчинецька сільська територіальна громада | L30: UA05080010000038400
A31: Паліативний догляд | B31: 0 | C31: 0 | D31: 0 | E31: 0 | F31: 0 | G31: 0 | H31: 0 | I31: 0 | J31: 0 | K31: Бабчинецька сільська територіальна громада | L31: UA05080010000038400
A32: Персональний асистент | B32: 0 | C32: 0 | D32: 0 | E32: × | F32: × | G32: × | H32: × | I32: × | J32: × | K32: Бабчинецька сільська територіальна громада | L32: UA05080010000038400
A33: Соціальна реабілітація осіб з інтелектуальними та психічними порушеннями | B33: 0 | C33: 0 | D33: 0 | E33: × | F33: × | G33: × | H33: × | I33: × | J33: × | K33: Бабчинецька сільська територіальна громада | L33: UA05080010000038400
A34: Соціально-психологічна реабілітація | B34: 0 | C34: 0 | D34: 0 | E34: 0 | F34: 0 | G34: 0 | H34: 0 | I34: 0 | J34: 0 | K34: Бабчинецька сільська територіальна громада | L34: UA05080010000038400
A35: Соціально-психологічна реабілітація осіб із залежністю від наркотичних засобів чи психотропних речовин | B35: 0 | C35: 0 | D35: 0 | E35: × | F35: × | G35: × | H35: × | I35: × | J35: × | K35: Бабчинецька сільська територіальна громада | L35: UA05080010000038400
A36: Соціально-психологічна реабілітація осіб із ігровою залежністю | B36: 0 | C36: 0 | D36: 0 | E36: × | F36: × | G36: × | H36: × | I36: × | J36: × | K36: Бабчинецька сільська територіальна громада | L36: UA05080010000038400
A37: Тимчасовий відпочинок для батьків або осіб, які їх замінюють, що здійснюють догляд за дітьми з інвалідністю | B37: 0 | C37: 0 | D37: 0 | E37: × | F37: × | G37: × | H37: × | I37: × | J37: × | K37: Бабчинецька сільська територіальна громада | L37: UA05080010000038400
A38: Тимчасовий відпочинок для осіб, що здійснюють догляд за особами з інвалідністю, особами, які мають невиліковні хвороби, хвороби, що потребують тривалого лікування | B38: 0 | C38: 0 | D38: 0 | E38: × | F38: × | G38: × | H38: × | I38: × | J38: × | K38: Бабчинецька сільська територіальна громада | L38: UA05080010000038400
A39: Транспортні послуги | B39: 0 | C39: 0 | D39: 0 | E39: 0 | F39: 0 | G39: 0 | H39: 0 | I39: 0 | J39: 0 | K39: Бабчинецька сільська територіальна громада | L39: UA05080010000038400
A40: Догляд вдома | B40: 28 | C40: 28 | D40: 265 | E40: 28 | F40: 0 | G40: 0 | H40: 0 | I40: 0 | J40: 0 | K40: Вендичанська селищна територіальна громада | L40: UA05080030000089348
A41: Денний догляд | B41: 0 | C41: 0 | D41: 0 | E41: 0 | F41: 0 | G41: 0 | H41: 0 | I41: 0 | J41: 0 | K41: Вендичанська селищна територіальна громада | L41: UA05080030000089348
A42: Денний догляд дітей з інвалідністю | B42: 0 | C42: 0 | D42: 0 | E42: 0 | F42: 0 | G42: 0 | H42: 0 | I42: 0 | J42: 0 | K42: Вендичанська селищна територіальна громада | L42: UA05080030000089348
A43: Підтримане проживання осіб похилого віку та осіб з інвалідністю | B43: 0 | C43: 0 | D43: 0 | E43: 0 | F43: 0 | G43: 0 | H43: 0 | I43: 0 | J43: 0 | K43: Вендичанська селищна територіальна громада | L43: UA05080030000089348
A44: Підтримане проживання бездомних осіб | B44: 0 | C44: 0 | D44: 0 | E44: 0 | F44: 0 | G44: 0 | H44: 0 | I44: 0 | J44: 0 | K44: Вендичанська селищна територіальна громада | L44: UA05080030000089348
A45: Транзитне підтримане проживання/ учбова соціальна квартира (будинок) | B45: 0 | C45: 0 | D45: 0 | E45: × | F45: × | G45: × | H45: × | I45: × | J45: × | K45: Вендичанська селищна територіальна громада | L45: UA05080030000089348
A46: Соціальна адаптація | B46: 0 | C46: 0 | D46: 0 | E46: × | F46: × | G46: × | H46: × | I46: × | J46: × | K46: Вендичанська селищна територіальна громада | L46: UA05080030000089348
A47: Соціальна інтеграція та реінтеграція | B47: 0 | C47: 0 | D47: 0 | E47: × | F47: × | G47: × | H47: × | I47: × | J47: × | K47: Вендичанська селищна територіальна громада | L47: UA05080030000089348
A48: Надання притулку | B48: 0 | C48: 0 | D48: 0 | E48: 0 | F48: 0 | G48: 0 | H48: 0 | I48: 0 | J48: 0 | K48: Вендичанська селищна територіальна громада | L48: UA05080030000089348
A49: Екстрене (кризове) втручання | B49: 0 | C49: 0 | D49: 0 | E49: 0 | F49: 0 | G49: 0 | H49: 0 | I49: 0 | J49: 0 | K49: Вендичанська селищна територіальна громада | L49: UA05080030000089348
A50: Консультування | B50: 71 | C50: 71 | D50: 71 | E50: 71 | F50: 10 | G50: 0 | H50: 0 | I50: 0 | J50: 0 | K50: Вендичанська селищна територіальна громада | L50: UA05080030000089348
A51: Соціальний супровід сімей/осіб, які перебувають у складних життєвих обставинах | B51: 6 | C51: 6 | D51: 8 | E51: 6 | F51: 0 | G51: 11 | H51: 0 | I51: 0 | J51: 0 | K51: Вендичанська селищна територіальна громада | L51: UA05080030000089348
A52: Соціальний супровід сімей, у яких виховуються діти-сироти і діти, позбавлені батьківського піклування | B52: 0 | C52: 0 | D52: 2 | E52: 0 | F52: 0 | G52: 0 | H52: 0 | I52: 0 | J52: 0 | K52: Вендичанська селищна територіальна громада | L52: UA05080030000089348
A53: Соціальний супровід при працевлаштуванні та на робочому місці | B53: 0 | C53: 0 | D53: 0 | E53: × | F53: × | G53: × | H53: × | I53: × | J53: × | K53: Вендичанська селищна територіальна громада | L53: UA05080030000089348
A54: Представництво інтересів | B54: 0 | C54: 0 | D54: 0 | E54: 0 | F54: 0 | G54: 0 | H54: 0 | I54: 0 | J54: 0 | K54: Вендичанська селищна територіальна громада | L54: UA05080030000089348
A55: Посередництво | B55: 0 | C55: 0 | D55: 0 | E55: × | F55: × | G55: × | H55: × | I55: × | J55: × | K55: Вендичанська селищна територіальна громада | L55: UA05080030000089348
A56: Соціальна профілактика | B56: 0 | C56: 0 | D56: 0 | E56: × | F56: × | G56: × | H56: × | I56: × | J56: × | K56: Вендичанська селищна територіальна громада | L56: UA05080030000089348
A57: Натуральна допомога | B57: 0 | C57: 0 | D57: 0 | K57: Вендичанська селищна територіальна громада | L57: UA05080030000089348
A58: Фізичний супровід осіб з інвалідністю, які мають порушення опорно-рухового апарату та пересуваються на кріслах колісних, з інтелектуальним, сенсорними, фізичними, моторними, психічними та поведінковими порушеннями | B58: 0 | C58: 0 | D58: 0 | E58: × | F58: × | G58: × | H58: × | I58: × | J58: × | K58: Вендичанська селищна територіальна громада | L58: UA05080030000089348
A59: Переклад жестовою мовою | B59: 0 | C59: 0 | D59: 0 | E59: 0 | F59: 0 | G59: 0 | H59: 0 | I59: 0 | J59: 0 | K59: Вендичанська селищна територіальна громада | L59: UA05080030000089348
A60: Догляд та виховання дітей в умовах, наближених до сімейних | B60: 0 | C60: 0 | D60: 0 | E60: × | F60: × | G60: × | H60: × | I60: × | J60: × | K60: Вендичанська селищна територіальна громада | L60: UA05080030000089348
A61: Супровід під час інклюзивного навчання | B61: 0 | C61: 0 | D61: 0 | E61: × | F61: × | G61: × | H61: × | I61: × | J61: × | K61: Вендичанська селищна територіальна громада | L61: UA05080030000089348
A62: Інформування | B62: 14 | C62: 14 | D62: 14 | E62: 14 | F62: 2 | G62: 0 | H62: 0 | I62: 0 | J62: 0 | K62: Вендичанська селищна територіальна громада | L62: UA05080030000089348
A63: Медіація | B63: 0 | C63: 0 | D63: 0 | E63: × | F63: × | G63: × | H63: × | I63: × | J63: × | K63: Вендичанська селищна територіальна громада | L63: UA05080030000089348
A64: Інші соціальні послуги | K64: Вендичанська селищна територіальна громада | L64: UA05080030000089348
A65: Консультативний кризовий телефон | B65: 0 | C65: 0 | D65: 0 | E65: 0 | F65: 0 | G65: 0 | H65: 0 | I65: 0 | J65: 0 | K65: Вендичанська селищна територіальна громада | L65: UA05080030000089348
A66: Нічний притулок | B66: 0 | C66: 0 | D66: 0 | E66: 0 | F66: 0 | G66: 0 | H66: 0 | I66: 0 | J66: 0 | K66: Вендичанська селищна територіальна громада | L66: UA05080030000089348
A67: Короткотермінове проживання | B67: 0 | C67: 0 | D67: 0 | E67: 0 | F67: 0 | G67: 0 | H67: 0 | I67: 0 | J67: 0 | K67: Вендичанська селищна територіальна громада | L67: UA05080030000089348
A68: Соціально-трудова адаптація | B68: 0 | C68: 0 | D68: 0 | E68: × | F68: × | G68: × | H68: × | I68: × | J68: × | K68: Вендичанська селищна територіальна громада | L68: UA05080030000089348
A69: Догляд стаціонарний | B69: 3 | C69: 3 | D69: 37 | E69: 3 | F69: 0 | G69: 0 | H69: 0 | I69: 0 | J69: 0 | K69: Вендичанська селищна територіальна громада | L69: UA05080030000089348
A70: Паліативний догляд | B70: 0 | C70: 0 | D70: 0 | E70: 0 | F70: 0 | G70: 0 | H70: 0 | I70: 0 | J70: 0 | K70: Вендичанська селищна територіальна громада | L70: UA05080030000089348
A71: Персональний асистент | B71: 0 | C71: 0 | D71: 0 | E71: × | F71: × | G71: × | H71: × | I71: × | J71: × | K71: Вендичанська селищна територіальна громада | L71: UA05080030000089348
A72: Соціальна реабілітація осіб з інтелектуальними та психічними порушеннями | B72: 0 | C72: 0 | D72: 0 | E72: × | F72: × | G72: × | H72: × | I72: × | J72: × | K72: Вендичанська селищна територіальна громада | L72: UA05080030000089348
A73: Соціально-психологічна реабілітація | B73: 0 | C73: 0 | D73: 0 | E73: 0 | F73: 0 | G73: 0 | H73: 0 | I73: 0 | J73: 0 | K73: Вендичанська селищна територіальна громада | L73: UA05080030000089348
A74: Соціально-психологічна реабілітація осіб із залежністю від наркотичних засобів чи психотропних речовин | B74: 0 | C74: 0 | D74: 0 | E74: × | F74: × | G74: × | H74: × | I74: × | J74: × | K74: Вендичанська селищна територіальна громада | L74: UA05080030000089348
A75: Соціально-психологічна реабілітація осіб із ігровою залежністю | B75: 0 | C75: 0 | D75: 0 | E75: × | F75: × | G75: × | H75: × | I75: × | J75: × | K75: Вендичанська селищна територіальна громада | L75: UA05080030000089348
A76: Тимчасовий відпочинок для батьків або осіб, які їх замінюють, що здійснюють догляд за дітьми з інвалідністю | B76: 0 | C76: 0 | D76: 0 | E76: × | F76: × | G76: × | H76: × | I76: × | J76: × | K76: Вендичанська селищна територіальна громада | L76: UA05080030000089348
A77: Тимчасовий відпочинок для осіб, що здійснюють догляд за особами з інвалідністю, особами, які мають невиліковні хвороби, хвороби, що потребують тривалого лікування | B77: 0 | C77: 0 | D77: 0 | E77: × | F77: × | G77: × | H77: × | I77: × | J77: × | K77: Вендичанська селищна територіальна громада | L77: UA05080030000089348
A78: Транспортні послуги | B78: 0 | C78: 0 | D78: 0 | E78: 0 | F78: 0 | G78: 0 | H78: 0 | I78: 0 | J78: 0 | K78: Вендичанська селищна територіальна громада | L78: UA05080030000089348
A79: Догляд вдома | B79: 50 | C79: 50 | D79: 296 | E79: 50 | F79: 2 | G79: 0 | H79: 0 | I79: 0 | J79: 0 | K79: Могилів-Подільська міська територіальна громада | L79: UA05080050000023603
A80: Денний догляд | B80: 0 | C80: 0 | D80: 0 | E80: 0 | F80: 0 | G80: 0 | H80: 0 | I80: 0 | J80: 0 | K80: Могилів-Подільська міська територіальна громада | L80: UA05080050000023603
A81: Денний догляд дітей з інвалідністю | B81: 0 | C81: 0 | D81: 0 | E81: 0 | F81: 0 | G81: 0 | H81: 0 | I81: 0 | J81: 0 | K81: Могилів-Подільська міська територіальна громада | L81: UA05080050000023603
A82: Підтримане проживання осіб похилого віку та осіб з інвалідністю | B82: 0 | C82: 0 | D82: 0 | E82: 0 | F82: 0 | G82: 0 | H82: 0 | I82: 0 | J82: 0 | K82: Могилів-Подільська міська територіальна громада | L82: UA05080050000023603
A83: Підтримане проживання бездомних осіб | B83: 0 | C83: 0 | D83: 0 | E83: 0 | F83: 0 | G83: 0 | H83: 0 | I83: 0 | J83: 0 | K83: Могилів-Подільська міська територіальна громада | L83: UA05080050000023603
A84: Транзитне підтримане проживання/ учбова соціальна квартира (будинок) | B84: 0 | C84: 0 | D84: 0 | E84: × | F84: × | G84: × | H84: × | I84: × | J84: × | K84: Могилів-Подільська міська територіальна громада | L84: UA05080050000023603
A85: Соціальна адаптація | B85: 0 | C85: 0 | D85: 0 | E85: × | F85: × | G85: × | H85: × | I85: × | J85: × | K85: Могилів-Подільська міська територіальна громада | L85: UA05080050000023603
A86: Соціальна інтеграція та реінтеграція | B86: 0 | C86: 0 | D86: 0 | E86: × | F86: × | G86: × | H86: × | I86: × | J86: × | K86: Могилів-Подільська міська територіальна громада | L86: UA05080050000023603
A87: Надання притулку | B87: 0 | C87: 0 | D87: 0 | E87: 0 | F87: 0 | G87: 0 | H87: 0 | I87: 0 | J87: 0 | K87: Могилів-Подільська міська територіальна громада | L87: UA05080050000023603
A88: Екстрене (кризове) втручання | B88: 0 | C88: 0 | D88: 0 | E88: 0 | F88: 0 | G88: 0 | H88: 0 | I88: 0 | J88: 0 | K88: Могилів-Подільська міська територіальна громада | L88: UA05080050000023603
A89: Консультування | B89: 402 | C89: 402 | D89: 675 | E89: 402 | F89: 7 | G89: 13 | H89: 0 | I89: 0 | J89: 0 | K89: Могилів-Подільська міська територіальна громада | L89: UA05080050000023603
A90: Соціальний супровід сімей/осіб, які перебувають у складних життєвих обставинах | B90: 22 | C90: 22 | D90: 27 | E90: 22 | F90: 2 | G90: 4 | H90: 0 | I90: 0 | J90: 0 | K90: Могилів-Подільська міська територіальна громада | L90: UA05080050000023603
A91: Соціальний супровід сімей, у яких виховуються діти-сироти і діти, позбавлені батьківського піклування | B91: 34 | C91: 34 | D91: 39 | E91: 34 | F91: 2 | G91: 7 | H91: 0 | I91: 0 | J91: 0 | K91: Могилів-Подільська міська територіальна громада | L91: UA05080050000023603
A92: Соціальний супровід при працевлаштуванні та на робочому місці | B92: 0 | C92: 0 | D92: 0 | E92: × | F92: × | G92: × | H92: × | I92: × | J92: × | K92: Могилів-Подільська міська територіальна громада | L92: UA05080050000023603
A93: Представництво інтересів | B93: 0 | C93: 0 | D93: 0 | E93: 0 | F93: 0 | G93: 0 | H93: 0 | I93: 0 | J93: 0 | K93: Могилів-Подільська міська територіальна громада | L93: UA05080050000023603
A94: Посередництво | B94: 0 | C94: 0 | D94: 0 | E94: × | F94: × | G94: × | H94: × | I94: × | J94: × | K94: Могилів-Подільська міська територіальна громада | L94: UA05080050000023603
A95: Соціальна профілактика | B95: 0 | C95: 0 | D95: 0 | E95: × | F95: × | G95: × | H95: × | I95: × | J95: × | K95: Могилів-Подільська міська територіальна громада | L95: UA05080050000023603
A96: Натуральна допомога | B96: 7 | C96: 7 | D96: 577 | E96: 7 | F96: 0 | G96: 0 | H96: 0 | I96: 0 | J96: 0 | K96: Могилів-Подільська міська територіальна громада | L96: UA05080050000023603
A97: Фізичний супровід осіб з інвалідністю, які мають порушення опорно-рухового апарату та пересуваються на кріслах колісних, з інтелектуальним, сенсорними, фізичними, моторними, психічними та поведінковими порушеннями | B97: 0 | C97: 0 | D97: 0 | E97: × | F97: × | G97: × | H97: × | I97: × | J97: × | K97: Могилів-Подільська міська територіальна громада | L97: UA05080050000023603
A98: Переклад жестовою мовою | B98: 0 | C98: 0 | D98: 0 | E98: 0 | F98: 0 | G98: 0 | H98: 0 | I98: 0 | J98: 0 | K98: Могилів-Подільська міська територіальна громада | L98: UA05080050000023603
A99: Догляд та виховання дітей в умовах, наближених до сімейних | B99: 0 | C99: 0 | D99: 0 | E99: × | F99: × | G99: × | H99: × | I99: × | J99: × | K99: Могилів-Подільська міська територіальна громада | L99: UA05080050000023603
A100: Супровід під час інклюзивного навчання | B100: 0 | C100: 0 | D100: 0 | E100: × | F100: × | G100: × | H100: × | I100: × | J100: × | K100: Могилів-Подільська міська територіальна громада | L100: UA05080050000023603
...
